BEGIN:VCALENDAR
VERSION:2.0
PRODID:-//BurgosTop - ECPv6.7.0//NONSGML v1.0//EN
CALSCALE:GREGORIAN
METHOD:PUBLISH
X-WR-CALNAME:BurgosTop
X-ORIGINAL-URL:https://burgos.top
X-WR-CALDESC:Eventos para BurgosTop
REFRESH-INTERVAL;VALUE=DURATION:PT1H
X-Robots-Tag:noindex
X-PUBLISHED-TTL:PT1H
BEGIN:VTIMEZONE
TZID:Europe/Madrid
BEGIN:DAYLIGHT
TZOFFSETFROM:+0100
TZOFFSETTO:+0200
TZNAME:CEST
DTSTART:20260329T010000
END:DAYLIGHT
BEGIN:STANDARD
TZOFFSETFROM:+0200
TZOFFSETTO:+0100
TZNAME:CET
DTSTART:20261025T010000
END:STANDARD
END:VTIMEZONE
BEGIN:VEVENT
DTSTART;TZID=Europe/Madrid:20260206T193000
DTEND;TZID=Europe/Madrid:20260206T193000
DTSTAMP:20260424T065745
CREATED:20260123T170020Z
LAST-MODIFIED:20260123T170020Z
UID:27621-1770406200-1770406200@burgos.top
SUMMARY:Entre el aire y la luna
DESCRIPTION:🗓️ Viernes 6 febrero | 19:30h\n📍 Salón de Actos Casa de Cultura de Gamonal\n🎟️ Más info y taquilla en la Casa de Cultura \nNuria y Alberto en «Entre el aire y la luna» te traen los grandes éxitos de Mecano en directo. Una noche mágica llena de nostalgia\, emoción y buena música. ¡No te pierdas este viaje inolvidable al mejor pop español! \nPuedes consultar aquí el programa completo de las Fiestas de las Candelas 2026 en el Barrio de Gamonal
URL:https://burgos.top/evento/entre-el-aire-y-la-luna/
LOCATION:Casa Cultura de Gamonal\, C. Pablo Ruiz Picasso\, s/n\, Burgos\, 09007
CATEGORIES:Conciertos
ATTACH;FMTTYPE=image/webp:https://burgos.top/wp-content/uploads/2026/01/entre-el-aire-y-la-luna-tributo-a-mecano.webp
END:VEVENT
END:VCALENDAR