BEGIN:VCALENDAR
VERSION:2.0
PRODID:-//BurgosTop - ECPv6.7.0//NONSGML v1.0//EN
CALSCALE:GREGORIAN
METHOD:PUBLISH
X-WR-CALNAME:BurgosTop
X-ORIGINAL-URL:https://burgos.top
X-WR-CALDESC:Eventos para BurgosTop
REFRESH-INTERVAL;VALUE=DURATION:PT1H
X-Robots-Tag:noindex
X-PUBLISHED-TTL:PT1H
BEGIN:VTIMEZONE
TZID:Europe/Madrid
BEGIN:DAYLIGHT
TZOFFSETFROM:+0100
TZOFFSETTO:+0200
TZNAME:CEST
DTSTART:20260329T010000
END:DAYLIGHT
BEGIN:STANDARD
TZOFFSETFROM:+0200
TZOFFSETTO:+0100
TZNAME:CET
DTSTART:20261025T010000
END:STANDARD
END:VTIMEZONE
BEGIN:VEVENT
DTSTART;TZID=Europe/Madrid:20260211T200000
DTEND;TZID=Europe/Madrid:20260211T200000
DTSTAMP:20260421T113605
CREATED:20260113T165729Z
LAST-MODIFIED:20260114T113238Z
UID:26520-1770840000-1770840000@burgos.top
SUMMARY:Encuentro literario con María Velasco en Salón de Actos Plaza de España
DESCRIPTION:Encuentro literario con María VelascoEl miércoles 11 de febrero tendremos el placer de recibir a María Velasco\, escritora\, dramaturga y directora de escena\, Premio Nacional de Literatura Dramática 2024\, en un encuentro donde presentará su obra Vendrán los alienígenas y tendrán tus ojos. \nEn este libro\, Velasco explora la dificultad de escribir sobre el amor\, la confusión entre sexo y afecto\, y la experiencia de una mujer que\, tras las apps de citas y el sexting\, se siente emocionalmente paralizada… hasta que irrumpe un nuevo amor que lo transforma todo\, como un aterrizaje alienígena. El volumen incluye también Los trabajos forzados del amor\, poemas y aforismos cargados de pasión\, humor e ironía sobre la política de los afectos en nuestro tiempo. \nSobre la autora\nMaría Velasco es reconocida por sus textos teatrales traducidos a múltiples idiomas y premiados con el Premio SGAE Jardiel Poncela\, el Premio Internacional Heidelberger Stückemarkt y el Premio Max a la Mejor Autoría Teatral. Ha dirigido y coproducido espectáculos como La espuma de los días\, Talaré a los hombres de sobre la faz de la tierra\, Amadora y Primera sangre. También ha creado dramaturgias para compañías de danza y proyectos interdisciplinarios\, recibiendo premios como el Butaca Nuevas Aportaciones Escénicas. \nDoctora en Comunicación Audiovisual y Máster en Práctica Escénica y Cultura Visual\, Velasco ha impartido formación en México\, Perú\, Argentina\, Ecuador y España\, consolidándose como una de las voces más importantes de la literatura y las artes escénicas contemporáneas.
URL:https://burgos.top/evento/encuentro-literario-con-maria-velasco-en-salon-de-actos-plaza-de-espana/
LOCATION:Salón Actos Plaza España\, Pza. de España\, 3\, Burgos\, 09005
CATEGORIES:Ocio
ATTACH;FMTTYPE=image/webp:https://burgos.top/wp-content/uploads/2026/01/maria-velasco.webp
END:VEVENT
END:VCALENDAR