BEGIN:VCALENDAR
VERSION:2.0
PRODID:-//BurgosTop - ECPv6.7.0//NONSGML v1.0//EN
CALSCALE:GREGORIAN
METHOD:PUBLISH
X-WR-CALNAME:BurgosTop
X-ORIGINAL-URL:https://burgos.top
X-WR-CALDESC:Eventos para BurgosTop
REFRESH-INTERVAL;VALUE=DURATION:PT1H
X-Robots-Tag:noindex
X-PUBLISHED-TTL:PT1H
BEGIN:VTIMEZONE
TZID:Europe/Madrid
BEGIN:DAYLIGHT
TZOFFSETFROM:+0100
TZOFFSETTO:+0200
TZNAME:CEST
DTSTART:20260329T010000
END:DAYLIGHT
BEGIN:STANDARD
TZOFFSETFROM:+0200
TZOFFSETTO:+0100
TZNAME:CET
DTSTART:20261025T010000
END:STANDARD
END:VTIMEZONE
BEGIN:VEVENT
DTSTART;TZID=Europe/Madrid:20260326T200000
DTEND;TZID=Europe/Madrid:20260326T200000
DTSTAMP:20260420T134054
CREATED:20260113T165731Z
LAST-MODIFIED:20260114T114355Z
UID:26528-1774555200-1774555200@burgos.top
SUMMARY:Encuentro literario con Héctor Abad Faciolince en Auditorio elcírculo
DESCRIPTION:El jueves 26 de marzo\, el reconocido escritor colombiano Héctor Abad Faciolince presentará su último libro\, Ahora y en la hora. \nAbad Faciolince\, autor de una de las obras más importantes de la literatura contemporánea en español\, ofrece en esta novela de no ficción un testimonio directo marcado por su experiencia personal. La obra surge de un viaje a Ucrania en 2023\, poco después de recuperarse de una operación de corazón\, cuando acudió a Kyiv para presentar la traducción de El olvido que seremos. Lo que iba a ser una visita literaria se convirtió en una inmersión en el conflicto bélico del este del país y en una tragedia que lo marcaría para siempre. \nEl libro narra el viaje al Donbás\, acompañado de periodistas\, activistas y la escritora ucraniana Victoria Amélina\, fallecida tras un ataque con misil ruso en Kramatorsk. Desde esta experiencia extrema\, Abad Faciolince reflexiona sobre la violencia\, la guerra\, la culpa del superviviente y la necesidad de dar testimonio\, alternando lo íntimo y lo político\, la fragilidad del cuerpo y la brutalidad del presente. \nEl encuentro permitirá conocer de primera mano el proceso de escritura de esta obra y dialogar con uno de los autores más influyentes de la narrativa iberoamericana actual.
URL:https://burgos.top/evento/encuentro-literario-con-hector-abad-faciolince-en-auditorio-elcirculo/
LOCATION:Auditorio el Círculo\, C. Ana Lopidana\, Burgos\, 09005
CATEGORIES:Ocio
ATTACH;FMTTYPE=image/webp:https://burgos.top/wp-content/uploads/2026/01/hector-abad.webp
END:VEVENT
END:VCALENDAR