BEGIN:VCALENDAR
VERSION:2.0
PRODID:-//BurgosTop - ECPv6.7.0//NONSGML v1.0//EN
CALSCALE:GREGORIAN
METHOD:PUBLISH
X-WR-CALNAME:BurgosTop
X-ORIGINAL-URL:https://burgos.top
X-WR-CALDESC:Eventos para BurgosTop
REFRESH-INTERVAL;VALUE=DURATION:PT1H
X-Robots-Tag:noindex
X-PUBLISHED-TTL:PT1H
BEGIN:VTIMEZONE
TZID:Europe/Madrid
BEGIN:DAYLIGHT
TZOFFSETFROM:+0100
TZOFFSETTO:+0200
TZNAME:CEST
DTSTART:20260329T010000
END:DAYLIGHT
BEGIN:STANDARD
TZOFFSETFROM:+0200
TZOFFSETTO:+0100
TZNAME:CET
DTSTART:20261025T010000
END:STANDARD
END:VTIMEZONE
BEGIN:VEVENT
DTSTART;TZID=Europe/Madrid:20261031T210000
DTEND;TZID=Europe/Madrid:20261031T210000
DTSTAMP:20260421T205802
CREATED:20260306T171919Z
LAST-MODIFIED:20260306T171919Z
UID:31736-1793480400-1793480400@burgos.top
SUMMARY:El Niño de la Hipoteca VS Guiu Cortés en (La Rúa)
DESCRIPTION:El 31 de octubre a las 21:00h\, La Rúa (Burgos) acoge un espectáculo único y diferente a todo lo que has visto. \nEl Niño de la Hipoteca (Guiu Cortés)\, uno de los artistas más originales del panorama musical\, llega con un show que mezcla música\, humor y participación del público. Pionero en España del artista que se autoedita\, autoproduce y autogestiona\, ha revolucionado la forma de crear y compartir música. \nEn este nuevo espectáculo\, el escenario se convierte en algo más que un concierto: habrá canciones\, comedia\, un juego de mesa y hasta un combate de karate. Lo mejor de todo es que el público y el artista decidirán juntos qué sucede en cada momento a través del propio juego. \nUna experiencia imprevisible\, divertida y diferente que llega a Burgos tras el éxito de su segunda temporada. \n🔗 OBTENER ENTRADAS
URL:https://burgos.top/evento/el-nino-de-la-hipoteca-vs-guiu-cortes-en-la-rua/
LOCATION:La Rúa\, Av. Reyes Católicos\, 26\, Burgos\, 09005
CATEGORIES:Conciertos
ATTACH;FMTTYPE=image/webp:https://burgos.top/wp-content/uploads/2024/10/Guiu-Cortes-vs-El-Nino-de-la-Hipoteca-en-Burgos-1-scaled.webp
END:VEVENT
END:VCALENDAR