BEGIN:VCALENDAR
VERSION:2.0
PRODID:-//BurgosTop - ECPv6.7.0//NONSGML v1.0//EN
CALSCALE:GREGORIAN
METHOD:PUBLISH
X-WR-CALNAME:BurgosTop
X-ORIGINAL-URL:https://burgos.top
X-WR-CALDESC:Eventos para BurgosTop
REFRESH-INTERVAL;VALUE=DURATION:PT1H
X-Robots-Tag:noindex
X-PUBLISHED-TTL:PT1H
BEGIN:VTIMEZONE
TZID:Europe/Madrid
BEGIN:DAYLIGHT
TZOFFSETFROM:+0100
TZOFFSETTO:+0200
TZNAME:CEST
DTSTART:20250330T010000
END:DAYLIGHT
BEGIN:STANDARD
TZOFFSETFROM:+0200
TZOFFSETTO:+0100
TZNAME:CET
DTSTART:20251026T010000
END:STANDARD
END:VTIMEZONE
BEGIN:VEVENT
DTSTART;TZID=Europe/Madrid:20250510T200000
DTEND;TZID=Europe/Madrid:20250510T200000
DTSTAMP:20260421T105117
CREATED:20251124T224703Z
LAST-MODIFIED:20251124T224731Z
UID:14626-1746907200-1746907200@burgos.top
SUMMARY:DUAL: Un Viaje Flamenco con Mercedes Ruiz y Santiago Lara
DESCRIPTION:Fecha: Sábado\, 10 de mayo de 2025. 20:00 h\nPrecio: 20\,00 €\nPúblico: Todos los públicos\n\nComprar entradas\nDescripción\n“DUAL” es un espectáculo flamenco excepcional que presenta a dos maestros del arte: Mercedes Ruiz y Santiago Lara. Juntos\, combinan sus talentos y visiones del flamenco para crear una obra íntima y rica en expresividad. Este espectáculo destaca por su simplicidad\, con solo guitarra y baile\, donde ambos artistas dan lo mejor de sí mismos en una perfecta complicidad forjada a lo largo de casi 25 años de carrera y vida juntos. \nCaracterísticas del Espectáculo\n\nEstilo Flamenco: Un viaje a través de diferentes estilos del flamenco\, mostrando la evolución de la tradición.\nTributo a la Guitarra Flamenca: Incluye interpretaciones emblemáticas como la primera Rondeña de Ramón Montoya y una impactante seguiriya del maestro Manuel Morao\, quien abrió las puertas de Broadway a Mercedes Ruiz desde muy joven.\nArte Desnudo: La esencia del flamenco se presenta en su forma más pura\, permitiendo al público disfrutar de la música y la coreografía sin distracciones.\n\nSobre los Artistas\nMercedes Ruiz\, originaria de Jerez de la Frontera\, es reconocida como una de las máximas exponentes del flamenco contemporáneo. Desde su debut a los seis años con Manuel Morao\, ha trabajado con diversas compañías y ha creado su propia trayectoria como solista. Su enfoque innovador ha sido aclamado internacionalmente\, llevando su arte a prestigiosos escenarios alrededor del mundo. \nSantiago Lara\, un virtuoso guitarrista flamenco\, ha acompañado a Mercedes en numerosas giras y proyectos. Su habilidad para fusionar la tradición con nuevas influencias ha sido fundamental para el éxito de “DUAL”. \nContexto Cultural\nEl flamenco es más que un estilo musical; es una expresión cultural profundamente arraigada en la historia española. La obra “DUAL” no solo celebra esta rica tradición\, sino que también representa una evolución hacia nuevas formas artísticas que mantienen viva la esencia del flamenco.
URL:https://burgos.top/evento/dual-un-viaje-flamenco-con-mercedes-ruiz-y-santiago-lara/
LOCATION:Cultural Cordón\, Plaza de la Libertad s/n\, Burgos\, 09004
CATEGORIES:Ocio
ATTACH;FMTTYPE=image/webp:https://burgos.top/wp-content/uploads/2024/12/DUAL-Un-Viaje-Flamenco-con-Mercedes-Ruiz-y-Santiago-en-burgos.webp
END:VEVENT
END:VCALENDAR