BEGIN:VCALENDAR
VERSION:2.0
PRODID:-//BurgosTop - ECPv6.7.0//NONSGML v1.0//EN
CALSCALE:GREGORIAN
METHOD:PUBLISH
X-WR-CALNAME:BurgosTop
X-ORIGINAL-URL:https://burgos.top
X-WR-CALDESC:Eventos para BurgosTop
REFRESH-INTERVAL;VALUE=DURATION:PT1H
X-Robots-Tag:noindex
X-PUBLISHED-TTL:PT1H
BEGIN:VTIMEZONE
TZID:Europe/Madrid
BEGIN:DAYLIGHT
TZOFFSETFROM:+0100
TZOFFSETTO:+0200
TZNAME:CEST
DTSTART:20260329T010000
END:DAYLIGHT
BEGIN:STANDARD
TZOFFSETFROM:+0200
TZOFFSETTO:+0100
TZNAME:CET
DTSTART:20261025T010000
END:STANDARD
END:VTIMEZONE
BEGIN:VEVENT
DTSTART;TZID=Europe/Madrid:20260508T203000
DTEND;TZID=Europe/Madrid:20260508T203000
DTSTAMP:20260421T104639
CREATED:20260306T075157Z
LAST-MODIFIED:20260306T080745Z
UID:31707-1778272200-1778272200@burgos.top
SUMMARY:Divorciarse a los 40 de Diego Arjona
DESCRIPTION:¡Qué bonito es el amor… hasta que se acaba! En “Divorciarse a los 40”\, Diego Arjona presenta una hilarante guía sobre cómo sobrevivir a una ruptura cuando la vida ya no es como a los veinte. ¿Qué ha pasado? ¿Qué hago ahora? ¿Qué hacemos con los niños? ¿Es buena idea abrir Tinder a esta edad? Con su estilo directo y descarado\, Arjona convierte las dudas\, los dramas y los momentos absurdos del divorcio en un espectáculo lleno de humor. \nEste show mezcla monólogos\, improvisación e incluso un programa de televisión en riguroso directo desde el propio teatro\, creando una experiencia dinámica y muy cercana con el público. “Divorciarse a los 40” está pensado tanto para divorciados como para quienes aún viven felices en pareja… por ahora. Una comedia basada en hechos reales que promete risas\, complicidad y un rato inolvidable\, porque si no llegas a tiempo para reconciliarte\, al menos te llevarás una buena carcajada. \n\n🔗 OBTENER ENTRADAS
URL:https://burgos.top/evento/divorciarse-a-los-40-de-diego-arjona/
LOCATION:Cultural Cordón\, Plaza de la Libertad s/n\, Burgos\, 09004
CATEGORIES:Humor
ATTACH;FMTTYPE=image/webp:https://burgos.top/wp-content/uploads/2026/03/DIVORCIARESE-A-LOS-40.webp
END:VEVENT
END:VCALENDAR