BEGIN:VCALENDAR
VERSION:2.0
PRODID:-//BurgosTop - ECPv6.7.0//NONSGML v1.0//EN
CALSCALE:GREGORIAN
METHOD:PUBLISH
X-WR-CALNAME:BurgosTop
X-ORIGINAL-URL:https://burgos.top
X-WR-CALDESC:Eventos para BurgosTop
REFRESH-INTERVAL;VALUE=DURATION:PT1H
X-Robots-Tag:noindex
X-PUBLISHED-TTL:PT1H
BEGIN:VTIMEZONE
TZID:Europe/Madrid
BEGIN:DAYLIGHT
TZOFFSETFROM:+0100
TZOFFSETTO:+0200
TZNAME:CEST
DTSTART:20250330T010000
END:DAYLIGHT
BEGIN:STANDARD
TZOFFSETFROM:+0200
TZOFFSETTO:+0100
TZNAME:CET
DTSTART:20251026T010000
END:STANDARD
END:VTIMEZONE
BEGIN:VEVENT
DTSTART;TZID=Europe/Madrid:20250125T180000
DTEND;TZID=Europe/Madrid:20250125T180000
DTSTAMP:20260419T152046
CREATED:20241007T105701Z
LAST-MODIFIED:20250109T113245Z
UID:8645-1737828000-1737828000@burgos.top
SUMMARY:DAVID NAVARRO presenta "No tengo remedio" en Burgos
DESCRIPTION:El próximo sábado 25 de enero a las 18:00 horas\, el humorista David Navarro llega al escenario del Cultural Caja de Burgos con su nuevo espectáculo “No tengo remedio”. Prepárate para disfrutar de una tarde llena de carcajadas con uno de los cómicos más divertidos del momento. \nUn humorista con sello propio\nDavid Navarro se ha consolidado como una de las voces más frescas y originales del panorama del humor en España. Con un estilo único y una gran capacidad para conectar con el público\, el cómico promete hacer vibrar a los asistentes con su nuevo show. \nUn espectáculo sin remedio\n“No tengo remedio” es el título elegido por David Navarro para este nuevo montaje\, en el que el humorista abordará con su característico ingenio y sentido del humor temas de la vida cotidiana. Nada ni nadie se salvará de las ocurrentes observaciones y reflexiones del artista. \nUna cita imprescindible para los amantes del humor\nSi eres un fan del humor inteligente y desenfadado\, no puedes perderte este espectáculo de David Navarro en el Cultural Caja de Burgos. Prepárate para pasar una tarde llena de risas y diversión con uno de los cómicos más carismáticos del momento. \n¡Reserva ya tus entradas para “No tengo remedio” y disfruta de una experiencia única con David Navarro! Entradas a la venta por 18€. \n  \nComprar entradas
URL:https://burgos.top/evento/david-navarro-presenta-no-tengo-remedio-en-burgos/
LOCATION:Cultural Caja de Burgos.\, Av. Cantabria\, 3\, Burgos\, 09006
CATEGORIES:Humor
ATTACH;FMTTYPE=image/webp:https://burgos.top/wp-content/uploads/2024/06/DAVID-NAVARRO-presenta-No-tengo-remedio-en-burgos.webp
END:VEVENT
END:VCALENDAR