BEGIN:VCALENDAR
VERSION:2.0
PRODID:-//BurgosTop - ECPv6.7.0//NONSGML v1.0//EN
CALSCALE:GREGORIAN
METHOD:PUBLISH
X-WR-CALNAME:BurgosTop
X-ORIGINAL-URL:https://burgos.top
X-WR-CALDESC:Eventos para BurgosTop
REFRESH-INTERVAL;VALUE=DURATION:PT1H
X-Robots-Tag:noindex
X-PUBLISHED-TTL:PT1H
BEGIN:VTIMEZONE
TZID:Europe/Madrid
BEGIN:DAYLIGHT
TZOFFSETFROM:+0100
TZOFFSETTO:+0200
TZNAME:CEST
DTSTART:20250330T010000
END:DAYLIGHT
BEGIN:STANDARD
TZOFFSETFROM:+0200
TZOFFSETTO:+0100
TZNAME:CET
DTSTART:20251026T010000
END:STANDARD
END:VTIMEZONE
BEGIN:VEVENT
DTSTART;TZID=Europe/Madrid:20250308T233000
DTEND;TZID=Europe/Madrid:20250308T233000
DTSTAMP:20260419T163456
CREATED:20250227T070526Z
LAST-MODIFIED:20250227T070526Z
UID:18312-1741476600-1741476600@burgos.top
SUMMARY:Daparapaha  90s Party en Carmen 13
DESCRIPTION:📍 Carmen 13\n📆 Sábado 08/03/2024\n🕰️ 23:30\n💸 Entrada gratuita \nEl próximo día 8 en Carmen 13\, se revivirán las luces de neón\, el pop\, el techno y el nu metal tan característicos de los 90. Este evento promete ser una noche inolvidable\, llena de nostalgia y energía.
URL:https://burgos.top/evento/daparapaha-90s-party-en-carmen-13/
LOCATION:Sala Carmen 13\, C. del Carmen\, 13\, Burgos\, 09001
CATEGORIES:Fiestas,Ocio
ATTACH;FMTTYPE=image/webp:https://burgos.top/wp-content/uploads/2025/02/Daparapaha-en-el-carmen-13.webp
END:VEVENT
END:VCALENDAR