BEGIN:VCALENDAR
VERSION:2.0
PRODID:-//BurgosTop - ECPv6.7.0//NONSGML v1.0//EN
CALSCALE:GREGORIAN
METHOD:PUBLISH
X-WR-CALNAME:BurgosTop
X-ORIGINAL-URL:https://burgos.top
X-WR-CALDESC:Eventos para BurgosTop
REFRESH-INTERVAL;VALUE=DURATION:PT1H
X-Robots-Tag:noindex
X-PUBLISHED-TTL:PT1H
BEGIN:VTIMEZONE
TZID:Europe/Madrid
BEGIN:DAYLIGHT
TZOFFSETFROM:+0100
TZOFFSETTO:+0200
TZNAME:CEST
DTSTART:20250330T010000
END:DAYLIGHT
BEGIN:STANDARD
TZOFFSETFROM:+0200
TZOFFSETTO:+0100
TZNAME:CET
DTSTART:20251026T010000
END:STANDARD
END:VTIMEZONE
BEGIN:VEVENT
DTSTART;TZID=Europe/Madrid:20251212T193000
DTEND;TZID=Europe/Madrid:20251212T193000
DTSTAMP:20260419T195856
CREATED:20251210T092444Z
LAST-MODIFIED:20251229T234815Z
UID:24889-1765567800-1765567800@burgos.top
SUMMARY:Danzando Villancicos con Justo del Río en Plaza de Santiago
DESCRIPTION:La agrupación de folclore Justo del Río recorrerá Burgos estas fiestas\, interpretando villancicos a través de la danza tradicional en formato itinerante\, llevando la magia de la Navidad 2025 a cada rincón. \n✨Descubre todos los eventos navideños y muchos más en el Programa de Navidad 2025 Burgos
URL:https://burgos.top/evento/danzando-villancicos-con-justo-del-rio-en-plaza-de-santiago/
LOCATION:Plaza de Santiago\, C. de la Igualdad\, 11\, Burgos\, 09007
CATEGORIES:Ballet
ATTACH;FMTTYPE=image/webp:https://burgos.top/wp-content/uploads/2025/12/programa-navidad-2025-burgos.webp
END:VEVENT
END:VCALENDAR