BEGIN:VCALENDAR
VERSION:2.0
PRODID:-//BurgosTop - ECPv6.7.0//NONSGML v1.0//EN
CALSCALE:GREGORIAN
METHOD:PUBLISH
X-WR-CALNAME:BurgosTop
X-ORIGINAL-URL:https://burgos.top
X-WR-CALDESC:Eventos para BurgosTop
REFRESH-INTERVAL;VALUE=DURATION:PT1H
X-Robots-Tag:noindex
X-PUBLISHED-TTL:PT1H
BEGIN:VTIMEZONE
TZID:Europe/Madrid
BEGIN:DAYLIGHT
TZOFFSETFROM:+0100
TZOFFSETTO:+0200
TZNAME:CEST
DTSTART:20250330T010000
END:DAYLIGHT
BEGIN:STANDARD
TZOFFSETFROM:+0200
TZOFFSETTO:+0100
TZNAME:CET
DTSTART:20251026T010000
END:STANDARD
END:VTIMEZONE
BEGIN:VEVENT
DTSTART;TZID=Europe/Madrid:20251219T193000
DTEND;TZID=Europe/Madrid:20251219T193000
DTSTAMP:20260421T103351
CREATED:20251211T105727Z
LAST-MODIFIED:20251229T235054Z
UID:25052-1766172600-1766172600@burgos.top
SUMMARY:Danzando Villancicos con Danzas Nuestra Señora de las Nieves en Barriada de los Ríos
DESCRIPTION:✨ La agrupación de folclore Danzas Nuestra Señora de las Nieves estará danzando villancicos durante esta Navidad 2025 en Burgos. Un espectáculo de danza itinerante por las calles de Burgos. \n✨Descubre todos los eventos navideños y muchos más en el Programa de Navidad 2025 Burgos  🎄
URL:https://burgos.top/evento/danzando-villancicos-con-danzas-nuestra-senora-de-las-nieves-en-barriada-de-los-rios/
LOCATION:Burgos\, Burgos
CATEGORIES:Ballet
ATTACH;FMTTYPE=image/webp:https://burgos.top/wp-content/uploads/2025/12/programa-navidad-2025-burgos.webp
END:VEVENT
END:VCALENDAR