BEGIN:VCALENDAR
VERSION:2.0
PRODID:-//BurgosTop - ECPv6.7.0//NONSGML v1.0//EN
CALSCALE:GREGORIAN
METHOD:PUBLISH
X-WR-CALNAME:BurgosTop
X-ORIGINAL-URL:https://burgos.top
X-WR-CALDESC:Eventos para BurgosTop
REFRESH-INTERVAL;VALUE=DURATION:PT1H
X-Robots-Tag:noindex
X-PUBLISHED-TTL:PT1H
BEGIN:VTIMEZONE
TZID:Europe/Madrid
BEGIN:DAYLIGHT
TZOFFSETFROM:+0100
TZOFFSETTO:+0200
TZNAME:CEST
DTSTART:20260329T010000
END:DAYLIGHT
BEGIN:STANDARD
TZOFFSETFROM:+0200
TZOFFSETTO:+0100
TZNAME:CET
DTSTART:20261025T010000
END:STANDARD
END:VTIMEZONE
BEGIN:VEVENT
DTSTART;TZID=Europe/Madrid:20260101T010000
DTEND;TZID=Europe/Madrid:20260101T080000
DTSTAMP:20260419T135537
CREATED:20251201T195952Z
LAST-MODIFIED:20251201T222937Z
UID:24278-1767229200-1767254400@burgos.top
SUMMARY:¡Cotillón de Nochevieja en Sala Andén 56: La Fiesta Más Especial de Burgos!
DESCRIPTION:Del 31 de diciembre de 2025 al 1 de enero de 2026\, la Sala Andén 56 se transforma en el epicentro de la diversión con una temática única inspirada en el Año Nuevo Chino 🏮. Organizado por PERRÉALO🍑 y TIC TAC⏰\, este evento promete ser la Nochevieja más peculiar e inolvidable\, con decoración XXL\, animación constante y sorpresas para todos. \n✅ Incluye: \n\n6 copas de bebidas premium\nRecena completa para recargar energías\nChupitada\, confeti\, lluvia de peluches y globos 🎈\nRegalito de bienvenida 🎁 exclusivo\nAmbiente loco con juegos\, retos y buena vibra hasta el amanecer\n🕐 Horario: De 01:00 a 08:00 h – ¡No pares de bailar! 💃🕺\n\n\nComprar entradas
URL:https://burgos.top/evento/cotillon-de-nochevieja-en-sala-anden-56-la-fiesta-mas-especial-de-burgos/
LOCATION:Sala Andén 56\, C. San Pedro y San Felices\, 56\, Burgos\, 09001
CATEGORIES:Fiestas
ATTACH;FMTTYPE=image/webp:https://burgos.top/wp-content/uploads/2025/12/nochevieja.webp
END:VEVENT
END:VCALENDAR