BEGIN:VCALENDAR
VERSION:2.0
PRODID:-//BurgosTop - ECPv6.7.0//NONSGML v1.0//EN
CALSCALE:GREGORIAN
METHOD:PUBLISH
X-WR-CALNAME:BurgosTop
X-ORIGINAL-URL:https://burgos.top
X-WR-CALDESC:Eventos para BurgosTop
REFRESH-INTERVAL;VALUE=DURATION:PT1H
X-Robots-Tag:noindex
X-PUBLISHED-TTL:PT1H
BEGIN:VTIMEZONE
TZID:Europe/Madrid
BEGIN:DAYLIGHT
TZOFFSETFROM:+0100
TZOFFSETTO:+0200
TZNAME:CEST
DTSTART:20250330T010000
END:DAYLIGHT
BEGIN:STANDARD
TZOFFSETFROM:+0200
TZOFFSETTO:+0100
TZNAME:CET
DTSTART:20251026T010000
END:STANDARD
END:VTIMEZONE
BEGIN:VEVENT
DTSTART;TZID=Europe/Madrid:20250101T010000
DTEND;TZID=Europe/Madrid:20250101T010000
DTSTAMP:20260419T165358
CREATED:20241105T180116Z
LAST-MODIFIED:20241105T180116Z
UID:12440-1735693200-1735693200@burgos.top
SUMMARY:COTILLÓN DE NOCHEVIEJA 2024-2025 ANDÉN 56 EN BURGOS
DESCRIPTION:¡Celebra la llegada del 2025! \nEntradas para el cotillón de Nochevieja en Andén 56.\nFecha: 1 de enero de 2025\nHora: 01:00 h\nLugar: Andén 56\, Burgos \nComprar entradas\nDescripción del Evento:\n¡Vuelve el mayor cotillón de Nochevieja en Andén 56! La entrada incluye: \n\n6 copas de primeras marcas\nDJs\nRecena\nSorteos\n¡Y mucho más!\n\n 
URL:https://burgos.top/evento/cotillon-de-nochevieja-2024-2025-anden-56-en-burgos/
LOCATION:Sala Andén 56\, C. San Pedro y San Felices\, 56\, Burgos\, 09001
CATEGORIES:Ocio
ATTACH;FMTTYPE=image/webp:https://burgos.top/wp-content/uploads/2024/11/cotillon-nochevieja-2024-2025.webp
END:VEVENT
END:VCALENDAR