BEGIN:VCALENDAR
VERSION:2.0
PRODID:-//BurgosTop - ECPv6.7.0//NONSGML v1.0//EN
CALSCALE:GREGORIAN
METHOD:PUBLISH
X-WR-CALNAME:BurgosTop
X-ORIGINAL-URL:https://burgos.top
X-WR-CALDESC:Eventos para BurgosTop
REFRESH-INTERVAL;VALUE=DURATION:PT1H
X-Robots-Tag:noindex
X-PUBLISHED-TTL:PT1H
BEGIN:VTIMEZONE
TZID:Europe/Madrid
BEGIN:DAYLIGHT
TZOFFSETFROM:+0100
TZOFFSETTO:+0200
TZNAME:CEST
DTSTART:20240331T010000
END:DAYLIGHT
BEGIN:STANDARD
TZOFFSETFROM:+0200
TZOFFSETTO:+0100
TZNAME:CET
DTSTART:20241027T010000
END:STANDARD
END:VTIMEZONE
BEGIN:VEVENT
DTSTART;TZID=Europe/Madrid:20241220T193000
DTEND;TZID=Europe/Madrid:20241220T193000
DTSTAMP:20260421T120317
CREATED:20241007T105710Z
LAST-MODIFIED:20241122T111605Z
UID:10198-1734723000-1734723000@burgos.top
SUMMARY:Concierto ROZALÉN en Burgos - El Abrazo Tour
DESCRIPTION:Fecha: Viernes\, 20 de diciembre de 2024\nLugar: Auditorio del Fórum Evolución Burgos\nDirección: Paseo Sierra de Atapuerca\nPrecio: Desde 50\,00€\nPúblico: Todos los públicos \nDescripción del Concierto\nPrepárate para una noche mágica con Rozalén\, una de las voces más destacadas de la nueva canción de autor en España. La artista llega a Burgos con su gira de presentación de “El abrazo”\, su sexto y más ecléctico álbum de estudio. \nSobre “El abrazo”\n\n13 canciones que representan 13 gestos de afecto\nAmplia variedad de estilos musicales: folclore\, electrónica\, urbana y sinfónica\nFuerte influencia colombiana\, inspirada en sus experiencias con una ONG\nTemas que abarcan diversas emociones\, situaciones\, seres\, amores y duelos\n\nLa Artista\nRozalén se ha consolidado como una de las principales voces de la canción de autor en España. Su música se caracteriza por: \n\nLetras profundas y emotivas\nVersatilidad artística\nCompromiso social\nCapacidad para conectar con el público a través de experiencias universales\n\nLo que puedes esperar\n\nUn recorrido por las nuevas canciones de “El abrazo”\nPosibles colaboraciones sorpresa\nUna noche llena de emociones y música de calidad\nLa oportunidad de escuchar en directo a una de las artistas más queridas del panorama musical español\n\nNo pierdas la oportunidad de ser parte de esta experiencia única. ¡Reserva tus entradas ahora y prepárate para un abrazo musical inolvidable con Rozalén! \nComprar entradas
URL:https://burgos.top/evento/concierto-rozalen-en-burgos-el-abrazo-tour/
LOCATION:Fórum Evolución Burgos\, P.º Sierra de Atapuerca\, S/N\, Burgos\, 09002
CATEGORIES:Conciertos
ATTACH;FMTTYPE=image/webp:https://burgos.top/wp-content/uploads/2024/10/rozalen-concierto-en-burgos-1.webp
END:VEVENT
END:VCALENDAR