BEGIN:VCALENDAR
VERSION:2.0
PRODID:-//BurgosTop - ECPv6.7.0//NONSGML v1.0//EN
CALSCALE:GREGORIAN
METHOD:PUBLISH
X-WR-CALNAME:BurgosTop
X-ORIGINAL-URL:https://burgos.top
X-WR-CALDESC:Eventos para BurgosTop
REFRESH-INTERVAL;VALUE=DURATION:PT1H
X-Robots-Tag:noindex
X-PUBLISHED-TTL:PT1H
BEGIN:VTIMEZONE
TZID:Europe/Madrid
BEGIN:DAYLIGHT
TZOFFSETFROM:+0100
TZOFFSETTO:+0200
TZNAME:CEST
DTSTART:20250330T010000
END:DAYLIGHT
BEGIN:STANDARD
TZOFFSETFROM:+0200
TZOFFSETTO:+0100
TZNAME:CET
DTSTART:20251026T010000
END:STANDARD
END:VTIMEZONE
BEGIN:VEVENT
DTSTART;TZID=Europe/Madrid:20251219T203000
DTEND;TZID=Europe/Madrid:20251219T203000
DTSTAMP:20260421T103356
CREATED:20251216T112600Z
LAST-MODIFIED:20251216T115219Z
UID:25379-1766176200-1766176200@burgos.top
SUMMARY:Concierto Extraordinario de Navidad 2025 de la UBU en Capilla de Bernardas
DESCRIPTION:La Universidad de Burgos celebra su Concierto Extraordinario de Navidad 2025 el martes 16 de diciembre a las 20:30 en la Iglesia de Nuestra Señora de la Merced (PP. Jesuitas). \nUna cita musical que reunirá a la Orquesta Sinfónica de la UBU\, dirigida por Ignacio Nieto\, y al Coro de la Universidad de Burgos\, bajo la batuta de Javier Centeno\, en un programa que combina música navideña\, clásicos inmortales y propuestas contemporáneas. \nLa primera parte estará a cargo de la orquesta\, con obras de Brahms\, Mozart\, Miles Davis y Chick Corea\, además del Benedictus de la Missa pro pace de Centeno\, con voces solistas que emocionarán al público. La segunda parte será protagonizada por el coro\, recorriendo piezas navideñas y contemporáneas\, para culminar con un gran cierre conjunto en obras como Why We Sing\, Gabriel’s Oboe y Eternal Christmas I & II. \nEntrada libre hasta completar aforo. \n✨ Descubre todos los eventos navideños 🎄 y muchas más sorpresas en el Programa completo de Navidad 2025 Burgos 🎅 ✨
URL:https://burgos.top/evento/concierto-extraordinario-de-navidad-2025-de-la-ubu-en-capilla-de-bernardas/
LOCATION:Capilla de Música de las Bernardas\, Plaza San Juan s/n\, Burgos\, 09003
CATEGORIES:Conciertos
ATTACH;FMTTYPE=image/webp:https://burgos.top/wp-content/uploads/2024/10/ORQUESTA-SINFONICA-DE-BURGOS-_1_.webp
END:VEVENT
END:VCALENDAR