BEGIN:VCALENDAR
VERSION:2.0
PRODID:-//BurgosTop - ECPv6.7.0//NONSGML v1.0//EN
CALSCALE:GREGORIAN
METHOD:PUBLISH
X-WR-CALNAME:BurgosTop
X-ORIGINAL-URL:https://burgos.top
X-WR-CALDESC:Eventos para BurgosTop
REFRESH-INTERVAL;VALUE=DURATION:PT1H
X-Robots-Tag:noindex
X-PUBLISHED-TTL:PT1H
BEGIN:VTIMEZONE
TZID:Europe/Madrid
BEGIN:DAYLIGHT
TZOFFSETFROM:+0100
TZOFFSETTO:+0200
TZNAME:CEST
DTSTART:20250330T010000
END:DAYLIGHT
BEGIN:STANDARD
TZOFFSETFROM:+0200
TZOFFSETTO:+0100
TZNAME:CET
DTSTART:20251026T010000
END:STANDARD
END:VTIMEZONE
BEGIN:VEVENT
DTSTART;TZID=Europe/Madrid:20250124T203000
DTEND;TZID=Europe/Madrid:20250124T203000
DTSTAMP:20260419T164603
CREATED:20241223T170918Z
LAST-MODIFIED:20241223T170918Z
UID:15235-1737750600-1737750600@burgos.top
SUMMARY:Concierto de Trovadores de Castilla: Legado
DESCRIPTION:Fecha: Viernes\, 24 de enero de 2025\nHora: 20:30\nLugar: Teatro Principal de Burgos\, Plaza de Mio Cid\, S/N\nPrecio: 10\,00 €\nPúblico: Todos los públicos\n\nComprar entradas\nInformación Adicional\nEste concierto presenta el disco “Legado” de Trovadores de Castilla\, acompañado por la Coral de Cámara de Burgos. Esta es la octava grabación discográfica de la histórica agrupación\, que celebra casi 45 años en activo.“Legado” marca el inicio de una nueva etapa tras la pandemia y está disponible en formato vinilo. El repertorio incluye canciones recuperadas de la tradición oral y composiciones originales\, algunas grabadas junto a la Joven Orquesta Sinfónica de Burgos (JOSBu). \nUn Viaje Musical\nEl evento es una oportunidad para disfrutar de la rica herencia musical de Castilla y conectar con las nuevas generaciones a través de la música.
URL:https://burgos.top/evento/concierto-de-trovadores-de-castilla-legado/
LOCATION:Teatro Principal\, Pl. Mío Cid\, Burgos\, 09003
CATEGORIES:Conciertos
ATTACH;FMTTYPE=image/webp:https://burgos.top/wp-content/uploads/2024/12/Trovadores-de-Castilla-1.webp
END:VEVENT
END:VCALENDAR