BEGIN:VCALENDAR
VERSION:2.0
PRODID:-//BurgosTop - ECPv6.7.0//NONSGML v1.0//EN
CALSCALE:GREGORIAN
METHOD:PUBLISH
X-WR-CALNAME:BurgosTop
X-ORIGINAL-URL:https://burgos.top
X-WR-CALDESC:Eventos para BurgosTop
REFRESH-INTERVAL;VALUE=DURATION:PT1H
X-Robots-Tag:noindex
X-PUBLISHED-TTL:PT1H
BEGIN:VTIMEZONE
TZID:Europe/Madrid
BEGIN:DAYLIGHT
TZOFFSETFROM:+0100
TZOFFSETTO:+0200
TZNAME:CEST
DTSTART:20260329T010000
END:DAYLIGHT
BEGIN:STANDARD
TZOFFSETFROM:+0200
TZOFFSETTO:+0100
TZNAME:CET
DTSTART:20261025T010000
END:STANDARD
END:VTIMEZONE
BEGIN:VEVENT
DTSTART;TZID=Europe/Madrid:20260314T210000
DTEND;TZID=Europe/Madrid:20260314T210000
DTSTAMP:20260424T104030
CREATED:20260309T142142Z
LAST-MODIFIED:20260309T142142Z
UID:31828-1773522000-1773522000@burgos.top
SUMMARY:Concierto de The Greentones en Carmen 13
DESCRIPTION:Dentro de la celebración de St. Patrick’s Week\, llega a Bar Carmen 13 el directo de The Greentones\, una banda de Irish Folk Rock conocida por su energía y su espíritu festivo. \nComo ellos mismos dicen: “A drinking band with a music problem”\, así que prepárate para una noche llena de música celta\, rock\, buen ambiente y celebración al más puro estilo irlandés. \n📅 Sábado 14 de marzo🕘 21:00 h📍 Bar Carmen 13 – C/ del Carmen 13\, Burgos🎟 Entrada libre hasta completar aforo \n🍻 Música\, fiesta y espíritu irlandés para celebrar St. Patrick’s Week.
URL:https://burgos.top/evento/concierto-de-the-greentones-en-carmen-13/
LOCATION:Sala Carmen 13\, C. del Carmen\, 13\, Burgos\, 09001
CATEGORIES:Conciertos
ATTACH;FMTTYPE=image/webp:https://burgos.top/wp-content/uploads/2026/03/The-Greentones-en-Carmen-13.webp
END:VEVENT
END:VCALENDAR