BEGIN:VCALENDAR
VERSION:2.0
PRODID:-//BurgosTop - ECPv6.7.0//NONSGML v1.0//EN
CALSCALE:GREGORIAN
METHOD:PUBLISH
X-WR-CALNAME:BurgosTop
X-ORIGINAL-URL:https://burgos.top
X-WR-CALDESC:Eventos para BurgosTop
REFRESH-INTERVAL;VALUE=DURATION:PT1H
X-Robots-Tag:noindex
X-PUBLISHED-TTL:PT1H
BEGIN:VTIMEZONE
TZID:Europe/Madrid
BEGIN:DAYLIGHT
TZOFFSETFROM:+0100
TZOFFSETTO:+0200
TZNAME:CEST
DTSTART:20250330T010000
END:DAYLIGHT
BEGIN:STANDARD
TZOFFSETFROM:+0200
TZOFFSETTO:+0100
TZNAME:CET
DTSTART:20251026T010000
END:STANDARD
END:VTIMEZONE
BEGIN:VEVENT
DTSTART;TZID=Europe/Madrid:20250404T193000
DTEND;TZID=Europe/Madrid:20250404T193000
DTSTAMP:20260421T120316
CREATED:20241223T180516Z
LAST-MODIFIED:20241223T180516Z
UID:15263-1743795000-1743795000@burgos.top
SUMMARY:Concierto de Momi Maiga en Cultural Caja de Burgos
DESCRIPTION:Fecha: Viernes\, 4 de abril de 2025\nHora: 19:30\nLugar: Cultural Caja de Burgos\, Avda. de Cantabria\, 3\nPrecio: 22\,00 €\nPúblico: Todos los públicos\n\nComprar entradas\nInformación sobre el Evento\nMomi Maiga es un artista excepcional que fusiona el jazz étnico\, el flamenco y elementos de la música clásica europea. Su voz exquisita\, impregnada de matices tradicionales de los djelis de África Occidental\, cautiva a la audiencia en cada presentación. \nLa Banda\nEl trío está compuesto por: \n\nMomi Maiga – Voz y kora\nMarçal – Violonchelo\, que aporta una sólida base musical\nAleix Tobias – Percusión\, que añade una sonoridad única\nCarlos Montfort – Violín\, que realza la dulzura de cada tema\n\nUn Viaje Musical Único\nEste concierto es parte del ABONO AVD.CANTABRIA JAZZ 25\, ofreciendo a los asistentes una experiencia musical enriquecedora y diversa.
URL:https://burgos.top/evento/concierto-de-momi-maiga-en-cultural-caja-de-burgos/
LOCATION:Cultural Caja de Burgos.\, Av. Cantabria\, 3\, Burgos\, 09006
CATEGORIES:Conciertos
ATTACH;FMTTYPE=image/webp:https://burgos.top/wp-content/uploads/2024/12/MOMI-MAIGA-en-burgos.webp
END:VEVENT
END:VCALENDAR