BEGIN:VCALENDAR
VERSION:2.0
PRODID:-//BurgosTop - ECPv6.7.0//NONSGML v1.0//EN
CALSCALE:GREGORIAN
METHOD:PUBLISH
X-WR-CALNAME:BurgosTop
X-ORIGINAL-URL:https://burgos.top
X-WR-CALDESC:Eventos para BurgosTop
REFRESH-INTERVAL;VALUE=DURATION:PT1H
X-Robots-Tag:noindex
X-PUBLISHED-TTL:PT1H
BEGIN:VTIMEZONE
TZID:Europe/Madrid
BEGIN:DAYLIGHT
TZOFFSETFROM:+0100
TZOFFSETTO:+0200
TZNAME:CEST
DTSTART:20250330T010000
END:DAYLIGHT
BEGIN:STANDARD
TZOFFSETFROM:+0200
TZOFFSETTO:+0100
TZNAME:CET
DTSTART:20251026T010000
END:STANDARD
END:VTIMEZONE
BEGIN:VEVENT
DTSTART;TZID=Europe/Madrid:20250307T203000
DTEND;TZID=Europe/Madrid:20250307T203000
DTSTAMP:20260421T132725
CREATED:20250211T081854Z
LAST-MODIFIED:20250211T082235Z
UID:17301-1741379400-1741379400@burgos.top
SUMMARY:Concierto de Linaje en Burgos en Sala Carmen 13
DESCRIPTION:📍 Ubicación: Sala Carmen 13\, C. del Carmen\, 13\, 09001 Burgos\, España📅 Fecha: 15 de marzo de 2025⏰ Horario: Apertura de puertas a las 20:30 h \nLa banda Linaje\, liderada por Aarón Romero\, llega a Burgos con su gira de presentación del disco “Desataron a los perros”. Este álbum\, compuesto por diez canciones\, está impregnado de un rock urbano y guitarrero\, con la frescura y el descaro propios de la juventud\, pero sin perder solidez y madurez musical. \nLinaje es una banda de rock and roll originaria de Berriozar\, integrada por Aarón Romero\, Aimar Goikoa\, Asier González\, Asier Cuiral y Alain García. Desde su formación\, han llevado su pueblo por bandera\, mencionándolo en sus giras y mostrando con orgullo su identidad. \nComprar entradas\nOrígenes de Linaje\nEl grupo nació a partir de las inquietudes musicales de Aarón Romero\, quien desde pequeño ha compuesto música y letras. Todo comenzó cuando él y Asier González decidieron unir fuerzas. En un encuentro casual\, coincidieron con Aimar Goikoa y Alain García\, quienes ya formaban parte de otro grupo. Impresionados por su talento\, les propusieron unirse a la banda. Más tarde\, se incorporó Asier Cuiral como guitarrista rítmico\, quien aprendió desde cero con esfuerzo y dedicación. \nLa pasión por la música corre por las venas de los integrantes. Aarón hereda su amor por el rock de su padre\, Kutxi Romero. Asier Cuiral (batería) ha tocado desde joven\, Asier Goikoa (guitarrista solista) comenzó con la guitarra española antes de pasarse a la eléctrica\, Alain García lleva dos años con el bajo\, y el propio Asier Cuiral recibió su primera guitarra como regalo de Aarón. \nCompromiso con la música\nA pesar de su corta edad (18 años)\, los integrantes de Linaje compaginan sus estudios con su pasión por el rock. Cuentan con el apoyo incondicional de sus familias y parejas\, lo que les permite centrarse en su música y en su prometedora carrera. \nLinaje: el legado cayó en tierra fértil. Pura casta. La estirpe continúa.
URL:https://burgos.top/evento/concierto-de-linaje-en-burgos-en-sala-carmen-13/
LOCATION:Sala Carmen 13\, C. del Carmen\, 13\, Burgos\, 09001
CATEGORIES:Conciertos
ATTACH;FMTTYPE=image/webp:https://burgos.top/wp-content/uploads/2025/02/linaje-en-burgos.webp
END:VEVENT
END:VCALENDAR