BEGIN:VCALENDAR
VERSION:2.0
PRODID:-//BurgosTop - ECPv6.7.0//NONSGML v1.0//EN
CALSCALE:GREGORIAN
METHOD:PUBLISH
X-WR-CALNAME:BurgosTop
X-ORIGINAL-URL:https://burgos.top
X-WR-CALDESC:Eventos para BurgosTop
REFRESH-INTERVAL;VALUE=DURATION:PT1H
X-Robots-Tag:noindex
X-PUBLISHED-TTL:PT1H
BEGIN:VTIMEZONE
TZID:Europe/Madrid
BEGIN:DAYLIGHT
TZOFFSETFROM:+0100
TZOFFSETTO:+0200
TZNAME:CEST
DTSTART:20250330T010000
END:DAYLIGHT
BEGIN:STANDARD
TZOFFSETFROM:+0200
TZOFFSETTO:+0100
TZNAME:CET
DTSTART:20251026T010000
END:STANDARD
END:VTIMEZONE
BEGIN:VEVENT
DTSTART;TZID=Europe/Madrid:20250330T183000
DTEND;TZID=Europe/Madrid:20250330T183000
DTSTAMP:20260419T173840
CREATED:20241009T113315Z
LAST-MODIFIED:20250304T121723Z
UID:10762-1743359400-1743359400@burgos.top
SUMMARY:COMANDANTE LARA y CIA. Viaje con nosotros
DESCRIPTION:Lugar: Fórum Evolución Burgos\nDirección: Paseo Sierra de Atapuerca\nGénero: Humor\nPrecio: Desde 20\,00 €\nPúblico: Todos los públicos \nDescripción del Espectáculo\nPrepárate para embarcarte en un viaje lleno de chascarrillos y risas con el inigualable Comandante Lara\, quien pilotará esta aventura cómica acompañado de su personal de cabina\, Vicente Ruidos y Jesús Tapia. \nEl público se acomodará en su asiento mientras recibe las instrucciones de seguridad para iniciar un vuelo hacia el país de la carcajada\, donde la diversión y el humor son los protagonistas. Este espectáculo promete ser el mejor vuelo de sus vidas\, garantizado por una de las mejores aerolíneas: AIR kejöèrsen. \nLos Artistas\n\nComandante Lara (Luis Lara): Un destacado humorista y presentador\, conocido por su estilo único y carisma en el escenario. Su trayectoria incluye colaboraciones en programas de televisión y una fuerte presencia en el mundo del entretenimiento.\nVicente Ruidos: Conocido por su habilidad para imitar ruidos cotidianos\, Vicente aporta su gracia gaditana al espectáculo\, asegurando que cada momento sea divertido.\nJesús Tapia: Un artista versátil que combina monólogos\, chistes e imitaciones\, ofreciendo un buffet libre de risas que sorprende a todos los espectadores.\n\nUna Experiencia Única\nEste espectáculo no solo es una comedia; es una experiencia completa que conecta con el público a través del humor auténtico. Con un enfoque fresco y dinámico\, “Comandante Lara: Un Viaje de Risas” garantiza momentos inolvidables que quedarán grabados en la memoria de todos. ¡No te pierdas la oportunidad de disfrutar de este espectáculo hilarante! Reserva tu entrada y prepárate para un viaje lleno de risas y diversión \nComprar entradas
URL:https://burgos.top/evento/comandante-lara-y-cia-viaje-con-nosotros/
LOCATION:Fórum Evolución Burgos\, P.º Sierra de Atapuerca\, S/N\, Burgos\, 09002
CATEGORIES:Humor
ATTACH;FMTTYPE=image/webp:https://burgos.top/wp-content/uploads/2024/10/COMANDANTE-LARA-y-CIA-Viaje-con-nosotros-en-burgos-1-1.webp
END:VEVENT
END:VCALENDAR