BEGIN:VCALENDAR
VERSION:2.0
PRODID:-//BurgosTop - ECPv6.7.0//NONSGML v1.0//EN
CALSCALE:GREGORIAN
METHOD:PUBLISH
X-WR-CALNAME:BurgosTop
X-ORIGINAL-URL:https://burgos.top
X-WR-CALDESC:Eventos para BurgosTop
REFRESH-INTERVAL;VALUE=DURATION:PT1H
X-Robots-Tag:noindex
X-PUBLISHED-TTL:PT1H
BEGIN:VTIMEZONE
TZID:Europe/Madrid
BEGIN:DAYLIGHT
TZOFFSETFROM:+0100
TZOFFSETTO:+0200
TZNAME:CEST
DTSTART:20260329T010000
END:DAYLIGHT
BEGIN:STANDARD
TZOFFSETFROM:+0200
TZOFFSETTO:+0100
TZNAME:CET
DTSTART:20261025T010000
END:STANDARD
END:VTIMEZONE
BEGIN:VEVENT
DTSTART;TZID=Europe/Madrid:20260201T120000
DTEND;TZID=Europe/Madrid:20260201T120000
DTSTAMP:20260424T064839
CREATED:20260123T055358Z
LAST-MODIFIED:20260123T055358Z
UID:27514-1769947200-1769947200@burgos.top
SUMMARY:Chipilandia Show
DESCRIPTION:🎭 Chipilandia Show – ¡Diversión en la calle para toda la familia! 🎉 \n📅 Domingo 1 de febrero\n🕛 12:00 h – Animación de calle “Chipilandia Show”\n📍 Plaza Nueva de Gamonal\n👉 Dentro del programa de las Fiestas de Las Candelas 2026 \nEl espectáculo “Chipilandia Show” convierte la calle en un gran escenario lleno de alegría. Un evento familiar donde se mezcla teatro\, magia\, música\, bailes\, humor y un sinfín de sorpresas para disfrutar juntos de la fiesta más entrañable del barrio de Gamonal. \n\n\nPuedes consultar aquí el programa completo de las Fiestas de las Candelas 2026 en el Barrio de Gamonal
URL:https://burgos.top/evento/chipilandia-show/
LOCATION:Plaza Nueva de Gamonal\, Plaza Nueva de Gamonal\, Burgos\, Burgos
CATEGORIES:Niños
ATTACH;FMTTYPE=image/webp:https://burgos.top/wp-content/uploads/2026/01/chipilandia.webp
END:VEVENT
END:VCALENDAR