BEGIN:VCALENDAR
VERSION:2.0
PRODID:-//BurgosTop - ECPv6.7.0//NONSGML v1.0//EN
CALSCALE:GREGORIAN
METHOD:PUBLISH
X-WR-CALNAME:BurgosTop
X-ORIGINAL-URL:https://burgos.top
X-WR-CALDESC:Eventos para BurgosTop
REFRESH-INTERVAL;VALUE=DURATION:PT1H
X-Robots-Tag:noindex
X-PUBLISHED-TTL:PT1H
BEGIN:VTIMEZONE
TZID:Europe/Madrid
BEGIN:DAYLIGHT
TZOFFSETFROM:+0100
TZOFFSETTO:+0200
TZNAME:CEST
DTSTART:20250330T010000
END:DAYLIGHT
BEGIN:STANDARD
TZOFFSETFROM:+0200
TZOFFSETTO:+0100
TZNAME:CET
DTSTART:20251026T010000
END:STANDARD
END:VTIMEZONE
BEGIN:VEVENT
DTSTART;TZID=Europe/Madrid:20250112T190000
DTEND;TZID=Europe/Madrid:20250112T210000
DTSTAMP:20260419T164358
CREATED:20241108T145350Z
LAST-MODIFIED:20241108T145350Z
UID:12783-1736708400-1736715600@burgos.top
SUMMARY:Candlelight: Lo Mejor de Bridgerton
DESCRIPTION:Querido lector\, Lady Whistledown ha hablado y el evento de la temporada ha llegado a Burgos. Te invitamos a disfrutar de una mágica actuación en directo con Candlelight: Lo Mejor de Bridgerton. Bajo el suave resplandor de las velas\, sumérgete en las melodías más queridas de la aclamada serie de Shondaland en Netflix\, interpretadas por el talentoso Cuarteto Tizona. \nComprar entradas\nDetalles del Evento\nEste encantador concierto se llevará a cabo en el elegante Hotel NH Collection Palacio de Burgos\, donde la atmósfera íntima y acogedora realzará cada nota musical. Elige la fecha y hora que mejor se adapten a ti\, y prepárate para una experiencia inolvidable que durará aproximadamente 60 minutos. Las puertas abrirán 45 minutos antes del inicio\, así que asegúrate de llegar a tiempo para no perderte ni un instante. \nInformación Importante\n\nEdad: Este evento es apto para mayores de 8 años. Los menores de 16 deberán asistir acompañados por un adulto.\nAccesibilidad: El recinto está habilitado para personas en silla de ruedas\, asegurando que todos puedan disfrutar de esta maravillosa experiencia.\nAsientos: Los asientos se asignan a la llegada\, según el tipo de ticket adquirido.\n\nUn Toque Especial\nAunque no hay un código de vestimenta estricto\, te animamos a que lleves tu mejor outfit al estilo Bridgerton\, añadiendo un toque de elegancia a esta velada mágica. \nRegalos y Reservas\nSi deseas hacer un regalo especial\, considera adquirir una tarjeta regalo para este evento\, perfecta para amigos y familiares. Además\, si estás interesado en reservar un concierto privado o necesitas entradas para un grupo grande (más de 30 personas)\, consulta las opciones disponibles.No te pierdas la oportunidad de vivir una noche llena de música\, encanto y recuerdos inolvidables. ¡Te esperamos para disfrutar juntos de lo mejor de Bridgerton!
URL:https://burgos.top/evento/candlelight-lo-mejor-de-bridgerton/
LOCATION:Hotel NH Collection Palacio de Burgos\, C. Merced\, 13\, BURGOS\, 09002
CATEGORIES:Conciertos
ATTACH;FMTTYPE=image/webp:https://burgos.top/wp-content/uploads/2024/10/candlelight-en-burgos.webp
END:VEVENT
END:VCALENDAR