BEGIN:VCALENDAR
VERSION:2.0
PRODID:-//BurgosTop - ECPv6.7.0//NONSGML v1.0//EN
CALSCALE:GREGORIAN
METHOD:PUBLISH
X-WR-CALNAME:BurgosTop
X-ORIGINAL-URL:https://burgos.top
X-WR-CALDESC:Eventos para BurgosTop
REFRESH-INTERVAL;VALUE=DURATION:PT1H
X-Robots-Tag:noindex
X-PUBLISHED-TTL:PT1H
BEGIN:VTIMEZONE
TZID:Europe/Madrid
BEGIN:DAYLIGHT
TZOFFSETFROM:+0100
TZOFFSETTO:+0200
TZNAME:CEST
DTSTART:20240331T010000
END:DAYLIGHT
BEGIN:STANDARD
TZOFFSETFROM:+0200
TZOFFSETTO:+0100
TZNAME:CET
DTSTART:20241027T010000
END:STANDARD
END:VTIMEZONE
BEGIN:VEVENT
DTSTART;TZID=Europe/Madrid:20240629T230000
DTEND;TZID=Europe/Madrid:20240629T230000
DTSTAMP:20260420T103006
CREATED:20241007T105333Z
LAST-MODIFIED:20241009T045843Z
UID:4298-1719702000-1719702000@burgos.top
SUMMARY:Cala Vento Fiestas de Burgos 2024
DESCRIPTION:Cala Vento actuará en las fiestas de San Pedro y San Pablo 2024 de Burgos el sábado 29 de junio. \n\n\n\nLugar: Plaza de Santa Teresa\, 29 de junio\, Precio: Gratuito
URL:https://burgos.top/evento/cala-vento-fiestas-de-burgos-2024/
LOCATION:Escenario Excéntrico\, C. San Pedro y San Felices\, Burgos\, Burgos\, 09001
CATEGORIES:Conciertos
ATTACH;FMTTYPE=image/webp:https://burgos.top/wp-content/uploads/2024/05/cala-vento-concierto-en-burgos.webp
END:VEVENT
END:VCALENDAR