BEGIN:VCALENDAR
VERSION:2.0
PRODID:-//BurgosTop - ECPv6.7.0//NONSGML v1.0//EN
CALSCALE:GREGORIAN
METHOD:PUBLISH
X-WR-CALNAME:BurgosTop
X-ORIGINAL-URL:https://burgos.top
X-WR-CALDESC:Eventos para BurgosTop
REFRESH-INTERVAL;VALUE=DURATION:PT1H
X-Robots-Tag:noindex
X-PUBLISHED-TTL:PT1H
BEGIN:VTIMEZONE
TZID:Europe/Madrid
BEGIN:DAYLIGHT
TZOFFSETFROM:+0100
TZOFFSETTO:+0200
TZNAME:CEST
DTSTART:20260329T010000
END:DAYLIGHT
BEGIN:STANDARD
TZOFFSETFROM:+0200
TZOFFSETTO:+0100
TZNAME:CET
DTSTART:20261025T010000
END:STANDARD
END:VTIMEZONE
BEGIN:VEVENT
DTSTART;TZID=Europe/Madrid:20260418T190000
DTEND;TZID=Europe/Madrid:20260418T190000
DTSTAMP:20260424T112131
CREATED:20260306T170123Z
LAST-MODIFIED:20260306T170123Z
UID:31718-1776538800-1776538800@burgos.top
SUMMARY:BBFEST PRIMAVERA 2026
DESCRIPTION:BBFEST PRIMAVERA llega el 18 de abril de 2026 a Sala Andén 56 con apertura de puertas a las 18:30 para una tarde + noche de charangas sin freno. Esto no es un concierto… es un desmadre organizado 😈 \nSobre el escenario:💥 Coda💥 Cucu Band💥 Armando Jarana \nTres bandas\, cero vergüenza y una sola misión: que salgas sin voz y con agujetas en las piernas. Si te gustan las charangas que no piden permiso\, los temazos que se gritan más que se cantan y el ambiente que va subiendo minuto a minuto\, este es TU plan. \nVas a venir “un rato”… y te vas a quedar hasta que el cuerpo diga basta. \n🔗 OBTENER ENTRADAS
URL:https://burgos.top/evento/bbfest-primavera-2026/
LOCATION:Sala Andén 56\, C. San Pedro y San Felices\, 56\, Burgos\, 09001
CATEGORIES:Festivales
ATTACH;FMTTYPE=image/webp:https://burgos.top/wp-content/uploads/2026/03/bbfest-primavera.webp
END:VEVENT
END:VCALENDAR