BEGIN:VCALENDAR
VERSION:2.0
PRODID:-//BurgosTop - ECPv6.7.0//NONSGML v1.0//EN
CALSCALE:GREGORIAN
METHOD:PUBLISH
X-WR-CALNAME:BurgosTop
X-ORIGINAL-URL:https://burgos.top
X-WR-CALDESC:Eventos para BurgosTop
REFRESH-INTERVAL;VALUE=DURATION:PT1H
X-Robots-Tag:noindex
X-PUBLISHED-TTL:PT1H
BEGIN:VTIMEZONE
TZID:Europe/Madrid
BEGIN:DAYLIGHT
TZOFFSETFROM:+0100
TZOFFSETTO:+0200
TZNAME:CEST
DTSTART:20240331T010000
END:DAYLIGHT
BEGIN:STANDARD
TZOFFSETFROM:+0200
TZOFFSETTO:+0100
TZNAME:CET
DTSTART:20241027T010000
END:STANDARD
END:VTIMEZONE
BEGIN:VEVENT
DTSTART;TZID=Europe/Madrid:20241031T235900
DTEND;TZID=Europe/Madrid:20241101T063000
DTSTAMP:20260419T165241
CREATED:20241023T120439Z
LAST-MODIFIED:20241023T120439Z
UID:11542-1730419140-1730442600@burgos.top
SUMMARY:¡Al Lío! Fiesta de Halloween 2024 en Burgos
DESCRIPTION:Fecha: Jueves\, 31 de octubre | Hora: 23:59\nFinaliza: Viernes\, 1 de noviembre | Hora: 06:30\nLugar: Sala Andén 56\nPrecio: Desde 1€ hasta 15€ \nConsigue tus Entradas\n\nPrimeras 20 entradas: 1€ + gastos\nSiguientes 100 entradas: 5€ + gastos\nResto de entradas: 15€ + gastos\n\nTodas las entradas incluyen una consumición. \nComprar entradas\nUna Noche Inolvidable\nEste Halloween en El Andén 56\, te espera la fiesta más terrorífica del año. Prepárate para disfrutar de una noche cargada de sorpresas\, buena música y un ambiente que no olvidarás. ¡Ven disfrazado y participa en nuestro concurso de disfraces para ganar premios espeluznantes! \nAtracciones Especiales\n\nMúsica en Vivo: Disfruta de DJ’s que te harán bailar hasta el amanecer con los mejores hits.\nSorpresas Terroríficas: Participa en juegos y actividades que te mantendrán al borde de tu asiento.\nPhotocall Temático: Captura tus momentos más divertidos en nuestro photocall decorado para la ocasión.\n\n¡No Te Lo Pierdas!\n¡No dejes pasar la oportunidad de vivir una noche inolvidable! Compra tus entradas ahora y asegúrate un lugar en la fiesta más esperada del año. ¡Nos vemos en el lado oscuro! 🎃👻 ¡Atrévete a disfrutar del Halloween como nunca antes!
URL:https://burgos.top/evento/al-lio-fiesta-de-halloween-2024-en-burgos/
LOCATION:Sala Andén 56\, C. San Pedro y San Felices\, 56\, Burgos\, 09001
CATEGORIES:Ocio
ATTACH;FMTTYPE=image/webp:https://burgos.top/wp-content/uploads/2024/10/¡Al-Lio-Fiesta-de-Halloween-2024-en-Burgos.webp
END:VEVENT
END:VCALENDAR