BEGIN:VCALENDAR
VERSION:2.0
PRODID:-//BurgosTop - ECPv6.7.0//NONSGML v1.0//EN
CALSCALE:GREGORIAN
METHOD:PUBLISH
X-WR-CALNAME:BurgosTop
X-ORIGINAL-URL:https://burgos.top
X-WR-CALDESC:Eventos para BurgosTop
REFRESH-INTERVAL;VALUE=DURATION:PT1H
X-Robots-Tag:noindex
X-PUBLISHED-TTL:PT1H
BEGIN:VTIMEZONE
TZID:Europe/Madrid
BEGIN:DAYLIGHT
TZOFFSETFROM:+0100
TZOFFSETTO:+0200
TZNAME:CEST
DTSTART:20240331T010000
END:DAYLIGHT
BEGIN:STANDARD
TZOFFSETFROM:+0200
TZOFFSETTO:+0100
TZNAME:CET
DTSTART:20241027T010000
END:STANDARD
END:VTIMEZONE
BEGIN:VEVENT
DTSTART;TZID=Europe/Madrid:20241230T190000
DTEND;TZID=Europe/Madrid:20241230T200000
DTSTAMP:20260419T152257
CREATED:20241201T100723Z
LAST-MODIFIED:20241203T082900Z
UID:14052-1735585200-1735588800@burgos.top
SUMMARY:AJAYU DÚO Y JOSBu | ARBOLITO Y LA ABUBILLA
DESCRIPTION:🌳🎵 ¡Un Viaje Musical para Toda la Familia! 🎵🌳 \n\nFecha: Lunes 30 de diciembre de 2024\nHora: 19:00h\nLugar: Teatro Principal\nEntrada: 5€ (+ comisión online)\nDuración: 60 minutos\nPúblico: Niños de 6 meses a 12 años\n\nComprar entradas\nSinopsis\nUn mágico cuento musical que nos transporta por el mundo\, explorando la transformación personal\, el amor por la naturaleza y nuestras tradiciones más profundas. Espectáculo “Arbolito y la Abubilla Mini Sinfónico”. Un concierto interactivo que fusiona instrumentos de orquesta\, percusiones étnicas y voces\, creando una experiencia única para niños y familias.
URL:https://burgos.top/evento/ajayu-duo-y-josbu-arbolito-y-la-abubilla/
LOCATION:Teatro Principal\, Pl. Mío Cid\, Burgos\, 09003
CATEGORIES:Conciertos,Niños
ATTACH;FMTTYPE=image/webp:https://burgos.top/wp-content/uploads/2024/12/Arbolito-y-la-Abubilla-en-burgos.webp
END:VEVENT
END:VCALENDAR