BEGIN:VCALENDAR
VERSION:2.0
PRODID:-//BurgosTop - ECPv6.7.0//NONSGML v1.0//EN
CALSCALE:GREGORIAN
METHOD:PUBLISH
X-WR-CALNAME:BurgosTop
X-ORIGINAL-URL:https://burgos.top
X-WR-CALDESC:Eventos para BurgosTop
REFRESH-INTERVAL;VALUE=DURATION:PT1H
X-Robots-Tag:noindex
X-PUBLISHED-TTL:PT1H
BEGIN:VTIMEZONE
TZID:Europe/Madrid
BEGIN:DAYLIGHT
TZOFFSETFROM:+0100
TZOFFSETTO:+0200
TZNAME:CEST
DTSTART:20260329T010000
END:DAYLIGHT
BEGIN:STANDARD
TZOFFSETFROM:+0200
TZOFFSETTO:+0100
TZNAME:CET
DTSTART:20261025T010000
END:STANDARD
END:VTIMEZONE
BEGIN:VEVENT
DTSTART;TZID=Europe/Madrid:20260220T100000
DTEND;TZID=Europe/Madrid:20260220T100000
DTSTAMP:20260419T150352
CREATED:20260204T091842Z
LAST-MODIFIED:20260204T092556Z
UID:29478-1771581600-1771581600@burgos.top
SUMMARY:Abycine Lanza
DESCRIPTION:PETRONILA FORMACIÓN y PETRONILA INDUSTRIA presentan “Abycine Lanza”\, con José Manuel Zamora. \nJosé Manuel Zamora\, director de Abycine\, da a conocer las distintas acciones que conforman Abycine Lanza\, uno de los foros de industria más relevantes del cine independiente nacional desde hace más de 10 años. El programa engloba diversas líneas como Impulso CMM Desarrollo e Impulso Work in Progress\, orientadas a ofrecer acompañamiento real\, asesoramiento especializado\, conexión directa con profesionales del sector y acceso a ayudas económicas\, premios y oportunidades estratégicas para la visibilidad y el crecimiento de los proyectos. \nAdemás\, desde el pasado año se suma Abycine Lanza Cortos\, una iniciativa dedicada al impulso y desarrollo del cortometraje español. \n🕛 12:00 h📍 Sala de prensa🎟️ Entrada libre hasta completar aforo \nINSCRIPCIONES / ENTRADAS
URL:https://burgos.top/evento/abycine-lanza/
LOCATION:Fundación Círculo Burgos\, Pl. de España\, 3\, Burgos\, 09005
CATEGORIES:Cine
ATTACH;FMTTYPE=image/webp:https://burgos.top/wp-content/uploads/2026/02/fundacion-el-circulo.webp
END:VEVENT
END:VCALENDAR