BEGIN:VCALENDAR
VERSION:2.0
PRODID:-//BurgosTop - ECPv6.7.0//NONSGML v1.0//EN
CALSCALE:GREGORIAN
METHOD:PUBLISH
X-WR-CALNAME:BurgosTop
X-ORIGINAL-URL:https://burgos.top
X-WR-CALDESC:Eventos para BurgosTop
REFRESH-INTERVAL;VALUE=DURATION:PT1H
X-Robots-Tag:noindex
X-PUBLISHED-TTL:PT1H
BEGIN:VTIMEZONE
TZID:Europe/Madrid
BEGIN:DAYLIGHT
TZOFFSETFROM:+0100
TZOFFSETTO:+0200
TZNAME:CEST
DTSTART:20240331T010000
END:DAYLIGHT
BEGIN:STANDARD
TZOFFSETFROM:+0200
TZOFFSETTO:+0100
TZNAME:CET
DTSTART:20241027T010000
END:STANDARD
END:VTIMEZONE
BEGIN:VEVENT
DTSTART;TZID=Europe/Madrid:20241214T123000
DTEND;TZID=Europe/Madrid:20241214T193000
DTSTAMP:20260419T151822
CREATED:20241202T105226Z
LAST-MODIFIED:20241202T105226Z
UID:14114-1734179400-1734204600@burgos.top
SUMMARY:38º DÍA DEL DULZAINERO
DESCRIPTION:🗓️ Fecha: 14 de diciembre\n📍 Ubicación: Calle San Lesmes y Sala Salvador Vega\, Capilla de Música antiguo Convento de las Bernardas \nPrograma del Día:\n\n12:30 h: Concentración de dulzaineros en las estatuas de los Dulzaineros en la Calle San Lesmes.\n13:00 h: Pasacalles por el centro histórico de la ciudad\, llenando las calles de música y alegría.\n19:30 h: Festival de Dulzaina en la Sala Salvador Vega\, donde se presentarán diversos grupos:\n\nAmigos de la Dulzaina (Burgos)\nBizkaiko Gaiteroak (Bilbao)\nDulzaineros de Campo (Palencia)\nAlto Riesgo (Castilla y León)\nFanfare DAHU (Tarbes\, Francia)\nOrquestina La Cantina (Soria)\n\n\n\nEntrada libre hasta completar aforo. Organiza: Amigos de la Dulzaina. ¡Únete a esta celebración musical que rinde homenaje a la tradición dulzainera y disfruta de una jornada llena de ritmo y cultura! 🎉 \nPara conocer todos los eventos y actividades que se llevarán a cabo durante estas fiestas\, te invitamos a consultar la programación completa de Navidad 2024 en Burgos. Desde conciertos\, espectáculos de teatro\, talleres creativos\, hasta la emblemática Cabalgata de Reyes\, hay algo para todos. ¡No te lo pierdas! 🎄🎶
URL:https://burgos.top/evento/38o-dia-del-dulzainero/
LOCATION:Burgos\, Burgos
CATEGORIES:Ocio
ATTACH;FMTTYPE=image/webp:https://burgos.top/wp-content/uploads/2024/12/38o-DIA-DEL-DULZAINERO.webp
END:VEVENT
END:VCALENDAR