BEGIN:VCALENDAR
VERSION:2.0
PRODID:-//BurgosTop - ECPv6.7.0//NONSGML v1.0//EN
CALSCALE:GREGORIAN
METHOD:PUBLISH
X-ORIGINAL-URL:https://burgos.top
X-WR-CALDESC:Eventos para BurgosTop
REFRESH-INTERVAL;VALUE=DURATION:PT1H
X-Robots-Tag:noindex
X-PUBLISHED-TTL:PT1H
BEGIN:VTIMEZONE
TZID:Europe/Madrid
BEGIN:DAYLIGHT
TZOFFSETFROM:+0100
TZOFFSETTO:+0200
TZNAME:CEST
DTSTART:20240331T010000
END:DAYLIGHT
BEGIN:STANDARD
TZOFFSETFROM:+0200
TZOFFSETTO:+0100
TZNAME:CET
DTSTART:20241027T010000
END:STANDARD
END:VTIMEZONE
BEGIN:VEVENT
DTSTART;TZID=Europe/Madrid:20240630T183000
DTEND;TZID=Europe/Madrid:20240630T183000
DTSTAMP:20260421T092017
CREATED:20241007T105330Z
LAST-MODIFIED:20241007T105331Z
UID:10000082-1719772200-1719772200@burgos.top
SUMMARY:Corrida de toros Fiestas de San Pedro 2024 Domingo 30 de Junio
DESCRIPTION:Curro Díaz\, Morenito de Aranda y David de Miranda protagonizan la corrida del domingo 30 de junio en la Feria Taurina de Burgos. Valdellan es el ganadero encargado de proveer los toros para esta tarde de toros a las 18:30 en la Plaza de toros. \nCompra de entradas y bonos: comprar entradas para corridas de toros fiestas San Pedro 2024 Burgos \nPrecio: desde 56 €
URL:https://burgos.top/evento/corrida-de-toros-fiestas-de-san-pedro-2024-domingo-30-de-junio/
LOCATION:Colisem de Burgos\, C. la Chopera\, 1\,\, Burgos\, Burgos\, 09006\, España
ATTACH;FMTTYPE=image/webp:https://burgos.top/wp-content/uploads/2024/05/toros-burgos-san-pedro-san-pablo-2024.webp
END:VEVENT
END:VCALENDAR