BEGIN:VCALENDAR
VERSION:2.0
PRODID:-//BurgosTop - ECPv6.7.0//NONSGML v1.0//EN
CALSCALE:GREGORIAN
METHOD:PUBLISH
X-ORIGINAL-URL:https://burgos.top
X-WR-CALDESC:Eventos para BurgosTop
REFRESH-INTERVAL;VALUE=DURATION:PT1H
X-Robots-Tag:noindex
X-PUBLISHED-TTL:PT1H
BEGIN:VTIMEZONE
TZID:Europe/Madrid
BEGIN:DAYLIGHT
TZOFFSETFROM:+0100
TZOFFSETTO:+0200
TZNAME:CEST
DTSTART:20240331T010000
END:DAYLIGHT
BEGIN:STANDARD
TZOFFSETFROM:+0200
TZOFFSETTO:+0100
TZNAME:CET
DTSTART:20241027T010000
END:STANDARD
END:VTIMEZONE
BEGIN:VEVENT
DTSTART;TZID=Europe/Madrid:20240701T183000
DTEND;TZID=Europe/Madrid:20240701T183000
DTSTAMP:20260421T061729
CREATED:20241007T105325Z
LAST-MODIFIED:20241007T105327Z
UID:10000085-1719858600-1719858600@burgos.top
SUMMARY:Corrida de toros Fiestas de San Pedro 2024 Lunes 1 de Julio
DESCRIPTION:Enrique Ponce\, Daniel Luque y Emilio de Justo encabezan el cartel del lunes 1 de julio en la Feria Taurina de Burgos. Los toros pertenecen a la ganadería de Juan Pedro Domecq y la corrida dará comienzo a las 18:30 en la Plaza de toros. \nCompra de entradas y bonos: comprar entradas para corridas de toros fiestas San Pedro 2024 Burgos \nPrecio: desde 56 €
URL:https://burgos.top/evento/corrida-de-toros-fiestas-de-san-pedro-2024-lunes-1-de-julio/
LOCATION:Colisem de Burgos\, C. la Chopera\, 1\,\, Burgos\, Burgos\, 09006\, España
ATTACH;FMTTYPE=image/webp:https://burgos.top/wp-content/uploads/2024/05/toros-burgos-san-pedro-san-pablo-2024.webp
END:VEVENT
BEGIN:VEVENT
DTSTART;TZID=Europe/Madrid:20240702T183000
DTEND;TZID=Europe/Madrid:20240702T183000
DTSTAMP:20260421T061729
CREATED:20241007T105446Z
LAST-MODIFIED:20241007T105452Z
UID:10000084-1719945000-1719945000@burgos.top
SUMMARY:Corrida de toros Fiestas de San Pedro 2024 Martes 2 de Julio
DESCRIPTION:Morante de la Puebla\, Joselito Adame y Roca Rey protagonizan la corrida del martes 2 de julio en la Feria Taurina de Burgos. Roman Sorando es el ganadero elegido para esta tarde de toros a las 18:30 en la Plaza de toros. \nCompra de entradas y bonos: comprar entradas para corridas de toros fiestas San Pedro 2024 Burgos \nPrecio: desde 56 €
URL:https://burgos.top/evento/corrida-de-toros-fiestas-de-san-pedro-2024-martes-2-de-julio/
LOCATION:Colisem de Burgos\, C. la Chopera\, 1\,\, Burgos\, Burgos\, 09006\, España
ATTACH;FMTTYPE=image/webp:https://burgos.top/wp-content/uploads/2024/05/toros-burgos-san-pedro-san-pablo-2024.webp
END:VEVENT
BEGIN:VEVENT
DTSTART;TZID=Europe/Madrid:20240703T183000
DTEND;TZID=Europe/Madrid:20240703T183000
DTSTAMP:20260421T061729
CREATED:20241007T105442Z
LAST-MODIFIED:20241007T105447Z
UID:10000086-1720031400-1720031400@burgos.top
SUMMARY:Corrida de toros Fiestas de San Pedro 2024 Miércoles 3 de Julio
DESCRIPTION:Pablo Hermoso de Mendoza\, Guillermo Hermoso de Mendoza y Sergio Galán participan en una corrida de rejones el miércoles 3 de julio en la Feria Taurina de Burgos. Los toros pertenecen a la ganadería de Luis Albarran y la corrida dará comienzo a las 18:30 en la Plaza de toros. \nCompra de entradas y bonos: comprar entradas para corridas de toros fiestas San Pedro 2024 Burgos \nPrecio: desde 56 €
URL:https://burgos.top/evento/corrida-de-toros-fiestas-de-san-pedro-2024-miercoles-3-de-julio/
LOCATION:Colisem de Burgos\, C. la Chopera\, 1\,\, Burgos\, Burgos\, 09006\, España
ATTACH;FMTTYPE=image/webp:https://burgos.top/wp-content/uploads/2024/05/toros-burgos-san-pedro-san-pablo-2024.webp
END:VEVENT
BEGIN:VEVENT
DTSTART;TZID=Europe/Madrid:20240704T183000
DTEND;TZID=Europe/Madrid:20240704T183000
DTSTAMP:20260421T061729
CREATED:20241007T105439Z
LAST-MODIFIED:20241007T105445Z
UID:10000087-1720117800-1720117800@burgos.top
SUMMARY:Corrida de toros Fiestas de San Pedro 2024 Jueves 4 de Julio
DESCRIPTION:La Feria Taurina de Burgos culmina el jueves 4 de julio con un Gran Premio. La corrida comenzará a las 18:30 en la Plaza de toros de Burgos. \nCompra de entradas y bonos: comprar entradas para corridas de toros fiestas San Pedro 2024 Burgos \nPrecio: –
URL:https://burgos.top/evento/corrida-de-toros-fiestas-de-san-pedro-2024-jueves-4-de-julio/
LOCATION:Colisem de Burgos\, C. la Chopera\, 1\,\, Burgos\, Burgos\, 09006\, España
ATTACH;FMTTYPE=image/webp:https://burgos.top/wp-content/uploads/2024/05/toros-burgos-san-pedro-san-pablo-2024.webp
END:VEVENT
END:VCALENDAR