BEGIN:VCALENDAR
VERSION:2.0
PRODID:-//BurgosTop - ECPv6.7.0//NONSGML v1.0//EN
CALSCALE:GREGORIAN
METHOD:PUBLISH
X-ORIGINAL-URL:https://burgos.top
X-WR-CALDESC:Eventos para BurgosTop
REFRESH-INTERVAL;VALUE=DURATION:PT1H
X-Robots-Tag:noindex
X-PUBLISHED-TTL:PT1H
BEGIN:VTIMEZONE
TZID:Europe/Madrid
BEGIN:DAYLIGHT
TZOFFSETFROM:+0100
TZOFFSETTO:+0200
TZNAME:CEST
DTSTART:20260329T010000
END:DAYLIGHT
BEGIN:STANDARD
TZOFFSETFROM:+0200
TZOFFSETTO:+0100
TZNAME:CET
DTSTART:20261025T010000
END:STANDARD
END:VTIMEZONE
BEGIN:VEVENT
DTSTART;VALUE=DATE:20260515
DTEND;VALUE=DATE:20260518
DTSTAMP:20260421T121313
CREATED:20260208T120719Z
LAST-MODIFIED:20260208T121809Z
UID:10002841-1778803200-1779062399@burgos.top
SUMMARY:Fiesta de las Flores 2026
DESCRIPTION:La Fiesta de las Flores 2026 en Burgos se celebrará del 15 al 17 de mayo y estará organizada por el Ayuntamiento de Burgos. \n\nPrograma de la Fiesta de las Flores 2026\n\nEl programa oficial aún no ha sido publicado. Esta página se actualizará con información\, actividades y horarios conforme se vayan anunciando las novedades.
URL:https://burgos.top/evento/fiesta-de-las-flores-2026/
LOCATION:Burgos\, Burgos
CATEGORIES:Ocio
ATTACH;FMTTYPE=image/webp:https://burgos.top/wp-content/uploads/2026/02/fiesta-de-las-flores.webp
END:VEVENT
BEGIN:VEVENT
DTSTART;TZID=Europe/Madrid:20260516T104500
DTEND;TZID=Europe/Madrid:20260516T104500
DTSTAMP:20260421T121313
CREATED:20260209T170636Z
LAST-MODIFIED:20260209T181842Z
UID:10002892-1778928300-1778928300@burgos.top
SUMMARY:TALLERES NIÑOS Y NIÑAS | PEQUEARTISTAS DE LA PREHISTORIA (4 - 7 AÑOS) 2026-05-16
DESCRIPTION:🎨 Taller de paleoarte: dibuja la prehistoria de Atapuerca \nSi te gusta dibujar\, en este taller tendrás la oportunidad de convertirte en un paleoartista\, recreando los animales y paisajes que habitaron la Sierra de Atapuerca durante la prehistoria. \n👥 Plazas limitadas📍 Lugar: Museo de la Evolución Humana📞 Inscripción previa: 947 421 000\, reservas@museoevolucionhumana.com\, en la recepción o en la web del museo
URL:https://burgos.top/evento/talleres-ninos-y-ninas-pequeartistas-de-la-prehistoria-4-7-anos-2026-05-16/
LOCATION:Museo de la Evolución Humana (MEH)\, P.º Sierra de Atapuerca\, S/N\, Burgos\, 09002
CATEGORIES:Niños,Talleres
ATTACH;FMTTYPE=image/webp:https://burgos.top/wp-content/uploads/2024/11/pintura-prehistorica.webp
END:VEVENT
BEGIN:VEVENT
DTSTART;TZID=Europe/Madrid:20260516T123000
DTEND;TZID=Europe/Madrid:20260516T123000
DTSTAMP:20260421T121313
CREATED:20251202T163010Z
LAST-MODIFIED:20251202T163010Z
UID:10002194-1778934600-1778934600@burgos.top
SUMMARY:ZUMBADOS – Teatro Fitness a Lo Grande
DESCRIPTION:ZUMBADOS es una comedia teatral explosiva que mezcla humor\, fitness y espectáculo. Dos de los monitores de zumba más famosos del mundo\, auténticas estrellas con millones de seguidores\, están a punto de presentar su nueva clase… y quieren convertirla en el evento social del año. \nComo cada temporada\, el estreno de sus coreografías se transforma en un show lleno de luces láser\, efectos especiales\, música épica\, sudor\, energía y muchas sorpresas. Todo está preparado al milímetro: ni un solo error puede arruinar la presentación de la coreografía definitiva\, esa que promete poner en forma a cualquiera… ¡para siempre! \nUna obra llena de ritmo\, buen humor\, exageración\, delirio y sátira del mundo del fitness\, perfecta para pasar un rato divertido\, vibrante y lleno de movimiento. \n\nComprar entradas
URL:https://burgos.top/evento/zumbados-teatro-fitness-a-lo-grande/
LOCATION:Cultural Cordón\, Plaza de la Libertad s/n\, Burgos\, 09004
CATEGORIES:Niños,Teatro
ATTACH;FMTTYPE=image/webp:https://burgos.top/wp-content/uploads/2024/12/zumbados-de-teatro-atopico.webp
END:VEVENT
BEGIN:VEVENT
DTSTART;TZID=Europe/Madrid:20260516T123000
DTEND;TZID=Europe/Madrid:20260516T123000
DTSTAMP:20260421T121313
CREATED:20260209T170636Z
LAST-MODIFIED:20260209T181508Z
UID:10002889-1778934600-1778934600@burgos.top
SUMMARY:TALLERES NIÑOS Y NIÑAS | PALEOBESTIARIO (8-12 AÑOS) 2026-05-16
DESCRIPTION:🎨 Taller de paleoarte: da vida a las especies extintas \n¿Alguna vez te has preguntado cómo sabemos el aspecto de las especies extintas? Desde los grandes reptiles hasta los mamíferos más pequeños\, animales de los que solo han quedado sus huesos\, te esperan en este taller donde te convertirás en un paleoartista capaz de darles forma y color. \n👥 Plazas limitadas📍 Lugar: Museo de la Evolución Humana📞 Inscripción previa: 947 421 000\, reservas@museoevolucionhumana.com\, en la recepción o en la web del museo
URL:https://burgos.top/evento/talleres-ninos-y-ninas-paleobestiario-8-12-anos-2026-05-16/
LOCATION:Museo de la Evolución Humana (MEH)\, P.º Sierra de Atapuerca\, S/N\, Burgos\, 09002
CATEGORIES:Niños,Talleres
ATTACH;FMTTYPE=image/webp:https://burgos.top/wp-content/uploads/2026/02/animales-prehistoria.webp
END:VEVENT
BEGIN:VEVENT
DTSTART;TZID=Europe/Madrid:20260516T193000
DTEND;TZID=Europe/Madrid:20260516T193000
DTSTAMP:20260421T121313
CREATED:20251202T163006Z
LAST-MODIFIED:20251202T163006Z
UID:10002195-1778959800-1778959800@burgos.top
SUMMARY:EL SECRETORIUM\, Espectáculo teatral
DESCRIPTION:Teatro • Todos los Públicos \nA lo largo de la historia\, innumerables secretos jamás salieron a la luz y otros fueron transformados para proteger a sus protagonistas\, cambiando —a veces— el rumbo de los acontecimientos.En El Secretorium conoceremos algunos de esos misterios inconfesables narrados por quienes callaron\, mintieron o hablaron demasiado.En las sombras habitan los verdaderos guardianes de la historia: aquellos que deciden qué se cuenta… y qué debe permanecer oculto para siempre. 🔍🕯️ \n📍 Cultural CordónPlaza de la Libertad s/n \n💶 12 €Apto para todos los públicos 👨‍👩‍👧‍👦 \n\nComprar entradas
URL:https://burgos.top/evento/el-secretorium-espectaculo-teatral/
LOCATION:Cultural Cordón\, Plaza de la Libertad s/n\, Burgos\, 09004
CATEGORIES:Teatro
ATTACH;FMTTYPE=image/webp:https://burgos.top/wp-content/uploads/2025/12/SECRETORIUM.webp
END:VEVENT
BEGIN:VEVENT
DTSTART;TZID=Europe/Madrid:20260516T193000
DTEND;TZID=Europe/Madrid:20260516T193000
DTSTAMP:20260421T121313
CREATED:20260209T170636Z
LAST-MODIFIED:20260210T082240Z
UID:10002853-1778959800-1778959800@burgos.top
SUMMARY:TALLERES JÓVENES Y ADULTOS | DIBUJANTES DEL PASADO 2026-05-16
DESCRIPTION:⏰ Horario: De 18:00 a 19:30 h👥 Plazas: Máximo 5 participantes🎯 Edad: A partir de 13 años📍 Lugar: Museo de la Evolución Humana (MEH) \n📝 Inscripción: \n\n📧 reservas@museoevolucionhumana.com\n📞 947 421 000\nEn la recepción del museo\nA través de la página web del MEH
URL:https://burgos.top/evento/talleres-jovenes-y-adultos-dibujantes-del-pasado-2026-05-16/
LOCATION:Museo de la Evolución Humana (MEH)\, P.º Sierra de Atapuerca\, S/N\, Burgos\, 09002
CATEGORIES:Niños,Talleres
ATTACH;FMTTYPE=image/webp:https://burgos.top/wp-content/uploads/2024/11/pinceles-de-dibujo.webp
END:VEVENT
BEGIN:VEVENT
DTSTART;TZID=Europe/Madrid:20260516T200000
DTEND;TZID=Europe/Madrid:20260516T200000
DTSTAMP:20260421T121313
CREATED:20260210T081739Z
LAST-MODIFIED:20260210T081739Z
UID:10002929-1778961600-1778961600@burgos.top
SUMMARY:METAL SOULS FEST II Edición
DESCRIPTION:El Metal Soul Fest regresa con fuerza en su segunda edición y lo hace con un acontecimiento irrepetible: el CONCIERTO ÚNICO de ANGELUS APATRIDA – XXV ANIVERSARIO en Burgos. \nLa banda de metal más importante del país vuelve a la ciudad para ofrecer un show histórico de dos horas\, repasando todos sus grandes clásicos y celebrando por partida doble sus 25 años de trayectoria y el 20º aniversario de su primer álbum\, Evil Unleashed. Una cita excepcional pensada para los seguidores más fieles y para quienes quieran vivir una noche que quedará grabada en la historia del metal nacional. \nCompletando un cartel de auténtico lujo estará SILVER\, con un recorrido completo por su carrera y un repertorio cargado de himnos de Venganza\, Muro y Silver Fist\, garantizando una descarga de heavy metal clásico de alto nivel. \nPara cerrar esta noche explosiva\, regresa a Burgos GRAVE NOISE\, una de las bandas emergentes más potentes del thrash metal nacional\, dispuesta a demostrar por qué es uno de los nombres a seguir dentro de la escena actual. \nUn festival imprescindible para los amantes del metal\, con pasado\, presente y futuro reunidos en una sola noche. \n\nComprar entradas
URL:https://burgos.top/evento/metal-souls-fest-ii-edicion/
LOCATION:Sala Andén 56\, C. San Pedro y San Felices\, 56\, Burgos\, 09001
CATEGORIES:Festivales
ATTACH;FMTTYPE=image/webp:https://burgos.top/wp-content/uploads/2026/02/METAL-SOULS-FEST-II-Edicion.webp
END:VEVENT
BEGIN:VEVENT
DTSTART;TZID=Europe/Madrid:20260516T210000
DTEND;TZID=Europe/Madrid:20260516T210000
DTSTAMP:20260421T121313
CREATED:20251218T115121Z
LAST-MODIFIED:20251218T115121Z
UID:10002394-1778965200-1778965200@burgos.top
SUMMARY:El Jose “Los pies en el mar”
DESCRIPTION:El Jose llega a Burgos con su nueva gira “Los pies en el mar”\, un espectáculo renovado que hará vibrar la Sala Rúa el sábado 16 de mayo de 2026 a las 21:00\, de la mano de la promotora Producción El Jose. En este directo presentará nuevas canciones y ritmos que te llevarán por un amplio abanico de estilos\, invitándote a saltar\, cantar\, disfrutar y emocionarte. Fiel a su sello personal\, el concierto viajará desde la intimidad más hermosa hasta el pogo más punky\, siempre aderezado con humor y letras reivindicativas. Ven con calzado cómodo\, porque esta vez vamos a meter “los pies en el mar”. \n\nComprar entradas
URL:https://burgos.top/evento/el-jose-los-pies-en-el-mar/
LOCATION:La Rúa\, Av. Reyes Católicos\, 26\, Burgos\, 09005
CATEGORIES:Conciertos
ATTACH;FMTTYPE=image/webp:https://burgos.top/wp-content/uploads/2025/12/el-jose.webp
END:VEVENT
END:VCALENDAR