BEGIN:VCALENDAR
VERSION:2.0
PRODID:-//BurgosTop - ECPv6.7.0//NONSGML v1.0//EN
CALSCALE:GREGORIAN
METHOD:PUBLISH
X-ORIGINAL-URL:https://burgos.top
X-WR-CALDESC:Eventos para BurgosTop
REFRESH-INTERVAL;VALUE=DURATION:PT1H
X-Robots-Tag:noindex
X-PUBLISHED-TTL:PT1H
BEGIN:VTIMEZONE
TZID:Europe/Madrid
BEGIN:DAYLIGHT
TZOFFSETFROM:+0100
TZOFFSETTO:+0200
TZNAME:CEST
DTSTART:20260329T010000
END:DAYLIGHT
BEGIN:STANDARD
TZOFFSETFROM:+0200
TZOFFSETTO:+0100
TZNAME:CET
DTSTART:20261025T010000
END:STANDARD
END:VTIMEZONE
BEGIN:VEVENT
DTSTART;TZID=Europe/Madrid:20260115T193000
DTEND;TZID=Europe/Madrid:20260115T193000
DTSTAMP:20260421T131742
CREATED:20260114T174619Z
LAST-MODIFIED:20260114T175025Z
UID:10002570-1768505400-1768505400@burgos.top
SUMMARY:Visiones escénicas: ‘En ocasiones no te entiedo’ en Teatro Principal de Burgos
DESCRIPTION:La Parrala y el Festival Escena Abierta unen fuerzas para abrir un espacio de reflexión imprescindible sobre la creación escénica contemporánea. Una mesa de diálogo pensada para quienes no se conforman con lo conocido y se atreven a explorar nuevos lenguajes\, dramaturgias híbridas y formas de comunicación escénica que rompen fronteras entre disciplinas. \n¿Por qué algunos creadores deciden arriesgar? ¿Cómo nacen esos procesos de experimentación? ¿A qué público interpelan y cómo responde la audiencia ante lo no convencional? Esta sesión propone un debate vivo y abierto sobre el presente y el futuro del teatro\, asumiendo que las respuestas de hoy pueden quedar obsoletas mañana… o cobrar entonces todo su sentido. \nEn la mesa participarán creadores y creadoras de compañías burgalesas con una mirada crítica y comprometida con la innovación: \n\nEnrique Méndez\, de la compañía Jean Philippe Kikolas\nMontse Ortiz\, en representación de Arawake\nVioleta Ollauri\, de Molécula Escénica\nEstrella Resco\, de Estrella R. Artes Escénicas\nBasilio Villacorta\, de Teatro del Vórtice\n\nLa conversación estará moderada por Juan Luis Sáez\, guiando un encuentro pensado para públicos inquietos\, curiosos y dispuestos a asumir el riesgo de la experimentación artística. \nEntrada libre hasta completar aforo.
URL:https://burgos.top/evento/visiones-escenicas-en-ocasiones-no-te-entiedo-en-teatro-principal-de-burgos/
LOCATION:Teatro Principal\, Pl. Mío Cid\, Burgos\, 09003
CATEGORIES:Ocio,Teatro
ATTACH;FMTTYPE=image/jpeg:https://burgos.top/wp-content/uploads/2025/12/escena-abierta-2026.jpg
END:VEVENT
BEGIN:VEVENT
DTSTART;TZID=Europe/Madrid:20260115T200000
DTEND;TZID=Europe/Madrid:20260115T200000
DTSTAMP:20260421T131742
CREATED:20260113T115513Z
LAST-MODIFIED:20260113T123041Z
UID:10002530-1768507200-1768507200@burgos.top
SUMMARY:Encuentro literario con Margarito Leoz en Salón de Actos Plaza de España
DESCRIPTION:El jueves 15 de enero tendrá lugar un encuentro literario con Margarita Leoz\, que presentará su último poemario\, Caer\, una obra que profundiza en la fragilidad\, la caída y la permanencia desde una voz poética madura y reflexiva. \nMargarita Leoz (Pamplona\, 1980) es escritora y licenciada en Filología Francesa por la Universidad de Salamanca y en Teoría de la Literatura y Literatura Comparada por la Universidad de Barcelona. Su trayectoria literaria abarca poesía\, narrativa y ensayo\, consolidándola como una de las autoras más versátiles del panorama literario actual. \nEn poesía ha publicado El telar de Penélope (Calambur\, 2008) y Caer (La Isla de Siltolá\, 2024). Es también autora de los libros de relatos Segunda residencia (Tropo Editores\, 2011) y Flores fuera de estación (Seix Barral\, 2019)\, y de las novelas Punta Albatros (Seix Barral\, 2022) y Lo que permanece (Seix Barral\, 2025). Completa su obra el volumen Nadar entre corales. Artículos\, reseñas y ensayos sobre literatura hondureña actual (Los Amorosos\, 2025). \nAdemás\, Margarita Leoz es académica correspondiente de la Academia Hondureña de la Lengua\, reconocimiento que avala su labor crítica y su compromiso con la literatura contemporánea. \nEl encuentro será una oportunidad para conocer de primera mano su proceso creativo\, dialogar sobre su obra y acercarse a una de las voces más sólidas y personales de la literatura española actual.
URL:https://burgos.top/evento/encuentro-literario-con-margarito-leoz-en-salon-de-actos-plaza-de-espana/
LOCATION:Salón Actos Plaza España\, Pza. de España\, 3\, Burgos\, 09005
CATEGORIES:Ocio
ATTACH;FMTTYPE=image/webp:https://burgos.top/wp-content/uploads/2026/01/Margarita-Leoz.webp
END:VEVENT
BEGIN:VEVENT
DTSTART;TZID=Europe/Madrid:20260115T201500
DTEND;TZID=Europe/Madrid:20260115T201500
DTSTAMP:20260421T131742
CREATED:20260113T165729Z
LAST-MODIFIED:20260113T170159Z
UID:10002533-1768508100-1768508100@burgos.top
SUMMARY:Yoly Saa en Museo de la Evolución Humana
DESCRIPTION:La cantautora gallega Yoly Saa dejó su tierra natal para iniciar en Madrid una aventura que le permitiera dedicarse plenamente a la música. Sus primeros pasos los dio tocando en el metro\, un escenario improvisado desde el que comenzó a llamar la atención por su talento compositivo y por una forma de transmitir directa\, honesta y profundamente emocional. \nConsiderada en sus inicios una de las grandes promesas emergentes\, Yoly Saa se ha consolidado con el tiempo como una de las creadoras más relevantes de su generación. Su sensibilidad artística y su capacidad para escribir canciones con identidad propia la han llevado también a componer para artistas de trayectoria consolidada como Luz Casal o Malú. \nEn esta ocasión\, presentará su último trabajo\, Mar de Ardora\, en un formato íntimo que permitirá descubrir la esencia de sus canciones desde la cercanía y la escucha atenta\, en un entorno que potencia la conexión entre artista y público. Un concierto pensado para disfrutar de la palabra\, la emoción y la música en su estado más puro.
URL:https://burgos.top/evento/yoly-saa-en-museo-de-la-evolucion-humana/
LOCATION:Museo de la Evolución Humana (MEH)\, P.º Sierra de Atapuerca\, S/N\, Burgos\, 09002
CATEGORIES:Conciertos
ATTACH;FMTTYPE=image/webp:https://burgos.top/wp-content/uploads/2026/01/yoly-saa.webp
END:VEVENT
BEGIN:VEVENT
DTSTART;TZID=Europe/Madrid:20260115T203000
DTEND;TZID=Europe/Madrid:20260115T203000
DTSTAMP:20260421T131742
CREATED:20260107T122629Z
LAST-MODIFIED:20260107T125550Z
UID:10002489-1768509000-1768509000@burgos.top
SUMMARY:Bierzo. Hacia donde todo el mundo mira en Sala Lust for Wine
DESCRIPTION:Lust for Wine arranca enero de 2026 con una propuesta imprescindible para los amantes del buen vino: Bierzo. Hacia donde todo el mundo mira\, una cata única donde podrás aprender\, descubrir y disfrutar de los vinos del Bierzo\, reconocidos por su calidad y carácter distintivo. \nUna oportunidad para sumergirse en la cultura del vino\, conocer sus matices y dejarse sorprender por los sabores de esta prestigiosa región vitivinícola. \nReserva imprescindible: 📞 638 66 14 08
URL:https://burgos.top/evento/bierzo-hacia-donde-todo-el-mundo-mira-en-sala-lust-for-wine/
LOCATION:Pl. de Alonso Martínez\, 7a\, Ofi. 57\, 09003 Burgos\, Pl. de Alonso Martínez\, 7a\, Ofi. 57\, Burgos\, 09003
CATEGORIES:Ocio
ATTACH;FMTTYPE=image/webp:https://burgos.top/wp-content/uploads/2025/02/botella-y-copa-de-vino.webp
END:VEVENT
BEGIN:VEVENT
DTSTART;TZID=Europe/Madrid:20260115T210000
DTEND;TZID=Europe/Madrid:20260115T210000
DTSTAMP:20260421T131742
CREATED:20251125T155108Z
LAST-MODIFIED:20251127T121652Z
UID:10002036-1768510800-1768510800@burgos.top
SUMMARY:Ballena 52 – XII Concurso de Música en Directo de La Rúa en La Rúa (Avd. Reyes Católicos\, 26)
DESCRIPTION:El certamen reúne un total de 17 propuestas musicales de estilos muy diversos\, desde el rock psicodélico hasta el rap\, pasando por el pop y la fusión electrónica\, y se ha consolidado como una de las plataformas más importantes para la música en directo en la ciudad. La sala La Rúa celebra la duodécima edición de su Concurso de Música en Directo\, una cita imprescindible para descubrir el talento emergente de Burgos y alrededores. Cada jueves\, hasta marzo de 2026\, el escenario del local acoge una nueva actuación dentro de este ciclo que impulsa a bandas y solistas que buscan un espacio para crecer y darse a conocer\, y el jueves 15 de enero a las 21:00 será el turno del grupo de pop-rock Ballena 52. La entrada es libre hasta completar aforo.
URL:https://burgos.top/evento/ballena-52-xii-concurso-de-musica-en-directo-de-la-rua-en-la-rua-avd-reyes-catolicos-26/
LOCATION:La Rúa\, Av. Reyes Católicos\, 26\, Burgos\, 09005
CATEGORIES:Conciertos
ATTACH;FMTTYPE=image/webp:https://burgos.top/wp-content/uploads/2025/11/ballena52.webp
END:VEVENT
END:VCALENDAR