BEGIN:VCALENDAR
VERSION:2.0
PRODID:-//BurgosTop - ECPv6.7.0//NONSGML v1.0//EN
CALSCALE:GREGORIAN
METHOD:PUBLISH
X-WR-CALNAME:BurgosTop
X-ORIGINAL-URL:https://burgos.top
X-WR-CALDESC:Eventos para BurgosTop
REFRESH-INTERVAL;VALUE=DURATION:PT1H
X-Robots-Tag:noindex
X-PUBLISHED-TTL:PT1H
BEGIN:VTIMEZONE
TZID:Europe/Madrid
BEGIN:DAYLIGHT
TZOFFSETFROM:+0100
TZOFFSETTO:+0200
TZNAME:CEST
DTSTART:20250330T010000
END:DAYLIGHT
BEGIN:STANDARD
TZOFFSETFROM:+0200
TZOFFSETTO:+0100
TZNAME:CET
DTSTART:20251026T010000
END:STANDARD
END:VTIMEZONE
BEGIN:VEVENT
DTSTART;TZID=Europe/Madrid:20250612T190000
DTEND;TZID=Europe/Madrid:20250615T210000
DTSTAMP:20260419T214848
CREATED:20251124T224730Z
LAST-MODIFIED:20251124T224758Z
UID:10001495-1749754800-1750021200@burgos.top
SUMMARY:Feria del Mimbre\, Barro y Cuero 2025
DESCRIPTION:Del 12 de junio al 15 de junio\, el parque de San Agustín acogerá la 36ª edición de la Feria del Mimbre\, Barro y Cuero. Una celebración que contará con diferentes artesanos llegados de distintos puntos de la geografía española. Además\, la peña El Monín y el Club Deportivo San Felices se encargarán de las casetas de pinchos asados y bebidas a precios populares para todos los asistentes\, que estarán abiertas durante todo el evento. Asimismo\, la música será el eje central del sábado en el parque de San Agustín\, con el XIX Festival de Folclore. \n\nPrograma de la 36ª Feria del Mimbre\, Barro y Cuero\n\nJueves\, 12 de junio\n19:00 a 22:00 – Inauguración de la 36ª Feria del Mimbre\, Barro y Cuero y apertura de los puestos artesanales. \n19:30 a 23:00 – Casetas de pinchos a cargo de la Peña El Monín y el Club Deportivo San Felices. \nViernes\, 13 de junio\nDe 11:00 a 14:00 y de 18:00 a 22:00 – Apertura de las casetas de la 36ª Feria del Mimbre\, Barro y Cuero. \nDe 14:00 a 01:00 – Casetas de pinchos a cargo de la Peña El Monín y el Club Deportivo San Felices. \nSábado\, 14 de junio\nDe 11:00 a 14:00 y de 18:00 a 22:00 – Apertura de las casetas de la 36ª Feria del Mimbre\, Barro y Cuero. \nDe 11:00 a 01:00 – Casetas de pinchos a cargo de la Peña El Monín y el Club Deportivo San Felices. \n19:00 – XIX Festival de Folclore. \nDe 22:30 a 1:00 – Macro discomóvil con DJs. \nDomingo\, 15 de junio\nDe 11:00 a 14:00 y de 18:00 a 21:00 – Apertura de las casetas de la 36ª Feria del Mimbre\, Barro y Cuero. \nDe 11:00 a 21:00 – Casetas de pinchos a cargo de la Peña El Monín y el Club Deportivo San Felices.
URL:https://burgos.top/evento/feria-del-mimbre-barro-y-cuero-2025/
LOCATION:Parque de San Agustín\, Parque de San Agustín\, Burgos\, 09001
CATEGORIES:Ocio
ATTACH;FMTTYPE=image/webp:https://burgos.top/wp-content/uploads/2024/05/feria-del-mimbre-burgos.webp
END:VEVENT
BEGIN:VEVENT
DTSTART;TZID=Europe/Madrid:20250613T173000
DTEND;TZID=Europe/Madrid:20250613T200000
DTSTAMP:20260419T214848
CREATED:20251124T224730Z
LAST-MODIFIED:20251124T224757Z
UID:10001650-1749835800-1749844800@burgos.top
SUMMARY:EL FANTASMA DE LA ÓPERA en el Fórum
DESCRIPTION:Prepárense para ser hechizados por El Fantasma de la Ópera\, un espectáculo que ha cautivado a más de 160 millones de personas en todo el mundo. ¡Ahora\, esta producción espectacular llega al Fórum Evolución  Burgos en 2025 \n\n\n\n\n📅 Fechas: Del 12/06/2025 al 15/06/2025 \n\n📅 Junio 2025 – 12 (Jueves): 20:00 (Desde 39\,20€) 🎟️\n📅 Junio 2025 – 13 (Viernes): 17:30 (Desde 49\,00€) y 21:30 (Desde 39\,20€) 🎟️\n📅 Junio 2025 – 14 (Sábado): 17:00 y 21:00 (Desde 49\,00€) 🎟️\n📅 Junio 2025 – 15 (Domingo): 18:00 (Desde 49\,00€) 🎟️\n\n\n📍 Lugar: Fórum Evolución Burgos – Palacio de Congresos y Auditorio\, Paseo Sierra de Atapuerca\, 09002 Burgos \n\n\nComprar entradas\nUna Historia Inolvidable\nInspirado en la novela de Gaston Leroux\, este musical de Andrew Lloyd Webber nos transporta a la Ópera de París\, donde un misterioso enmascarado acecha entre las sombras. Su obsesión por la joven soprano Christine Daaé desata una trama de amor\, celos y misterio que los dejará sin aliento. \n¡Un Elenco de Estrellas!\n\nFantasma: Gerónimo Rauch (¡regresa al papel que lo consagró!)\nChristine Daaé: Talía del Val\nRaoul de Chagny: Guido Balzaretti\nAlternante Fantasma: Manu Pilas\nAlternante Christine: Judith Tobella\nCarlotta: Marta Pineda\nPiangi: Francisco Ortiz\nMonsieur André: Enrique R. del Portal\nMonsieur Firmin: Omar Calicchio\nMadame Giry: Silvia Luchetti\nMeg Giry: Laura Martín\nEnsemble: Fran León\, Robert González\n\n¿Por Qué No Te Lo Puedes Perder?\n\nUn Clásico Atemporal: El Fantasma de la Ópera es un fenómeno cultural que sigue emocionando a audiencias de todas las edades.\nMúsica Inolvidable: Disfruta de melodías icónicas como “La Música de la Noche” y “Piensa en Mí”.\nUna Producción Espectacular: Déjate sorprender por la escenografía\, el vestuario y los efectos especiales que hacen de este musical una experiencia única.\n\n🎭 Equipo Creativo\n\nInspirada en la novela de Gaston Leroux\nMúsica de Andrew Lloyd Webber\nUn espectáculo que ha cautivado a más de 160 millones de personas\n\n🎭 Sinopsis\nEn el corazón de la Ópera de París\, un misterioso enmascarado acecha en las sombras. Apasionado por la joven soprano Christine Daaé\, se dedica a cultivar su talento\, empleando métodos tortuosos para convertirla en una estrella. \n🎭 Elenco Destacado\nGerónimo Rauch: Un artista internacionalmente reconocido\, regresa al papel del Fantasma tras su aclamada interpretación en Londres y España. \nTalía del Val: Una joven y talentosa soprano que ha deslumbrado en musicales como Los Miserables y West Side Story.  \nGuido Balzaretti: Un actor argentino de renombre\, reconocido por sus papeles protagónicos en musicales como Los Miserables y West Side Story.
URL:https://burgos.top/evento/el-fantasma-de-la-opera-en-el-forum/2025-06-13/1/
LOCATION:Fórum Evolución Burgos\, P.º Sierra de Atapuerca\, S/N\, Burgos\, 09002
CATEGORIES:Musicales
ATTACH;FMTTYPE=image/webp:https://burgos.top/wp-content/uploads/2025/02/el-fantasma-de-la-opera-en-burgos.webp
END:VEVENT
BEGIN:VEVENT
DTSTART;TZID=Europe/Madrid:20250613T213000
DTEND;TZID=Europe/Madrid:20250613T213000
DTSTAMP:20260419T214848
CREATED:20251124T224729Z
LAST-MODIFIED:20251124T224756Z
UID:10000734-1749850200-1749850200@burgos.top
SUMMARY:Concierto de Leiva en Burgos con su Tour Gigante 2025
DESCRIPTION:¡Prepárate para una noche inolvidable! Leiva actuará en Burgos el viernes 13 de junio de 2025 como parte de su esperado Tour Gigante 2025. Este evento contará con solo 30 conciertos exclusivos en España\, y la cita en el exterior del Coliseum promete ser un espectáculo único. \nComprar entradas\nDetalles del Concierto\nLas entradas generales estarán disponibles a partir del miércoles 27 de noviembre a las 12:00h en leivaentradas.com y puntos de venta oficiales. Además\, los seguidores más fieles podrán acceder a una preventa exclusiva si se registran antes del lunes 25 de noviembre. \nLa gira coincide con el lanzamiento del nuevo álbum de Leiva\, “Gigante”\, que se espera para la primavera de 2025. Con temas como “Bajo presión” y “Gigante”\, el artista madrileño combina su característico rock en español con una nueva sensibilidad creativa. \nUn Regreso Esperado\nHan pasado casi diez años desde la última actuación de Leiva en Burgos\, y su regreso es motivo de celebración. La promotora burgalesa Evolución Tour ha trabajado arduamente para hacer posible este evento\, que se llevará a cabo en un espacio especialmente acondicionado entre el Coliseum y el Plantío. \nEste concierto será accesible para todos los fans que deseen disfrutar de la música en vivo de uno de los artistas más influyentes de España. \nNo te pierdas la oportunidad de vivir esta experiencia única. ¡Marca la fecha y prepárate para disfrutar de una noche mágica con Leiva!
URL:https://burgos.top/evento/concierto-de-leiva-en-burgos-con-su-tour-gigante-2025/
LOCATION:Espacio Exterior Coliseum\, C/ la Chopera\, 1\, Burgos\, 09006
CATEGORIES:Conciertos
ATTACH;FMTTYPE=image/webp:https://burgos.top/wp-content/uploads/2024/11/leiva-gigante-tour-en-burgos.webp
END:VEVENT
BEGIN:VEVENT
DTSTART;TZID=Europe/Madrid:20250613T213000
DTEND;TZID=Europe/Madrid:20250613T235900
DTSTAMP:20260419T214848
CREATED:20251124T224730Z
LAST-MODIFIED:20251124T224757Z
UID:10001651-1749850200-1749859140@burgos.top
SUMMARY:EL FANTASMA DE LA ÓPERA en el Fórum
DESCRIPTION:Prepárense para ser hechizados por El Fantasma de la Ópera\, un espectáculo que ha cautivado a más de 160 millones de personas en todo el mundo. ¡Ahora\, esta producción espectacular llega al Fórum Evolución  Burgos en 2025 \n\n\n\n\n📅 Fechas: Del 12/06/2025 al 15/06/2025 \n\n📅 Junio 2025 – 12 (Jueves): 20:00 (Desde 39\,20€) 🎟️\n📅 Junio 2025 – 13 (Viernes): 17:30 (Desde 49\,00€) y 21:30 (Desde 39\,20€) 🎟️\n📅 Junio 2025 – 14 (Sábado): 17:00 y 21:00 (Desde 49\,00€) 🎟️\n📅 Junio 2025 – 15 (Domingo): 18:00 (Desde 49\,00€) 🎟️\n\n\n📍 Lugar: Fórum Evolución Burgos – Palacio de Congresos y Auditorio\, Paseo Sierra de Atapuerca\, 09002 Burgos \n\n\nComprar entradas\nUna Historia Inolvidable\nInspirado en la novela de Gaston Leroux\, este musical de Andrew Lloyd Webber nos transporta a la Ópera de París\, donde un misterioso enmascarado acecha entre las sombras. Su obsesión por la joven soprano Christine Daaé desata una trama de amor\, celos y misterio que los dejará sin aliento. \n¡Un Elenco de Estrellas!\n\nFantasma: Gerónimo Rauch (¡regresa al papel que lo consagró!)\nChristine Daaé: Talía del Val\nRaoul de Chagny: Guido Balzaretti\nAlternante Fantasma: Manu Pilas\nAlternante Christine: Judith Tobella\nCarlotta: Marta Pineda\nPiangi: Francisco Ortiz\nMonsieur André: Enrique R. del Portal\nMonsieur Firmin: Omar Calicchio\nMadame Giry: Silvia Luchetti\nMeg Giry: Laura Martín\nEnsemble: Fran León\, Robert González\n\n¿Por Qué No Te Lo Puedes Perder?\n\nUn Clásico Atemporal: El Fantasma de la Ópera es un fenómeno cultural que sigue emocionando a audiencias de todas las edades.\nMúsica Inolvidable: Disfruta de melodías icónicas como “La Música de la Noche” y “Piensa en Mí”.\nUna Producción Espectacular: Déjate sorprender por la escenografía\, el vestuario y los efectos especiales que hacen de este musical una experiencia única.\n\n🎭 Equipo Creativo\n\nInspirada en la novela de Gaston Leroux\nMúsica de Andrew Lloyd Webber\nUn espectáculo que ha cautivado a más de 160 millones de personas\n\n🎭 Sinopsis\nEn el corazón de la Ópera de París\, un misterioso enmascarado acecha en las sombras. Apasionado por la joven soprano Christine Daaé\, se dedica a cultivar su talento\, empleando métodos tortuosos para convertirla en una estrella. \n🎭 Elenco Destacado\nGerónimo Rauch: Un artista internacionalmente reconocido\, regresa al papel del Fantasma tras su aclamada interpretación en Londres y España. \nTalía del Val: Una joven y talentosa soprano que ha deslumbrado en musicales como Los Miserables y West Side Story.  \nGuido Balzaretti: Un actor argentino de renombre\, reconocido por sus papeles protagónicos en musicales como Los Miserables y West Side Story.
URL:https://burgos.top/evento/el-fantasma-de-la-opera-en-el-forum/2025-06-13/2/
LOCATION:Fórum Evolución Burgos\, P.º Sierra de Atapuerca\, S/N\, Burgos\, 09002
CATEGORIES:Musicales
ATTACH;FMTTYPE=image/webp:https://burgos.top/wp-content/uploads/2025/02/el-fantasma-de-la-opera-en-burgos.webp
END:VEVENT
END:VCALENDAR