BEGIN:VCALENDAR
VERSION:2.0
PRODID:-//BurgosTop - ECPv6.7.0//NONSGML v1.0//EN
CALSCALE:GREGORIAN
METHOD:PUBLISH
X-ORIGINAL-URL:https://burgos.top
X-WR-CALDESC:Eventos para BurgosTop
REFRESH-INTERVAL;VALUE=DURATION:PT1H
X-Robots-Tag:noindex
X-PUBLISHED-TTL:PT1H
BEGIN:VTIMEZONE
TZID:Europe/Madrid
BEGIN:DAYLIGHT
TZOFFSETFROM:+0100
TZOFFSETTO:+0200
TZNAME:CEST
DTSTART:20250330T010000
END:DAYLIGHT
BEGIN:STANDARD
TZOFFSETFROM:+0200
TZOFFSETTO:+0100
TZNAME:CET
DTSTART:20251026T010000
END:STANDARD
END:VTIMEZONE
BEGIN:VEVENT
DTSTART;TZID=Europe/Madrid:20250607T203000
DTEND;TZID=Europe/Madrid:20250607T203000
DTSTAMP:20260419T215006
CREATED:20251124T224714Z
LAST-MODIFIED:20251124T224742Z
UID:10001928-1749328200-1749328200@burgos.top
SUMMARY:Concierto de GUILLTERM + SAGAN UMMO + FLEJES FLOJOS en la Ciudadela
DESCRIPTION:📍 Lugar: La Ciudadela\, Burgos📅 Fecha: Sábado\, 7 de junio de 2025⏰ Hora: 20:30h💰 Desde: 12\,00 € \n🎶 Una noche de música y energía en La CiudadelaTres bandas con estilos únicos se unen para ofrecer un concierto inolvidable en Burgos. GUILLTERM\, SAGAN UMMO y FLEJES FLOJOS prometen una noche cargada de potencia sonora y actitud. \nComprar entradas\n\nLos artistas\n\n🎸 GUILLTERM\nUn artista que rompe barreras con un estilo ecléctico que fusiona rock alternativo\, indie y un toque experimental. Con una puesta en escena intensa y letras que oscilan entre lo introspectivo y lo social\, GUILLTERM se ha consolidado en el panorama underground como un referente de la autenticidad sonora. \n🛸 SAGAN UMMO\nUna banda que parece llegada de otra galaxia. Con una estética inspirada en la ciencia ficción y un sonido que mezcla electrónica\, post-rock y psicodelia\, su propuesta es una experiencia tanto sonora como visual. Si te gustan los viajes sonoros envolventes con un punto de misterio\, este grupo es para ti. \n🥁 FLEJES FLOJOS\nCon un nombre que sugiere desenfado y actitud\, esta banda aporta un sonido fresco y contundente. Rock con toques de punk y garage\, riffs pegadizos y letras afiladas que combinan ironía y crítica social. FLEJES FLOJOS garantizan energía pura sobre el escenario.
URL:https://burgos.top/evento/concierto-de-guillterm-sagan-ummo-flejes-flojos-en-la-ciudadela/
LOCATION:Sala la Ciudadela\, Carr. del Castillo\, s/n\, Burgos\, 09003
CATEGORIES:Conciertos
ATTACH;FMTTYPE=image/webp:https://burgos.top/wp-content/uploads/2025/04/GUILLTERM.webp
END:VEVENT
BEGIN:VEVENT
DTSTART;TZID=Europe/Madrid:20250607T210000
DTEND;TZID=Europe/Madrid:20250607T210000
DTSTAMP:20260419T215006
CREATED:20251124T224713Z
LAST-MODIFIED:20251124T224741Z
UID:10000302-1749330000-1749330000@burgos.top
SUMMARY:Mentes Peligrosas
DESCRIPTION:De la aclamada escuela de la comedia nacional han surgido algunas de las mentes más afiladas\, originales\, creativas y\, sin duda\, ¡peligrosas! Tras vender más de 70\,000 entradas en su primer año\, Mentes Peligrosas regresa con un espectáculo completamente renovado\, listo para repetir matrícula de honor. \nUn Encuentro Único\nOlvídate de las típicas reuniones de antiguos alumnos: esta vez\, lo que nos une no es el pasado\, sino la necesidad de romper con todo y celebrar lo que realmente importa… ¡la risa! \nLo Que Puedes Esperar\nCon un nuevo show lleno de monólogos y gags frescos\, Mentes Peligrosas promete ser la mejor fiesta de la risa. Grandes figuras como Ana Morgade\, Leo Harlem\, Álex Clavero y JJ Vaquero se reunirán en el Fórum Evolución para bailar\, cenar\, beber y\, sobre todo\, reírnos como nunca antes. \nDetalles del Evento\n\nLugar: Fórum Evolución Burgos\nAuditorio: Paseo Sierra de Atapuerca\nPrecio: Desde 34\,00 €\nPúblico: Todos los públicos\n\nComprar entradas
URL:https://burgos.top/evento/mentes-peligrosas/
LOCATION:Fórum Evolución Burgos\, P.º Sierra de Atapuerca\, S/N\, Burgos\, 09002
CATEGORIES:Humor
ATTACH;FMTTYPE=image/webp:https://burgos.top/wp-content/uploads/2024/10/mentes-peligrosas-en-burgos-1.webp
END:VEVENT
BEGIN:VEVENT
DTSTART;TZID=Europe/Madrid:20250607T210000
DTEND;TZID=Europe/Madrid:20250607T210000
DTSTAMP:20260419T215006
CREATED:20251124T224714Z
LAST-MODIFIED:20251124T224742Z
UID:10001845-1749330000-1749330000@burgos.top
SUMMARY:Concierto de RIVAL SONS en Burgos 2025 | Andén 56
DESCRIPTION:📅 Fecha: Sábado 7 de junio de 2025⏰ Hora: 21:00h📍 Lugar: Andén 56\, Burgos🎟️ Entradas:  \nComprar entradas\nLa banda californiana regresa con su potente directo\n¡Rival Sons vuelve a Burgos! Tras arrasar en su última visita\, los californianos regresan al Andén 56 el 7 de junio de 2025 como parte de su Tour Europeo 2025. \nCon una carrera llena de éxitos\, Rival Sons ha redefinido el rock contemporáneo con álbumes como Pressure & Time (2011)\, Great Western Valkyrie (2014) y FERAL ROOTS (2019)\, este último con dos nominaciones a los GRAMMY®. Su éxito “Do Your Worst” alcanzó el número 1 en Rock Radio y acumula más de 60 millones de reproducciones. \nHan compartido escenario con Black Sabbath\, The Rolling Stones\, AC/DC\, Guns N’ Roses y Lenny Kravitz\, convirtiéndose en una de las bandas más trabajadoras del panorama actual\, con más de 250 conciertos al año y presencia en los mayores festivales de Europa y Norteamérica. \n💥 No te pierdas su explosivo directo en Burgos. Compra tu entrada antes de que se agoten.
URL:https://burgos.top/evento/concierto-de-rival-sons-en-burgos-2025-anden-56/
LOCATION:Sala Andén 56\, C. San Pedro y San Felices\, 56\, Burgos\, 09001
CATEGORIES:Conciertos
ATTACH;FMTTYPE=image/webp:https://burgos.top/wp-content/uploads/2025/03/rival-sons.webp
END:VEVENT
END:VCALENDAR