BEGIN:VCALENDAR
VERSION:2.0
PRODID:-//BurgosTop - ECPv6.7.0//NONSGML v1.0//EN
CALSCALE:GREGORIAN
METHOD:PUBLISH
X-WR-CALNAME:BurgosTop
X-ORIGINAL-URL:https://burgos.top
X-WR-CALDESC:Eventos para BurgosTop
REFRESH-INTERVAL;VALUE=DURATION:PT1H
X-Robots-Tag:noindex
X-PUBLISHED-TTL:PT1H
BEGIN:VTIMEZONE
TZID:Europe/Madrid
BEGIN:DAYLIGHT
TZOFFSETFROM:+0100
TZOFFSETTO:+0200
TZNAME:CEST
DTSTART:20250330T010000
END:DAYLIGHT
BEGIN:STANDARD
TZOFFSETFROM:+0200
TZOFFSETTO:+0100
TZNAME:CET
DTSTART:20251026T010000
END:STANDARD
END:VTIMEZONE
BEGIN:VEVENT
DTSTART;TZID=Europe/Madrid:20250601T123000
DTEND;TZID=Europe/Madrid:20250601T123000
DTSTAMP:20260419T201620
CREATED:20251124T224717Z
LAST-MODIFIED:20251124T224744Z
UID:10001925-1748781000-1748781000@burgos.top
SUMMARY:CABdesenlace – Una experiencia artística única
DESCRIPTION:📍 Lugar: CAB – Centro de Arte Caja de Burgos\, C/ Saldaña\, S/N📅 Fecha: Domingo\, 1 de junio de 2025⏰ Hora: 12:30 h🎟️ Precio: 5\,00 €👥 Público: Todos los públicos🎭 Disponibilidad: 60 plazas (Máximo 6 por compra) \nComprar entradas\n💡 Descripción\nSi crees que ya lo has visto todo en el CAB\, CABdesenlace te demostrará lo contrario. Un evento donde las exposiciones se transforman con danza\, música\, poesía y performance\, invitándote a observar el arte desde una nueva perspectiva.
URL:https://burgos.top/evento/cabdesenlace-una-experiencia-artistica-unica/
LOCATION:CAB Centro de Arte Caja de Burgos\, C. Saldaña\, S/N\,\, Burgos
CATEGORIES:Ocio
ATTACH;FMTTYPE=image/webp:https://burgos.top/wp-content/uploads/2025/03/mujer-baile.webp
END:VEVENT
BEGIN:VEVENT
DTSTART;TZID=Europe/Madrid:20250601T170000
DTEND;TZID=Europe/Madrid:20250601T170000
DTSTAMP:20260419T201620
CREATED:20251124T224716Z
LAST-MODIFIED:20251124T224744Z
UID:10001823-1748797200-1748797200@burgos.top
SUMMARY:La Isla de Maui - Tributo Musical a Vaiana
DESCRIPTION:📍 Cultural Caja de Burgos – Avda. de Cantabria\, 3📅 Domingo\, 1 de junio de 2025⏳ Duración: 90 minutos🎟 Precio: 18\,00 €👨‍👩‍👧 Edad recomendada: Todos los públicos \nComprar entradas\nEl Espectáculo\nLa Isla de Maui es un emocionante tributo musical inspirado en la exitosa película Vaiana. Con un espectáculo vibrante\, lleno de música y coloridos números de baile\, la compañía Onbeat transporta al público a un mundo de aventura y fantasía. \nLa historia sigue a la valiente Vaiana\, hija de un jefe navegante\, quien se embarca en un viaje épico para encontrar una isla legendaria y salvar a su pueblo. En su travesía\, contará con la ayuda del semidiós Maui\, enfrentando desafíos que pondrán a prueba su coraje y determinación. \n🌟 Un musical familiar lleno de magia\, risas y valiosas enseñanzas sobre el amor\, la identidad y la conexión con la naturaleza. \nLa Compañía\nOnbeat es una de las compañías teatrales más reconocidas en España dentro del mundo de los espectáculos musicales. Tras su éxito en la Gran Vía de Madrid\, se ha consolidado como una de las mejores productoras del país. \nCon una cuidada puesta en escena\, talento artístico y un gran despliegue técnico\, Onbeat ha logrado emocionar a miles de espectadores con producciones de alta calidad. La Isla de Maui marca un hito especial\, ya que es la primera vez que este tributo se presenta en España\, ofreciendo una oportunidad única para disfrutar de esta mágica historia en vivo.
URL:https://burgos.top/evento/la-isla-de-maui-tributo-musical-a-vaiana/
LOCATION:Cultural Caja de Burgos.\, Av. Cantabria\, 3\, Burgos\, 09006
CATEGORIES:Musicales,Niños
ATTACH;FMTTYPE=image/webp:https://burgos.top/wp-content/uploads/2025/02/tributo-musical-a-vaiana-la-isla-de-maui.webp
END:VEVENT
BEGIN:VEVENT
DTSTART;TZID=Europe/Madrid:20250601T190000
DTEND;TZID=Europe/Madrid:20250601T190000
DTSTAMP:20260419T201620
CREATED:20251124T224716Z
LAST-MODIFIED:20251124T224743Z
UID:10000211-1748804400-1748804400@burgos.top
SUMMARY:90´s LIVE and PHILHARMONIC FUSION
DESCRIPTION:Fórum Evolución Burgos: Concierto Único de los 90\nUbicación: Auditorio\, Paseo Sierra de Atapuerca\, Burgos\nPrecio: Desde 50\,00€\nPúblico: Todos los públicos \nDescripción del Espectáculo\n¡Prepárate para un espectáculo único y pionero! Este evento te ofrece la oportunidad de revivir los mejores temas “remember” de las discotecas de los maravillosos años 90\, ahora en formato en vivo. \nArtistas y Dirección\nLa orquesta sinfónica Philharmonic Fusion\, compuesta por más de 40 músicos\, se une a un DJ para crear una experiencia inolvidable. La dirección estará a cargo de Nikoleta Popova\, reconocida por su excelente trayectoria en la dirección orquestal.\nRepertorio \nDisfruta de clásicos como\nFree\nInsomnia\nIt Feels So Good\nEstos hits serán interpretados por talentosos artistas como Álex Aldea\, Sara Lapiedra\, Evelyn Ayala\, y Alizia Romero\, quienes ofrecerán una interpretación novedosa que te hará vibrar.\nNo te pierdas esta oportunidad de viajar al pasado con un show nunca antes visto. ¡Hazte con tu entrada y vive la magia de los 90! \n¿ Buscas entradas ?\nComprar entradas
URL:https://burgos.top/evento/90s-live-and-philharmonic-fusion/
LOCATION:Fórum Evolución Burgos\, P.º Sierra de Atapuerca\, S/N\, Burgos\, 09002
CATEGORIES:Conciertos
ATTACH;FMTTYPE=image/webp:https://burgos.top/wp-content/uploads/2024/10/90´s-LIVE-and-PHILHARMONIC-FUSION-en-burgos.webp
END:VEVENT
BEGIN:VEVENT
DTSTART;TZID=Europe/Madrid:20250601T200000
DTEND;TZID=Europe/Madrid:20250601T200000
DTSTAMP:20260419T201620
CREATED:20251124T224715Z
LAST-MODIFIED:20251124T224743Z
UID:10001828-1748808000-1748808000@burgos.top
SUMMARY:Una Ópera de Película: Un Viaje Musical Único en Burgos
DESCRIPTION:📍 Cultural Caja de Burgos (Avda. Cantabria\, 3)📅 Domingo\, 1 de junio de 2025🕘 Inicio: 20:00 h | Duración: 90 min.🎟️ Entradas: 20€ | Todos los públicos \nComprar entradas\nLa magia del cine y la ópera en un solo espectáculo\nLa Compañía Onbeat vuelve a sorprender con Una Ópera de Película\, un espectáculo innovador que fusiona ópera\, musical\, teatro y comedia. Una cuidada selección de grandes piezas líricas que han marcado la historia del cine se entrelazan en una puesta en escena sorprendente. \nGrandes clásicos con un giro cinematográfico\nDesde La Traviata y El Barbero de Sevilla hasta Los Miserables y El Fantasma de la Ópera\, el espectáculo reúne las mejores arias y canciones líricas que han sonado en Hollywood. Con un guion envolvente y una puesta en escena de gran nivel\, el público reconocerá cada melodía en un viaje nostálgico y emocionante. \n🎭 Un evento único en su género\, pensado para amantes de la ópera\, el cine y la música en vivo. ¡No te lo pierdas!
URL:https://burgos.top/evento/una-opera-de-pelicula-un-viaje-musical-unico-en-burgos/
LOCATION:Cultural Caja de Burgos.\, Av. Cantabria\, 3\, Burgos\, 09006
CATEGORIES:Musicales
ATTACH;FMTTYPE=image/webp:https://burgos.top/wp-content/uploads/2025/02/UNA-OPERA-DE-PELICULA-en-burgos.webp
END:VEVENT
END:VCALENDAR