BEGIN:VCALENDAR
VERSION:2.0
PRODID:-//BurgosTop - ECPv6.7.0//NONSGML v1.0//EN
CALSCALE:GREGORIAN
METHOD:PUBLISH
X-ORIGINAL-URL:https://burgos.top
X-WR-CALDESC:Eventos para BurgosTop
REFRESH-INTERVAL;VALUE=DURATION:PT1H
X-Robots-Tag:noindex
X-PUBLISHED-TTL:PT1H
BEGIN:VTIMEZONE
TZID:Europe/Madrid
BEGIN:DAYLIGHT
TZOFFSETFROM:+0100
TZOFFSETTO:+0200
TZNAME:CEST
DTSTART:20250330T010000
END:DAYLIGHT
BEGIN:STANDARD
TZOFFSETFROM:+0200
TZOFFSETTO:+0100
TZNAME:CET
DTSTART:20251026T010000
END:STANDARD
END:VTIMEZONE
BEGIN:VEVENT
DTSTART;TZID=Europe/Madrid:20250528T080000
DTEND;TZID=Europe/Madrid:20250528T210000
DTSTAMP:20260419T201758
CREATED:20251124T224720Z
LAST-MODIFIED:20251124T224747Z
UID:10001884-1748419200-1748466000@burgos.top
SUMMARY:49º Symposium de Cunicultura ASESCU
DESCRIPTION:📍 Ubicación: Fórum Evolución Burgos – Palacio de Congresos📅 Fecha: 28 y 29 de mayo de 2025💰 Tarifas Inscripción: Desde 100 € (socios\, no socios y estudiantes) LINK🍽️ Cena de gala: 50 € (opcional) \n🔬 Un encuentro clave para la cunicultura\nLa 49ª edición del Symposium de Cunicultura de ASESCU reunirá a técnicos\, investigadores y profesionales del sector en Burgos\, ofreciendo un espacio para la actualización de conocimientos sobre genética\, reproducción\, nutrición\, bienestar animal y patologías emergentes. \n🔹 Ponencias destacadas: Feromonas aplicadas a la cunicultura y enfermedades emergentes.🔹 Mesas redondas: Avances y retos en alojamientos cunícolas.🔹 Homenajes: Reconocimiento a Ceferino Torres.🔹 Actividades complementarias: Pausas café\, comidas de trabajo y cena de gala. \nUn evento imprescindible para el sector cunícola\, promovido por ASESCU y la Unión de Pequeños Agricultores. \n📜 Programa Completo\n📅 Miércoles\, 28 de mayo\n🕗 08:00 – 09:30 → Registro y recogida de documentación🕤 09:30 – 10:00 → Inauguración🕙 10:00 – 10:45 → Ponencia: Qué son las feromonas y cómo utilizarlas en cunicultura🎤 Ponente: Luis Ángel Quintela Arias (Universidad de Santiago de Compostela)👥 Modera: María Antonia Santacreu \n🕥 10:45 – 11:30 → Comunicaciones libres: Genética y reproducción👥 Modera: María Antonia Santacreu \n☕ 11:30 – 12:30 → Pausa café-temático \n🕧 12:30 – 12:45 → Comunicación HIPRA🕧 12:45 – 14:00 → Comunicaciones libres: Nutrición👥 Modera: Nuria Nicodemus \n🍽️ 14:00 – 15:30 → Comida de trabajo en Fórum Evolución \n🕞 15:30 – 16:45 → Comunicaciones libres: Alojamientos y bienestar👥 Modera: Arantxa Villagrá \n☕ 16:45 – 17:15 → Pausa café \n🕔 17:15 – 18:15 → Mesa Redonda: Avances y retos en los alojamientos cunícolas \n🎖️ 18:15 – 18:30 → Homenaje a Ceferino Torres🎤 Presenta: María Antonia Santacreu \n🌙 21:00 → Cena de gala en Silken Hotel \n📅 Jueves\, 29 de mayo\n🕘 09:00 – 10:00 → Asamblea de ASESCU \n🕙 10:00 – 10:45 → Comunicaciones libres: Calidad ambiental👥 Modera: María Cambra \n☕ 10:45 – 11:15 → Pausa café \n🕦 11:15 – 12:00 → Ponencia: Enfermedades emergentes y problemática tras la desmedicalización en cunicultura🎤 Ponente: Francesc Xavier Mora Igual👥 Modera: Javier González \n🕛 12:00 – 13:45 → Comunicaciones libres: Patología👥 Modera: Javier González \n🎤 13:45 → Clausura del Symposium \n🎟 Tarifas de Inscripción\n💳 Hasta el 11 de mayo🔹 Socios ASESCU → 140 €🔹 No socios ASESCU → 190 €🔹 Estudiantes (universitarios con justificación) → 100 €🔹 Cena de Gala → 50 € \n💳 A partir del 12 de mayo🔹 Socios ASESCU → 190 €🔹 No socios ASESCU → 220 €🔹 Estudiantes → 130 € \n🎓 Descuentos para estudiantes que se den de alta como socios:🔹 Alta Socio ASESCU 1 año + Inscripción → 157 €🔹 Alta Cuota Online 1 año + Inscripción → 135 € \n🔹 Incluye: Acceso a sesiones\, libro de actas\, certificado\, café\, comida de trabajo y bolsa portadocumentos.
URL:https://burgos.top/evento/49o-symposium-de-cunicultura-asescu/2025-05-28/
LOCATION:Fórum Evolución Burgos\, P.º Sierra de Atapuerca\, S/N\, Burgos\, 09002
CATEGORIES:Ciencia
ATTACH;FMTTYPE=image/webp:https://burgos.top/wp-content/uploads/2025/03/49-SYMPOSIUM-DE-CUNICULTURA.webp
END:VEVENT
BEGIN:VEVENT
DTSTART;TZID=Europe/Madrid:20250528T160000
DTEND;TZID=Europe/Madrid:20250528T200000
DTSTAMP:20260419T201758
CREATED:20251124T224719Z
LAST-MODIFIED:20251124T224746Z
UID:10001873-1748448000-1748462400@burgos.top
SUMMARY:II Congreso Internacional de Experiencias Educativas STEAM
DESCRIPTION:Reimaginando el aprendizaje para un mundo en cambio\n🌟 Presentación\nEl Congreso Internacional de Experiencias Educativas STEAM es un espacio de intercambio y sinergia dirigido a profesionales de la educación\, investigadores e instituciones de todas las etapas educativas. Su objetivo es fomentar la reflexión\, el aprendizaje y la creación de redes de colaboración en el campo de la educación STEAM. \n📝 Datos del Congreso\n\nFecha: Del 28 al 31 de mayo de 2025\nModalidad: Mixta (presencial y online)\nUbicación presencial: La Estación de la Ciencia y la Tecnología\, C/ Dr. José Luis Santamaría s/n\, 09001 Burgos\nInscripción gratuita: Financiada por la organización y entidades colaboradoras\nPlazo de inscripción:\n\nCon comunicación: Hasta el 24 de abril\nSin comunicación (oyente): Hasta el 19 de mayo\nInscripción\n\n\n\n🎓 Temáticas del Congreso\n\nEstrategias didácticas innovadoras para la enseñanza STEAM.\nExperiencias educativas STEAM en Infantil\, Primaria\, Secundaria y Universidad.\nFormación y desarrollo profesional docente en educación STEAM.\n\n👩‍🏫 Dirigido a\n\nProfesionales de la educación en todas las etapas educativas.\nInstituciones y personas interesadas en el aprendizaje STEAM.\nInvestigadores y docentes en formación.\n\n⏰ Fechas de Interés\n\nCelebración del Congreso:\n\n28\, 29 y 30 de mayo: 16:00 – 20:00\n31 de mayo: 10:00 – 14:00\n\n\nInscripción sin comunicación (oyente): Hasta el 19 de mayo.\nInscripción con comunicación: Hasta el 24 de abril.\nEntrega de comunicación escrita: Hasta el 28 de abril.\n\n💼 Modalidades de Inscripción\n🔹 Sin comunicación (Oyente)\n\nAcceso al Congreso como asistente.\nCertificado de asistencia para los presenciales con al menos un 75% de participación.\nNo se certifica la asistencia online.\n\n🔹 Con comunicación (Presencial o Virtual)\n\nInscripción con presentación de ponencia.\nEvaluación por el Comité Científico (respuesta en 10 días).\nPublicación en libro digital con ISBN de la Universidad de Burgos.\nEmisión de certificados de participación como ponente.\n\n📑 Inscripción\nPara inscribirse: \n\nCrear cuenta en la web de La Estación de la Ciencia y la Tecnología de Burgos.\nElegir modalidad de inscripción y añadir al carrito:\n\nSin comunicación / Oyente\nComunicación presencial\nComunicación virtual\n\n\nCompletar la información solicitada.\n\n🌟 Comités\nComité Honorífico\n\nPresidente de Honor: D. José Miguel García Pérez (Rector de la Universidad de Burgos).\n\nComité Organizador\n\nDña. María Diez Ojeda (Universidad de Burgos\, España).\nD. Miguel Ángel Queiruga Dios (Universidad de Burgos\, España).\nOtros miembros destacados.\n\nComité Científico\n\nVerónica Tricio Gómez (Universidad de Burgos\, España).\nBenito Vázquez Dorrío (Universidad de Vigo\, España).\nSusana Esther Jorge Villar (Universidad de Burgos\, España).\n\n 
URL:https://burgos.top/evento/ii-congreso-internacional-de-experiencias-educativas-steam/2025-05-28/
LOCATION:La Estación de la Ciencia y la Tecnología\, C. Dr. José Luis Santamaría\, Burgos\, 09001
CATEGORIES:Ciencia
ATTACH;FMTTYPE=image/webp:https://burgos.top/wp-content/uploads/2025/03/congresoSTEAM-2025.webp
END:VEVENT
END:VCALENDAR