BEGIN:VCALENDAR
VERSION:2.0
PRODID:-//BurgosTop - ECPv6.7.0//NONSGML v1.0//EN
CALSCALE:GREGORIAN
METHOD:PUBLISH
X-ORIGINAL-URL:https://burgos.top
X-WR-CALDESC:Eventos para BurgosTop
REFRESH-INTERVAL;VALUE=DURATION:PT1H
X-Robots-Tag:noindex
X-PUBLISHED-TTL:PT1H
BEGIN:VTIMEZONE
TZID:Europe/Madrid
BEGIN:DAYLIGHT
TZOFFSETFROM:+0100
TZOFFSETTO:+0200
TZNAME:CEST
DTSTART:20250330T010000
END:DAYLIGHT
BEGIN:STANDARD
TZOFFSETFROM:+0200
TZOFFSETTO:+0100
TZNAME:CET
DTSTART:20251026T010000
END:STANDARD
END:VTIMEZONE
BEGIN:VEVENT
DTSTART;TZID=Europe/Madrid:20250523T193000
DTEND;TZID=Europe/Madrid:20250523T193000
DTSTAMP:20260419T201901
CREATED:20251124T224723Z
LAST-MODIFIED:20251124T224750Z
UID:10001934-1748028600-1748028600@burgos.top
SUMMARY:Concierto de The Fuzzy for Her
DESCRIPTION:🎸 The Fuzzy for Her📅 Fecha: Viernes\, 23 de mayo de 2025🕢 Hora: 19:30 horas📍 Lugar: Salón de actos Plaza España\, Fundación Círculo (Plaza España\, 3)🎟️ Entradas:💻 Online: 5€ (gastos de gestión incluidos)🏢 Taquilla: 7€ (disponible en la sede de Fundación Círculo\, Plaza España\, 3\, de lunes a viernes\, de 9:00 a 14:00 horas) \nComprar entradas\n🎶 The Fuzzy for Her\nEl viernes 23 de mayo\, disfruta del enérgico y vibrante espectáculo de The Fuzzy for Her\, una banda burgalesa liderada por Raúl Ausucua. Este grupo promete cautivar al público con su propuesta de rock and roll clásico\, que incorpora ritmos de los años 60 y una dosis de psicodelia que añade un toque único a su sonido. Su música\, influenciada por el rock sesentero\, destaca por sus guitarras envolventes y su capacidad para evocar la nostalgia de épocas pasadas mientras mantiene una frescura personal. \nNo te pierdas esta cita con el mejor rock retro\, reinventado por The Fuzzy for Her\, en el Salón de Actos Plaza España. ¡Un evento que te hará viajar al pasado con cada acorde!
URL:https://burgos.top/evento/concierto-de-the-fuzzy-for-her/
LOCATION:Salón Actos Plaza España\, Pza. de España\, 3\, Burgos\, 09005
CATEGORIES:Conciertos
ATTACH;FMTTYPE=image/webp:https://burgos.top/wp-content/uploads/2025/04/The-Fuzzy-for-Her.webp
END:VEVENT
BEGIN:VEVENT
DTSTART;TZID=Europe/Madrid:20250523T210000
DTEND;TZID=Europe/Madrid:20250523T210000
DTSTAMP:20260419T201901
CREATED:20251124T224722Z
LAST-MODIFIED:20251124T224749Z
UID:10000144-1748034000-1748034000@burgos.top
SUMMARY:Apocalípticamente correcto: el nuevo show de Luis Piedrahita en Burgos
DESCRIPTION:El viernes 23 de mayo del 2025 a las 21:00 horas\, el Auditorio del Fórum Evolución Burgos acoge el estreno de “Apocalípticamente correcto”\, el nuevo monólogo de Luis Piedrahita. En este espectáculo\, el humorista analiza con ingenio y humor el concepto de libertad\, cuestionando los sinsentidos y contradicciones de nuestra vida cotidiana. \nPiedrahita investiga si realmente somos libres o si nuestro destino está escrito de antemano. Con ironía\, examina temas como el horóscopo\, las autocaravanas camperizadas y algunas “verdades” asumidas por la sociedad\, como la existencia de las anguilas eléctricas o los tornados.”Apocalípticamente correcto” es un show que busca hacer reflexionar al público sobre la libertad\, pero sin perder el humor característico de Luis Piedrahita. Entradas disponibles desde 20€.No te pierdas este nuevo espectáculo de uno de los humoristas más ingeniosos del panorama actual. ¡Reserva ya tu entrada para disfrutar de “Apocalípticamente correcto” en el Fórum Evolución Burgos! \nComprar entradas
URL:https://burgos.top/evento/apocalipticamente-correcto-el-nuevo-show-de-luis-piedrahita-en-burgos/
LOCATION:Fórum Evolución Burgos\, P.º Sierra de Atapuerca\, S/N\, Burgos\, 09002
CATEGORIES:Humor
ATTACH;FMTTYPE=image/webp:https://burgos.top/wp-content/uploads/2024/06/Apocalipticamente-correcto-el-nuevo-show-de-Luis-Piedrahita-en-burgos.webp
END:VEVENT
BEGIN:VEVENT
DTSTART;TZID=Europe/Madrid:20250523T210000
DTEND;TZID=Europe/Madrid:20250523T210000
DTSTAMP:20260419T201901
CREATED:20251124T224723Z
LAST-MODIFIED:20251124T224750Z
UID:10001519-1748034000-1748034000@burgos.top
SUMMARY:Concierto de David Durán: Nubes de Verano en el Sótano Cutural
DESCRIPTION:📅 Fecha: 23 de mayo de 2025\n⏰ Hora: 21:00\n📍 Lugar: El Sótano Cultural\, Burgos \nUn Viaje Musical a Través de las Historias\nDavid Durán\, conocido como “El Muchacho de la Gorra”\, llega con su cuarto trabajo discográfico “Nubes de Verano”\, grabado en los estudios de Mario Raya durante los primeros meses de 2024. \nUn Artista\, Mil Historias: \n\nEscritor callejero de libretas\nCompositor desde los 10 años\nPrimer concierto en 1996 en Mikelazulo\n\nUn Recorrido por su Trayectoria\nUn concierto único donde David repasará: \n\nTemas de su nuevo álbum\nCanciones más representativas de su carrera\nHistorias y melodías que definen su estilo único\n\nPrepárate para una noche de música intimista y poética con uno de los cantautores más auténticos del panorama actual.
URL:https://burgos.top/evento/concierto-de-david-duran-nubes-de-verano-en-el-sotano-cutural/
LOCATION:El Sótano Café Cultural\, C. Farmacéutico Obdulio Fernández\, 38\, Burgos\, 09006
CATEGORIES:Conciertos
ATTACH;FMTTYPE=image/webp:https://burgos.top/wp-content/uploads/2025/01/David-Duran-Nubes-de-Verano-en-burgos.webp
END:VEVENT
END:VCALENDAR