BEGIN:VCALENDAR
VERSION:2.0
PRODID:-//BurgosTop - ECPv6.7.0//NONSGML v1.0//EN
CALSCALE:GREGORIAN
METHOD:PUBLISH
X-ORIGINAL-URL:https://burgos.top
X-WR-CALDESC:Eventos para BurgosTop
REFRESH-INTERVAL;VALUE=DURATION:PT1H
X-Robots-Tag:noindex
X-PUBLISHED-TTL:PT1H
BEGIN:VTIMEZONE
TZID:Europe/Madrid
BEGIN:DAYLIGHT
TZOFFSETFROM:+0100
TZOFFSETTO:+0200
TZNAME:CEST
DTSTART:20250330T010000
END:DAYLIGHT
BEGIN:STANDARD
TZOFFSETFROM:+0200
TZOFFSETTO:+0100
TZNAME:CET
DTSTART:20251026T010000
END:STANDARD
END:VTIMEZONE
BEGIN:VEVENT
DTSTART;TZID=Europe/Madrid:20250517T130000
DTEND;TZID=Europe/Madrid:20250517T130000
DTSTAMP:20260419T201743
CREATED:20251124T224727Z
LAST-MODIFIED:20251124T224754Z
UID:10001506-1747486800-1747486800@burgos.top
SUMMARY:Luna Club en Concierto
DESCRIPTION:🎵 Fecha: 17 de mayo de 2025\n⏰ Hora: 13:00\n📍 Lugar: Carabás\, Burgos\n💰 Entrada: Gratuita \nLuna Club llega para cerrar el ciclo Música Viva con su propuesta de indie electrónico con toques experimentales. \nSobre Luna Club\n\nFormación integrada por veteranos de la escena musical local\nDebut en 2024 con los singles ‘Serotonina’ y ‘Cuerpos de cristal’\nEstilo: Indie electrónico experimental\n\nUn grupo que promete sorprender con su sonido innovador y fresco. No te pierdas la oportunidad de descubrir a esta prometedora banda burgalesa.¡El broche final de Música Viva te espera!
URL:https://burgos.top/evento/luna-club-en-concierto/
LOCATION:Carabás\, C. del Carmen\, 2\, Burgos\, 09001
CATEGORIES:Conciertos
ATTACH;FMTTYPE=image/webp:https://burgos.top/wp-content/uploads/2025/01/Luna-Club.webp
END:VEVENT
BEGIN:VEVENT
DTSTART;TZID=Europe/Madrid:20250517T173000
DTEND;TZID=Europe/Madrid:20250517T173000
DTSTAMP:20260419T201743
CREATED:20251124T224727Z
LAST-MODIFIED:20251124T224754Z
UID:10001729-1747503000-1747503000@burgos.top
SUMMARY:JUEVES Y FAMILIA: UNA PARODIA MUSICAL TERRORÍFICA
DESCRIPTION:📍 Lugar: Cultural Cordón (Plaza de la Libertad\, S/N)📅 Fecha: Sábado\, 17 de mayo de 2025 – 17:30 h🎟 Precio: 18 € (+ comisión de venta por internet)👥 Público: Para todas las edades \nComprar entradas\n🎶 Una Parodia Musical para Toda la Familia\nLa compañía Onbeat rinde homenaje a una de las sagas más icónicas del teatro y la televisión con un espectáculo innovador\, repleto de humor y música en vivo. La historia sigue a Nieves\, una joven obsesionada con la Familia Addams\, que adopta el nombre de Jueves y vive situaciones cómicamente escalofriantes mientras intenta parecerse a su personaje favorito. \n😂 Terror y Risas en una Aventura Única\nSus padres\, igualmente fascinados por los Addams\, intentan imitarlos sin mucho éxito\, dando lugar a escenas hilarantes. La directora del instituto\, preocupada por el comportamiento de Nieves\, decide intervenir\, pero la verdadera magia del espectáculo ocurre cuando la música se convierte en el motor de la historia\, creando un ambiente envolvente y divertido para toda la familia. \n🎭 ¡No te pierdas esta comedia musical llena de sustos\, risas y diversión!
URL:https://burgos.top/evento/jueves-y-familia-una-parodia-musical-terrorifica/
LOCATION:Cultural Cordón\, Plaza de la Libertad s/n\, Burgos\, 09004
CATEGORIES:Musicales,Niños
ATTACH;FMTTYPE=image/webp:https://burgos.top/wp-content/uploads/2025/02/jueves-y-familia-en-burgos.webp
END:VEVENT
BEGIN:VEVENT
DTSTART;TZID=Europe/Madrid:20250517T180000
DTEND;TZID=Europe/Madrid:20250517T180000
DTSTAMP:20260419T201743
CREATED:20251124T224726Z
LAST-MODIFIED:20251124T224753Z
UID:10000516-1747504800-1747504800@burgos.top
SUMMARY:EL MONAGUILLO - Efectiviwonder
DESCRIPTION:Género: Humor\nPúblico: Todos los públicos\nLugar: Fórum Evolución Burgos\, Auditorio\nDirección: Paseo Sierra de Atapuerca\nPrecio: Desde 22\,00€ \nDescripción del Espectáculo\n“Efectiviwonder” es un hilarante viaje a través de la infancia de El Monaguillo\, explorando las diferencias entre el ayer y el hoy. Con su característico humor\, nos recuerda que\, aunque ahora nos digan lo contrario\, “nosotros no estábamos diagnosticados”. \nHighlights del Show:\n\nComparaciones divertidas entre la diversión de antes (tirarse piedras) y la de ahora (TikTok).\nAnécdotas sobre comunicación con vasos de plástico e hilo.\nHistorias sobre madres con “el cielo ganado a su nombre”.\nReferencias cómicas a clásicos como “El Exorcista”.\n\nComo diría la juventud actual: “Vente a verme bro\, que este espectáculo te renta y lo vas a pasar pirata”. ¡No te pierdas esta oportunidad de reír y recordar con El Monaguillo en un show que promete ser inolvidable!
URL:https://burgos.top/evento/el-monaguillo-efectiviwonder/
LOCATION:Fórum Evolución Burgos\, P.º Sierra de Atapuerca\, S/N\, Burgos\, 09002
CATEGORIES:Humor
ATTACH;FMTTYPE=image/webp:https://burgos.top/wp-content/uploads/2024/10/efectiviwonder-el-monaguillo-en-burgos-1.webp
END:VEVENT
BEGIN:VEVENT
DTSTART;TZID=Europe/Madrid:20250517T193000
DTEND;TZID=Europe/Madrid:20250517T193000
DTSTAMP:20260419T201743
CREATED:20251124T224726Z
LAST-MODIFIED:20251124T224753Z
UID:10001730-1747510200-1747510200@burgos.top
SUMMARY:TEATRO DE LOS RETOS: UNA AVENTURA INTERACTIVA
DESCRIPTION:📍 Lugar: Cultural Cordón (Plaza de la Libertad\, S/N)📅 Fecha: Sábado\, 17 de mayo de 2025 – 19:30 h🎟 Precio: 15 € (+ comisión de venta por internet)👥 Público: Para todas las edades \nComprar entradas\n🎭 El Primer Teatro Familiar Interactivo\nEl Teatro de los Retos revoluciona la escena infantil con un espectáculo donde el público es el protagonista. Inspirado en programas como La Casa de los Retos\, la historia lleva a los espectadores a un viaje único a través de la imaginación\, donde deberán tomar decisiones en tiempo real con una aplicación móvil y superar divertidos desafíos. \n🌍 Un Viaje al Planeta Imaginus\nTodo comienza cuando la máquina central de los Retos deja de funcionar\, poniendo en peligro la imaginación de los niños. El profesor Neutrón descubre que la clave no es la máquina\, sino la falta de creatividad debido al abuso de la tecnología. \nPara restaurar la imaginación\, los espectadores viajarán al planeta Imaginus\, donde recorrerán mundos mágicos como: \n🧁 Los Swenees: donde se crean los dulces más deliciosos.🦸 Los Máximus: la gran fábrica de superhéroes.😂 La Cueva de los Risis: origen de todas las risas y diversiones.🚪 La Puerta Onirius: el desafío final donde el público decidirá el destino de la historia. \nLa interacción será clave\, con palmas\, saltos\, gritos y hasta una app en tiempo real que permitirá a los asistentes influir en la trama. ¡Cada función será única! \n🎭 ¡No te pierdas esta aventura teatral donde la imaginación cobra vida!
URL:https://burgos.top/evento/teatro-de-los-retos-una-aventura-interactiva/
LOCATION:Cultural Cordón\, Plaza de la Libertad s/n\, Burgos\, 09004
CATEGORIES:Niños,Teatro
ATTACH;FMTTYPE=image/webp:https://burgos.top/wp-content/uploads/2025/02/TEATRO-DE-LOS-RETOS-UNA-AVENTURA-INTERACTIVA-en-burgos.webp
END:VEVENT
BEGIN:VEVENT
DTSTART;TZID=Europe/Madrid:20250517T200000
DTEND;TZID=Europe/Madrid:20250517T200000
DTSTAMP:20260419T201743
CREATED:20251124T224725Z
LAST-MODIFIED:20251124T224752Z
UID:10001002-1747512000-1747512000@burgos.top
SUMMARY:METAL SOULS FEST
DESCRIPTION:El METAL SOULS FEST se celebrará el sábado 17 de mayo en la Sala Andén 56 de Burgos\, marcando su primera edición. Este festival promete un cartel excepcional\, organizado por Steel Souls Producciones\, que reunirá a destacadas bandas del panorama nacional. \nComprar entradas\nArtistas Destacados\n\nAvalanch: La legendaria banda de heavy metal regresará a Burgos tras más de una década\, celebrando su 30 aniversario con un concierto especial. Con más de 15 discos en su trayectoria\, Avalanch es conocida por su potente estilo y letras profundas\, y este show promete un recorrido por sus grandes éxitos.\nArgion: Banda asturiana de power metal\, reconocida en la escena musical por su energía y melodías cautivadoras.\nXeria: Procedente de Valladolid\, esta banda de metal melódico ha estado ganando popularidad desde su formación en 2017\, ofreciendo un sonido fresco y potente.\nEmbersland: Desde Barcelona\, esta banda de power metal progresivo aportará su estilo innovador al festival.\n\nLos asistentes podrán disfrutar de un evento único lleno de música y energía. Además\, hay una oferta especial para las primeras 50 entradas a solo 19€\, disponibles exclusivamente a través de Wegow.
URL:https://burgos.top/evento/metal-souls-fest/
LOCATION:Sala Andén 56\, C. San Pedro y San Felices\, 56\, Burgos\, 09001
CATEGORIES:Conciertos,Festivales
ATTACH;FMTTYPE=image/webp:https://burgos.top/wp-content/uploads/2024/12/METAL-SOULS-FEST.webp
END:VEVENT
END:VCALENDAR