BEGIN:VCALENDAR
VERSION:2.0
PRODID:-//BurgosTop - ECPv6.7.0//NONSGML v1.0//EN
CALSCALE:GREGORIAN
METHOD:PUBLISH
X-WR-CALNAME:BurgosTop
X-ORIGINAL-URL:https://burgos.top
X-WR-CALDESC:Eventos para BurgosTop
REFRESH-INTERVAL;VALUE=DURATION:PT1H
X-Robots-Tag:noindex
X-PUBLISHED-TTL:PT1H
BEGIN:VTIMEZONE
TZID:Europe/Madrid
BEGIN:DAYLIGHT
TZOFFSETFROM:+0100
TZOFFSETTO:+0200
TZNAME:CEST
DTSTART:20250330T010000
END:DAYLIGHT
BEGIN:STANDARD
TZOFFSETFROM:+0200
TZOFFSETTO:+0100
TZNAME:CET
DTSTART:20251026T010000
END:STANDARD
END:VTIMEZONE
BEGIN:VEVENT
DTSTART;TZID=Europe/Madrid:20250510T200000
DTEND;TZID=Europe/Madrid:20250510T200000
DTSTAMP:20260419T201726
CREATED:20251124T224703Z
LAST-MODIFIED:20251124T224731Z
UID:10000977-1746907200-1746907200@burgos.top
SUMMARY:DUAL: Un Viaje Flamenco con Mercedes Ruiz y Santiago Lara
DESCRIPTION:Fecha: Sábado\, 10 de mayo de 2025. 20:00 h\nPrecio: 20\,00 €\nPúblico: Todos los públicos\n\nComprar entradas\nDescripción\n“DUAL” es un espectáculo flamenco excepcional que presenta a dos maestros del arte: Mercedes Ruiz y Santiago Lara. Juntos\, combinan sus talentos y visiones del flamenco para crear una obra íntima y rica en expresividad. Este espectáculo destaca por su simplicidad\, con solo guitarra y baile\, donde ambos artistas dan lo mejor de sí mismos en una perfecta complicidad forjada a lo largo de casi 25 años de carrera y vida juntos. \nCaracterísticas del Espectáculo\n\nEstilo Flamenco: Un viaje a través de diferentes estilos del flamenco\, mostrando la evolución de la tradición.\nTributo a la Guitarra Flamenca: Incluye interpretaciones emblemáticas como la primera Rondeña de Ramón Montoya y una impactante seguiriya del maestro Manuel Morao\, quien abrió las puertas de Broadway a Mercedes Ruiz desde muy joven.\nArte Desnudo: La esencia del flamenco se presenta en su forma más pura\, permitiendo al público disfrutar de la música y la coreografía sin distracciones.\n\nSobre los Artistas\nMercedes Ruiz\, originaria de Jerez de la Frontera\, es reconocida como una de las máximas exponentes del flamenco contemporáneo. Desde su debut a los seis años con Manuel Morao\, ha trabajado con diversas compañías y ha creado su propia trayectoria como solista. Su enfoque innovador ha sido aclamado internacionalmente\, llevando su arte a prestigiosos escenarios alrededor del mundo. \nSantiago Lara\, un virtuoso guitarrista flamenco\, ha acompañado a Mercedes en numerosas giras y proyectos. Su habilidad para fusionar la tradición con nuevas influencias ha sido fundamental para el éxito de “DUAL”. \nContexto Cultural\nEl flamenco es más que un estilo musical; es una expresión cultural profundamente arraigada en la historia española. La obra “DUAL” no solo celebra esta rica tradición\, sino que también representa una evolución hacia nuevas formas artísticas que mantienen viva la esencia del flamenco.
URL:https://burgos.top/evento/dual-un-viaje-flamenco-con-mercedes-ruiz-y-santiago-lara/
LOCATION:Cultural Cordón\, Plaza de la Libertad s/n\, Burgos\, 09004
CATEGORIES:Ocio
ATTACH;FMTTYPE=image/webp:https://burgos.top/wp-content/uploads/2024/12/DUAL-Un-Viaje-Flamenco-con-Mercedes-Ruiz-y-Santiago-en-burgos.webp
END:VEVENT
BEGIN:VEVENT
DTSTART;TZID=Europe/Madrid:20250510T201500
DTEND;TZID=Europe/Madrid:20250510T201500
DTSTAMP:20260419T201726
CREATED:20251124T224702Z
LAST-MODIFIED:20251124T224730Z
UID:10001550-1746908100-1746908100@burgos.top
SUMMARY:El vuelo de las palomas
DESCRIPTION:📅 Fecha y hora: Sábado\, 10 de mayo de 2025\, a las 20:15 h\n📍 Lugar: Casa de Cultura de Gamonal\, Calle Pablo Ruiz Picasso\, s/n\n🎭 Espectáculo: El vuelo de las palomas\, de José Luis Alonso de Santos\n🎟 Entrada: 5 €\n👥 Público: Jóvenes y adultos\n🎫 Máximo por compra: 6 entradas \nComprar entradas\nDescripción del evento\nLa compañía Segundo Acto Teatro presenta esta divertida comedia del aclamado dramaturgo vallisoletano José Luis Alonso de Santos. La historia sigue a dos amigas cuya vida da un giro inesperado con la llegada de un hombre ruso\, realquilado en el piso de una de ellas. Situaciones absurdas\, ingeniosos juegos de palabras y momentos de humor visual hacen de este montaje una experiencia ágil\, cómica y memorable.
URL:https://burgos.top/evento/el-vuelo-de-las-palomas/
LOCATION:Casa Cultura de Gamonal\, C. Pablo Ruiz Picasso\, s/n\, Burgos\, 09007
CATEGORIES:Teatro
ATTACH;FMTTYPE=image/webp:https://burgos.top/wp-content/uploads/2025/01/el-vuelo-de-las-palomas-en-burgos.webp
END:VEVENT
BEGIN:VEVENT
DTSTART;TZID=Europe/Madrid:20250510T203000
DTEND;TZID=Europe/Madrid:20250510T203000
DTSTAMP:20260419T201726
CREATED:20251124T224702Z
LAST-MODIFIED:20251124T224730Z
UID:10000145-1746909000-1746909000@burgos.top
SUMMARY:DAVID CEPO - No cruces los brazos - en Burgos
DESCRIPTION:DAVID CEPO presenta “No cruces los brazos” en Burgos\nEl sábado 10 de mayo a las 20:30 horas\, el humorista David Cepo llega al escenario del Teatro Principal de Burgos para presentar su nuevo espectáculo “No cruces los brazos”. Prepárate para disfrutar de una noche llena de carcajadas con uno de los cómicos más virales del momento. \nLa nueva sensación de las redes sociales\nDavid Cepo se ha convertido en un fenómeno en las redes gracias a su humor espontáneo y cercano. Sus vídeos se han viralizado rápidamente\, ganándose el cariño de miles de seguidores que ahora podrán disfrutar de su talento en directo. \nUn show donde tú eres el protagonista\nEn “No cruces los brazos”\, David Cepo te hará sentir parte del espectáculo con su particular estilo. Su complicidad con el público es una de las claves del éxito de este cómico nato que promete hacerte reír como nunca. \n¡No te lo puedes perder!\nSi quieres vivir una experiencia única y disfrutar de un show cargado de humor\, no lo dudes: ¡ven a ver a David Cepo! Déjate llevar por su energía y prepárate para explotar de la risa.¿A qué esperas? Reserva ya tus entradas para “No cruces los brazos” y disfruta de una noche inolvidable en compañía de uno de los cómicos más divertidos del momento. ¡Te esperamos! \nComprar entradas
URL:https://burgos.top/evento/david-cepo-no-cruces-los-brazos-en-burgos/
LOCATION:Teatro Principal\, Pl. Mío Cid\, Burgos\, 09003
CATEGORIES:Humor
ATTACH;FMTTYPE=image/webp:https://burgos.top/wp-content/uploads/2024/06/DAVID-CEPO-–-No-cruces-los-brazos-–-en-Burgos.webp
END:VEVENT
BEGIN:VEVENT
DTSTART;TZID=Europe/Madrid:20250510T235900
DTEND;TZID=Europe/Madrid:20250510T235900
DTSTAMP:20260419T201726
CREATED:20251124T224701Z
LAST-MODIFIED:20251124T224729Z
UID:10001880-1746921540-1746921540@burgos.top
SUMMARY:Molan los 90 Mayo 2025 en Sala Andén 56
DESCRIPTION:📅 Fecha: Sábado\, 10 de mayo de 2025\n⏰ Hora: 23:59 h\n📍 Lugar: Sala Andén 56\, Calle San Pedro y San Felices\, 56\, Burgos\n🎟️ Entradas anticipadas: Desde 13\,00 €\n\nComprar entradas\nArtistas Invitados\n\n\nDJ Marta: Pionera en la escena dance española\, DJ Marta ha sido una figura central en las pistas de baile desde los años 90. Su habilidad para mezclar y su energía en el escenario la han convertido en una de las DJs más reconocidas del país. \n\n\nClublanders: Este proyecto musical es conocido por sus pegajosos temas dance que dominaron las listas en los años 90 y principios de los 2000. Canciones como “World of Love” son auténticos himnos de la época. \n\n\nCarlos Revuelta: DJ y productor con una amplia trayectoria en la música electrónica\, ha colaborado en múltiples proyectos y es reconocido por su versatilidad y talento en la escena dance. \n\n\nIván Jazz: Conocido por su habilidad para fusionar géneros y crear ambientes únicos\, Iván Jazz ha sido una presencia constante en la escena musical\, aportando frescura y originalidad en cada una de sus sesiones.
URL:https://burgos.top/evento/molan-los-90-mayo-2025-en-sala-anden-56/
LOCATION:Sala Andén 56\, C. San Pedro y San Felices\, 56\, Burgos\, 09001
CATEGORIES:Conciertos
ATTACH;FMTTYPE=image/webp:https://burgos.top/wp-content/uploads/2025/03/molan-los-90-mayo-2025-anden-56.webp
END:VEVENT
END:VCALENDAR