BEGIN:VCALENDAR
VERSION:2.0
PRODID:-//BurgosTop - ECPv6.7.0//NONSGML v1.0//EN
CALSCALE:GREGORIAN
METHOD:PUBLISH
X-ORIGINAL-URL:https://burgos.top
X-WR-CALDESC:Eventos para BurgosTop
REFRESH-INTERVAL;VALUE=DURATION:PT1H
X-Robots-Tag:noindex
X-PUBLISHED-TTL:PT1H
BEGIN:VTIMEZONE
TZID:Europe/Madrid
BEGIN:DAYLIGHT
TZOFFSETFROM:+0100
TZOFFSETTO:+0200
TZNAME:CEST
DTSTART:20250330T010000
END:DAYLIGHT
BEGIN:STANDARD
TZOFFSETFROM:+0200
TZOFFSETTO:+0100
TZNAME:CET
DTSTART:20251026T010000
END:STANDARD
END:VTIMEZONE
BEGIN:VEVENT
DTSTART;TZID=Europe/Madrid:20250509T190000
DTEND;TZID=Europe/Madrid:20250509T203000
DTSTAMP:20260419T201906
CREATED:20250312T092831Z
LAST-MODIFIED:20250312T092831Z
UID:10001863-1746817200-1746822600@burgos.top
SUMMARY:EL VALOR DE LA MAGIA
DESCRIPTION:📍 Lugar: Foro Solidario📅 Fechas: Del 4 de abril al 9 de mayo de 2025💰 Entradas: 10\,00€ (Abono para ambos espectáculos) / 6\,00€ (Entradas individuales)👨‍👩‍👧‍👦 Público: Para todos los públicos \nComprar entradas\n🎩 ¡La magia cobra vida en Burgos! ✨\nUn ciclo mágico donde dos grandes ilusionistas nos harán vivir momentos inolvidables: \n🎭 Mago Rubén Zamora – Prestidigitando📅 4 de abril – 19:00 hUn espectáculo lleno de asombro y destreza\, donde la prestidigitación y el ilusionismo desafían la lógica. \n✨ Mago Josué – El poder de la ilusión📅 9 de mayo – 19:00 hUn show mágico en el que la fantasía y la realidad se entrelazan para demostrar que todo es posible con la ilusión. \n💫 Compra tu abono y disfruta de dos noches de magia por solo 10€! 💫 \n🎟️ También puedes adquirir entradas individuales por 6€.
URL:https://burgos.top/evento/el-valor-de-la-magia/2025-05-09/
LOCATION:Foro Solidario – Fundación Caja de Burgos\, C. Anna Huntington\, 1\, Burgos\, 09004
CATEGORIES:Magia
ATTACH;FMTTYPE=image/webp:https://burgos.top/wp-content/uploads/2024/10/GALA-INTERNACIONAL-DE-MAGIA-24.webp
END:VEVENT
BEGIN:VEVENT
DTSTART;TZID=Europe/Madrid:20250509T193000
DTEND;TZID=Europe/Madrid:20250509T193000
DTSTAMP:20260419T201906
CREATED:20251124T224705Z
LAST-MODIFIED:20251124T224733Z
UID:10001657-1746819000-1746819000@burgos.top
SUMMARY:Concierto de Yerai Cortés en Cultural Cordón | ALAS RAICES 25
DESCRIPTION:📍 Plaza de la Libertad\, S/N📅 Viernes\, 9 de mayo de 2025 – 19:30h⏳ Duración: 45 min.🎟️ Entrada: 25\,00€👥 Todos los públicos \nComprar entradas\nComprar Abono Alas Raíces 25\nSobre Yerai Cortés\nEl prodigioso guitarrista Yerai Cortés\, una de las figuras más influyentes del flamenco contemporáneo\, llega a Burgos para ofrecer un espectáculo único. Su trayectoria lo ha llevado de los tablaos más emblemáticos de Madrid a los teatros más prestigiosos de España\, acompañando a grandes artistas como Farruquito\, Richard Bona\, Alfonso Losa y C. Tangana. \nSu estilo fusiona la tradición flamenca con una sensibilidad innovadora\, rompiendo barreras y explorando nuevas sonoridades. Además de intérprete\, Yerai es compositor y productor\, galardonado en 2021 con el premio Guitarra con Alma en el Festival de Jerez. \nEn 2024\, su arte fue llevado al cine con La guitarra flamenca de Yerai Cortés\, un documental dirigido por C. Tangana que se estrenó en el Festival de San Sebastián. \n🎶 Una experiencia sensorial donde el flamenco se reinventa. ¡No te lo pierdas! \n📌 Espectáculo incluido dentro del ABONO ALAS_RAICES 25
URL:https://burgos.top/evento/concierto-de-yerai-cortes-en-cultural-cordon-alas-raices-25/
LOCATION:Cultural Cordón\, Plaza de la Libertad s/n\, Burgos\, 09004
CATEGORIES:Conciertos
ATTACH;FMTTYPE=image/webp:https://burgos.top/wp-content/uploads/2025/02/yerai-cortes-en-burgos.webp
END:VEVENT
BEGIN:VEVENT
DTSTART;TZID=Europe/Madrid:20250509T203000
DTEND;TZID=Europe/Madrid:20250509T203000
DTSTAMP:20260419T201906
CREATED:20251124T224703Z
LAST-MODIFIED:20251124T224731Z
UID:10000213-1746822600-1746822600@burgos.top
SUMMARY:Resonando en el pasado
DESCRIPTION:Un Viaje Musical por la Historia\n\nUbicación: Cultural Caja de Burgos\, Avda. de Cantabria\, 3\, Burgos\nFecha: Viernes\, 9 de mayo de 2025\nPrecio: 15\,00€\nPúblico: Todos los públicos\n\nEl Espectáculo\n“Resonando en el Pasado” es una experiencia única que combina música\, historia y narración. Abraham Cupeiro\, músico y artesano\, guía a la audiencia en un fascinante recorrido por la evolución de los instrumentos musicales a lo largo de la historia de la humanidad. \nAbraham Cupeiro: Músico y Artesano\nCupeiro no solo interpreta música con instrumentos antiguos\, sino que también ha reconstruido algunos de ellos\, como el Karnyx y el Cornu\, basándose en ejemplares encontrados en Pompeya. Su profundo conocimiento y pasión por estos instrumentos milenarios añaden una dimensión única al espectáculo. \nFormato del Evento\nEste evento no es un concierto tradicional ni un monólogo convencional. Cupeiro fusiona elementos de interpretación musical con narración\, creando una experiencia inmersiva que revela la conexión entre la música y la evolución humana a través de los siglos. \nExperiencia del Público\nLos asistentes podrán: \n\nDescubrir instrumentos musicales poco conocidos y milenarios\nAprender sobre la historia de la música y su relación con el desarrollo humano\nDisfrutar de interpretaciones en vivo con instrumentos antiguos y reconstruidos\n\n“Resonando en el Pasado” promete ser una velada educativa y entretenida\, ideal para amantes de la música\, la historia y la cultura en general. \n\n\n\n\n\n\n\n\n¿ Buscas Entradas ?\n\n\n\n\n\nComprar entradas
URL:https://burgos.top/evento/resonando-en-el-pasado/
LOCATION:Cultural Caja de Burgos.\, Av. Cantabria\, 3\, Burgos\, 09006
CATEGORIES:Humor
ATTACH;FMTTYPE=image/webp:https://burgos.top/wp-content/uploads/2024/10/resonando-en-el-pasado-burgos.webp
END:VEVENT
BEGIN:VEVENT
DTSTART;TZID=Europe/Madrid:20250509T203000
DTEND;TZID=Europe/Madrid:20250509T203000
DTSTAMP:20260419T201906
CREATED:20251124T224704Z
LAST-MODIFIED:20251124T224732Z
UID:10001569-1746822600-1746822600@burgos.top
SUMMARY:HIJA DE LA LUNA el Mejor Homenaje a Mecano con Robin Torres
DESCRIPTION:Prepárate para revivir la magia de Mecano con Robin Torres en un espectáculo que ha cautivado a audiencias por toda España y Latinoamérica. \nDetalles del Evento\n\nFecha: Viernes\, 9 de mayo de 2025\nHora: 20:30\nLugar: Fórum Evolución Burgos (Auditorio)\nDirección: Paseo Sierra de Atapuerca\, Burgos\nGénero: Musical\nApto para: Todos los públicos\n\nComprar entradas\nPrecios\n\nZona A: 40\,00€\nZona B: 38\,00€\nZona C: 35\,00€\n\nDespués de 8 años de gira y más de 350 conciertos\, Robin Torres regresa con un espectáculo renovado basado en “Descanso Dominical”\, el álbum que catapultó a Mecano a la fama internacional. \nEste nuevo montaje presenta\n\nVestuario y coreografías completamente renovadas\nEscenografía brillante y puesta en escena espectacular\nLa verdadera esencia de Mecano recreada en vivo\n\nRobin Torres\, conocida por su asombroso parecido físico y vocal con Ana Torroja\, lidera este tributo que la crítica ha calificado como “el mejor que existe hasta la fecha”. No pierdas la oportunidad de sumergirte en los éxitos atemporales de Mecano\, interpretados con una pasión y autenticidad que te transportarán a la época dorada del pop español. \n¡Reserva tus entradas ahora y prepárate para una noche inolvidable llena de nostalgia y emoción!
URL:https://burgos.top/evento/hija-de-la-luna-el-mejor-homenaje-a-mecano-con-robin-torres/
LOCATION:Fórum Evolución Burgos\, P.º Sierra de Atapuerca\, S/N\, Burgos\, 09002
CATEGORIES:Musicales
ATTACH;FMTTYPE=image/webp:https://burgos.top/wp-content/uploads/2025/01/HIJA-DE-LA-LUNA-el-Mejor-Homenaje-a-Mecano-con-Robin-Torres-en-burgos-1.webp
END:VEVENT
END:VCALENDAR