BEGIN:VCALENDAR
VERSION:2.0
PRODID:-//BurgosTop - ECPv6.7.0//NONSGML v1.0//EN
CALSCALE:GREGORIAN
METHOD:PUBLISH
X-ORIGINAL-URL:https://burgos.top
X-WR-CALDESC:Eventos para BurgosTop
REFRESH-INTERVAL;VALUE=DURATION:PT1H
X-Robots-Tag:noindex
X-PUBLISHED-TTL:PT1H
BEGIN:VTIMEZONE
TZID:Europe/Madrid
BEGIN:DAYLIGHT
TZOFFSETFROM:+0100
TZOFFSETTO:+0200
TZNAME:CEST
DTSTART:20250330T010000
END:DAYLIGHT
BEGIN:STANDARD
TZOFFSETFROM:+0200
TZOFFSETTO:+0100
TZNAME:CET
DTSTART:20251026T010000
END:STANDARD
END:VTIMEZONE
BEGIN:VEVENT
DTSTART;TZID=Europe/Madrid:20250328T100000
DTEND;TZID=Europe/Madrid:20250328T220000
DTSTAMP:20260421T131742
CREATED:20250319T115127Z
LAST-MODIFIED:20250319T115127Z
UID:10001899-1743156000-1743199200@burgos.top
SUMMARY:FERIA OUTLET BURGOS 2025
DESCRIPTION:📅 Fechas: 28\, 29 y 30 de marzo 2025 \n🕙 Horario: 10:00 – 22:00 (los tres días)\n📍 Ubicación: Fórum Evolución – Palacio de Congresos de Burgos\n💲 Descuentos: Hasta el -80% en primeras marcas\n🎒 Marcas destacadas: Adidas\, Nike\, Calvin Klein\, Tommy Hilfiger\, Vans\, The North Face y muchas más. \n\n\n🌟 EL MAYOR EVENTO DE COMPRAS DEL AÑO 🌟\n🚀 ¡Vuelven los descuentos más esperados! Feria Outlet Burgos regresa con ofertas irresistibles en primeras marcas. Durante tres días\, podrás disfrutar de los mejores precios en moda\, calzado\, accesorios\, cosmética\, deporte y hogar. \n👏 Miles de productos te esperan en Fórum Evolución Burgos con descuentos de hasta el 80%. No dejes pasar la oportunidad de renovar tu armario\, equipar tu casa o darte ese capricho que tanto mereces sin gastar de más. \n🌟 ¡Compra más pagando menos y disfruta de una experiencia de shopping única! \n\n\n\n🎨 SECTORES DESTACADOS\n🌂 MODA: Encuentra prendas de marcas premium como Calvin Klein\, The North Face y Tommy Hilfiger.\n🎀 ACCESORIOS: Bolsos\, gafas de sol\, bisutería y joyería para completar tu look.\n💅 COSMÉTICA: Maquillaje y cuidado personal de primeras firmas a precios de risa.\n👟 CALZADO: Desde deportivas hasta botas\, encuentra tu par ideal con descuentos exclusivos.\n🌱 URBAN: Marcas top como Vans\, DC Shoes\, Fila y Adidas con precios sorprendentes.\n🏡 HOGAR: Sofás\, colchones\, menaje y mucho más con hasta un 80% de descuento.
URL:https://burgos.top/evento/feria-outlet-burgos-2025/2025-03-28/
LOCATION:Fórum Evolución Burgos\, P.º Sierra de Atapuerca\, S/N\, Burgos\, 09002
CATEGORIES:Ocio
ATTACH;FMTTYPE=image/webp:https://burgos.top/wp-content/uploads/2025/03/feria-outlet-burgos-2025.webp
END:VEVENT
BEGIN:VEVENT
DTSTART;TZID=Europe/Madrid:20250328T193000
DTEND;TZID=Europe/Madrid:20250328T193000
DTSTAMP:20260421T131742
CREATED:20250113T165511Z
LAST-MODIFIED:20250113T165511Z
UID:10001488-1743190200-1743190200@burgos.top
SUMMARY:Meridianos Sonoros: En flor. Una invocación a Sergio Algora
DESCRIPTION:Fecha: Viernes\, 28 de marzo de 2025\nHora: 19:30\nLugar: Salón de actos Plaza España\, Fundación Círculo\nPrecio:\n\n5€ online\n7€ en taquilla\n\n\n\nComprar entradas\nSobre el Espectáculo\nUn emotivo tributo a Sergio Algora\, músico\, escritor y poeta\, inspirado en el libro “Los idiotas prefieren la montaña” de Aloma Rodríguez. Un viaje íntimo y poético que recorre las canciones y textos de un artista único\, rescatando su memoria y su legado creativo.🎙️ Una experiencia que celebra la vida\, la música y la palabra de Sergio Algora.
URL:https://burgos.top/evento/meridianos-sonoros-en-flor-una-invocacion-a-sergio-algora/
LOCATION:Salón Actos Plaza España\, Pza. de España\, 3\, Burgos\, 09005
CATEGORIES:Conciertos
ATTACH;FMTTYPE=image/webp:https://burgos.top/wp-content/uploads/2025/01/En-flor-Una-invocacion-a-Sergio-Algora.webp
END:VEVENT
BEGIN:VEVENT
DTSTART;TZID=Europe/Madrid:20250328T200000
DTEND;TZID=Europe/Madrid:20250328T200000
DTSTAMP:20260421T131742
CREATED:20250312T092012Z
LAST-MODIFIED:20250312T092012Z
UID:10001861-1743192000-1743192000@burgos.top
SUMMARY:Semifinal Solo de Ciencia
DESCRIPTION:📍 Lugar: Teatro Principal de Burgos📅 Fecha: Viernes\, 28 de marzo de 2025 – 20:00 h💰 Entrada: ¡GRATIS!👨‍👩‍👧‍👦 Público: Para todos los públicos \n🔬 SOLO DE CIENCIA 🔬\nSolo de Ciencia (SdC) es un certamen iberoamericano de monólogos científicos que busca acercar la ciencia y la tecnología al público de una forma amena y entretenida. \n💡 Ciencia y humor en el escenarioEste evento está diseñado para inspirar y motivar a quienes desarrollan su carrera en el mundo científico a compartir sus conocimientos de una manera accesible y dinámica\, a través de monólogos llenos de divulgación\, curiosidades y diversión. \n🎭 Una experiencia única donde el conocimiento se convierte en espectáculo. ¡No te lo pierdas!
URL:https://burgos.top/evento/semifinal-solo-de-ciencia/
LOCATION:Teatro Principal\, Pl. Mío Cid\, Burgos\, 09003
CATEGORIES:Ciencia,Humor
ATTACH;FMTTYPE=image/webp:https://burgos.top/wp-content/uploads/2025/03/solo-ciencia-en-burgos.webp
END:VEVENT
BEGIN:VEVENT
DTSTART;TZID=Europe/Madrid:20250328T201500
DTEND;TZID=Europe/Madrid:20250328T201500
DTSTAMP:20260421T131742
CREATED:20250324T082204Z
LAST-MODIFIED:20250324T082437Z
UID:10001918-1743192900-1743192900@burgos.top
SUMMARY:IV CICLO CORAL DE MÚSICA SACRA Semana Santa 2025
DESCRIPTION:📅 Fecha: Viernes\, 28 de marzo de 2025🕗 Hora: 20:15 h📍 Lugar: Iglesia Real y Antigua de Gamonal🎶 Coral: Aldebarán Música Antigua🎼 Dirección: Alberto Triviño🎟 Entrada: Libre \n📜 Repertorio\n📖 Ludus Danielis – Drama litúrgico medieval (S. XIII)🎵 Ad Honorem🎵 Regis Vasa🎵 Congaudentes🎼 Cantigas de Santa María – Alfonso X El Sabio🎵 Nº 149🎵 Nº 166🎶 Llibre Vermell de Montserrat🎵 Cuncti simus🎵 Ad mortem festinamus🎼 Benedicamus XXVIII – Johannes Roderice (Códice de Huelgas)🎼 Sophia nasci fertur – Codex Speciálník🎼 Hanacpachap cussicuinin – Anónimo (Catedral de Cuzco) \n🔹 Disfruta de una noche de música sacra en un entorno único\, con piezas medievales y renacentistas interpretadas por la coral Aldebarán. \nPuedes consultar aquí la programación completa de la Semana Santa en Burgos 2025
URL:https://burgos.top/evento/iv-ciclo-coral-de-musica-sacra-semana-santa-2025/
LOCATION:Iglesia Real y Antigüa de Gamonal\, C. Vitoria\, 224\, Burgos\, 09007
CATEGORIES:Tradiciones
ATTACH;FMTTYPE=image/webp:https://burgos.top/wp-content/uploads/2025/03/iv-ciclo-coral-de-musica-sacra.webp
END:VEVENT
BEGIN:VEVENT
DTSTART;TZID=Europe/Madrid:20250328T203000
DTEND;TZID=Europe/Madrid:20250328T203000
DTSTAMP:20260421T131742
CREATED:20250224T094456Z
LAST-MODIFIED:20251229T234643Z
UID:10001750-1743193800-1743193800@burgos.top
SUMMARY:NEXUS. Gala de danza 2025 EPDCYL Ana Laguna
DESCRIPTION:📅 Fecha: Viernes\, 28 de marzo de 2025⏰ Hora: 20:30 h📍 Lugar: Auditorio del Fórum Evolución Burgos🎟️ Entradas: 10\,00 € 👥 Público: Todos los públicos \nLa Escuela Profesional de Danza de Castilla y León presenta “NEXUS – Gala de Danza EPDCYL Ana Laguna\, Burgos 2031 RENACIMIENTO”\, un evento único donde el alumnado tendrá la oportunidad de vivir una experiencia escénica excepcional\, adquiriendo la preparación necesaria para su salto al mundo profesional. \nComprar entradas\n✨ Coreografías de reconocidos artistas\n🔹 Chey Jurado🔹 Mario Bermúdez🔹 Ana Baigorri🔹 Gonzalo Galguera \nGracias a un riguroso trabajo técnico y un contacto directo con el escenario\, esta gala se convierte en una muestra de talento\, crecimiento artístico y formación de alta calidad. \n🎭 Un espectáculo imprescindible para los amantes de la danza. ¡No te lo pierdas! \n📌 Organiza y colabora:✅ Ayuntamiento de Burgos✅ Junta de Castilla y León✅ FUESCYL – Fundación Universidades y Enseñanzas Superiores de Castilla y León
URL:https://burgos.top/evento/nexus-gala-de-danza-2025-epdcyl-ana-laguna/
LOCATION:Fórum Evolución Burgos\, P.º Sierra de Atapuerca\, S/N\, Burgos\, 09002
CATEGORIES:Ballet
ATTACH;FMTTYPE=image/webp:https://burgos.top/wp-content/uploads/2025/02/NEXUS.-Gala-de-danza-2025-EPDCYL-Ana-Laguna.webp
END:VEVENT
BEGIN:VEVENT
DTSTART;TZID=Europe/Madrid:20250328T210000
DTEND;TZID=Europe/Madrid:20250328T210000
DTSTAMP:20260421T131742
CREATED:20241013T114808Z
LAST-MODIFIED:20241014T084515Z
UID:10000322-1743195600-1743195600@burgos.top
SUMMARY:Ultraligera:  Rock Alternativo en Burgos
DESCRIPTION:Fecha: 28 de marzo de 2025\nHora: 21:00\nPrecio: 13\,5 €\nLocalización: Sala Andén 56\, Burgos\n[Comprar entradas] \nLa Nueva Cara del Rock Alternativo\nUltraligera\, una banda emergente en la escena musical española\, está lista para revivir el espíritu del rock alternativo en Burgos. Fundada en 2021 en Madrid\, esta banda ha capturado la atención de los aficionados al rock con su mezcla fresca de géneros y letras profundas. \nOrígenes e Influencias\nLa historia de Ultraligera comienza con un grupo de amigos que compartían su pasión por la música desde los días del instituto. Inspirados por el indie y el grunge\, han desarrollado un sonido que combina familiaridad y novedad. \nMúsica y Letras\nLas canciones de Ultraligera reflejan una variedad de influencias\, desde el indie hasta el grunge. Temas como “Europa” (2023) y “Recuerdos del Baile” (2022) exploran historias que resuenan con la audiencia\, abarcando desde viajes interiores hasta reivindicaciones modernas. \nIntegrantes de la Banda\nUltraligera está compuesta por cinco talentosos músicos: \n\nJavier Gismero: Voz principal\nCoque Fernández y Kash: Guitarras\nMartín Aparicio: Batería\nSanti Urruela: Bajo\n\nExperiencia en Vivo\nDesde su formación\, Ultraligera ha mostrado un fuerte compromiso con las presentaciones en vivo. Han tocado en diversos escenarios\, desde locales íntimos hasta festivales\, creando una conexión especial con su público. \nFuturo Prometedor\nCon una mezcla de raíces rockeras y un enfoque innovador\, Ultraligera se posiciona como una de las propuestas más interesantes del panorama musical actual. La banda promete seguir sorprendiendo a sus seguidores con nuevas músicas y actuaciones. \nPara Todos los Aficionados\nUltraligera no es solo una banda que debes escuchar; es una experiencia que debes vivir. Con su sonido fresco y letras significativas\, están marcando el camino hacia un nuevo capítulo en la historia del rock alternativo en España. ¡Mantén tus oídos abiertos para Ultraligera! Este es un nombre que resonará en la escena musical por mucho tiempo. \nComprar entradas
URL:https://burgos.top/evento/ultraligera-rock-alternativo-en-burgos/
LOCATION:La Rúa\, Av. Reyes Católicos\, 26\, Burgos\, 09005
CATEGORIES:Conciertos
ATTACH;FMTTYPE=image/webp:https://burgos.top/wp-content/uploads/2024/10/Ultraligera-Rock-alternativo-en-burgos-2.webp
END:VEVENT
BEGIN:VEVENT
DTSTART;TZID=Europe/Madrid:20250328T210000
DTEND;TZID=Europe/Madrid:20250328T210000
DTSTAMP:20260421T131742
CREATED:20250304T122509Z
LAST-MODIFIED:20250304T122509Z
UID:10001846-1743195600-1743195600@burgos.top
SUMMARY:Concierto de María Rodríguez en el Sótano Cultural
DESCRIPTION:📅 Fecha: Viernes 28 de marzo de 2025⏰ Hora: 21:00📍 Lugar: El Sótano Café Cultural (C. Farmacéutico Obdulio Fernández\, 38\, Burgos)🎟️ Entrada: Taquilla Inversa (Reserva tu plaza por Instagram\, email o en el bar) \n🎶 María Rodríguez – Cantautora con alma gaditana\nMaría Rodríguez\, cantautora de Cádiz\, nos invita a un viaje sonoro cargado de emociones\, energía positiva y reflexiones sobre la vida. Su música fusiona influencias clásicas con la nueva canción de autor\, creando un estilo único y cercano. \nActualmente\, se encuentra ultimando su segundo álbum\, del cual ya ha lanzado cuatro adelantos. Sus conciertos se caracterizan por la calidez y la conexión especial con el público\, convirtiendo cada actuación en una experiencia íntima e inolvidable. \n✨ Déjate envolver por su voz y su arte el 28 de marzo en El Sótano Café Cultural.
URL:https://burgos.top/evento/concierto-de-maria-rodriguez-en-el-sotano-cultural/
LOCATION:El Sótano Café Cultural\, C. Farmacéutico Obdulio Fernández\, 38\, Burgos\, 09006
CATEGORIES:Conciertos
ATTACH;FMTTYPE=image/webp:https://burgos.top/wp-content/uploads/2025/03/maria-rodriguez-en-el-sotano-cultural.webp
END:VEVENT
END:VCALENDAR