BEGIN:VCALENDAR
VERSION:2.0
PRODID:-//BurgosTop - ECPv6.7.0//NONSGML v1.0//EN
CALSCALE:GREGORIAN
METHOD:PUBLISH
X-WR-CALNAME:BurgosTop
X-ORIGINAL-URL:https://burgos.top
X-WR-CALDESC:Eventos para BurgosTop
REFRESH-INTERVAL;VALUE=DURATION:PT1H
X-Robots-Tag:noindex
X-PUBLISHED-TTL:PT1H
BEGIN:VTIMEZONE
TZID:Europe/Madrid
BEGIN:DAYLIGHT
TZOFFSETFROM:+0100
TZOFFSETTO:+0200
TZNAME:CEST
DTSTART:20250330T010000
END:DAYLIGHT
BEGIN:STANDARD
TZOFFSETFROM:+0200
TZOFFSETTO:+0100
TZNAME:CET
DTSTART:20251026T010000
END:STANDARD
END:VTIMEZONE
BEGIN:VEVENT
DTSTART;TZID=Europe/Madrid:20250315T130000
DTEND;TZID=Europe/Madrid:20250315T143000
DTSTAMP:20260419T163755
CREATED:20250306T120517Z
LAST-MODIFIED:20250306T120517Z
UID:10001847-1742043600-1742049000@burgos.top
SUMMARY:Vermú Comedia con Laura del Val en Cervecería Golden
DESCRIPTION:📅 Fechas: \n\nSábado 15 de marzo de 2025 – 13:00\nDomingo 16 de marzo de 2025 – 13:00\n\n📍 Lugar: Golden Garden\, Burgos🎟️ Entradas: Desde 14\,64 € \nComprar entradas\nLaura del Val\nLaura del Val\, la cómica que colgó la toga para hacer reír\, regresa a su tierra con su espectáculo “De Burgos también se sale”. En él\, da un giro a los tópicos sobre Burgos\, su trayectoria personal y su visión del mundo con un humor afilado y observacional. \nDespués de abandonar su carrera como abogada en un prestigioso bufete\, Laura se lanzó de lleno al mundo del stand-up\, pasando por escenarios como El Intermedio\, RNE y Europa FM. Ahora\, lidera un ciclo de comedia en Burgos\, reivindicando el humor como parte esencial de la cultura local. \nSi buscas un plan diferente para el fin de semana\, ven a disfrutar de un vermú con risas en el Golden Garden. ¡Porque en Burgos también se hace comedia y muy buena!
URL:https://burgos.top/evento/vermu-comedia-con-laura-del-val-en-cerveceria-golden/2025-03-15/
LOCATION:Cervecería Golden\, C/ Trinidad 12\, Burgos\, 09002
CATEGORIES:Humor
ATTACH;FMTTYPE=image/webp:https://burgos.top/wp-content/uploads/2025/03/laura-del-val.webp
END:VEVENT
BEGIN:VEVENT
DTSTART;TZID=Europe/Madrid:20250315T190000
DTEND;TZID=Europe/Madrid:20250315T190000
DTSTAMP:20260419T163755
CREATED:20241019T104743Z
LAST-MODIFIED:20241019T104743Z
UID:10000390-1742065200-1742065200@burgos.top
SUMMARY:JOSÉ LUIS CALERO: HUMORISTA DE GUARDIA
DESCRIPTION:Un Show para Todos los Públicos \nFecha: Por determinar\nLugar: Cultural Caja de Burgos\, Avda. de Cantabria\, 3\nPrecio: 18\,00€ \nComprar entradas\nUn Cómico Único\nJosé Luis Calero regresa a los escenarios con su espectáculo “Humorista de Guardia”\, un show que promete risas y reflexiones sobre la paternidad y la vida cotidiana. Con más de un millón y medio de seguidores en redes sociales\, Calero ha cosechado el éxito con sus giras anteriores y ahora está listo para hacerte reír. \nUn Humor Cercano y Real\nEn este espectáculo\, Calero aborda los problemas cotidianos que enfrentamos hoy en día\, desde laborales hasta familiares\, utilizando el humor como medicina. A través de anécdotas personales y situaciones que todos podemos reconocer\, el humorista ofrece una dosis de risa para aliviar el estrés diario. \nUn Recetario de Risas\nCon su estilo desenfadado\, Calero asegura que su show es apto para todos\, incluso para mujeres solteras\, ya que él mismo está actualmente sin pareja. ¡Así que no dudes en asistir! \nUn Momento para Desconectar\nPrepárate para una velada donde la risa será la protagonista. Este espectáculo es una excusa perfecta para salir de casa y disfrutar de una noche llena de buen humor. ¡No te lo pierdas! Compra tus entradas y únete a José Luis Calero en esta divertida experiencia!
URL:https://burgos.top/evento/jose-luis-calero-humorista-de-guardia/
LOCATION:Cultural Caja de Burgos.\, Av. Cantabria\, 3\, Burgos\, 09006
CATEGORIES:Humor
ATTACH;FMTTYPE=image/webp:https://burgos.top/wp-content/uploads/2024/10/JOSE-LUIS-CALERO-HUMORISTA-DE-GUARDIA-en-burgos-_1_.webp
END:VEVENT
BEGIN:VEVENT
DTSTART;TZID=Europe/Madrid:20250315T190000
DTEND;TZID=Europe/Madrid:20250315T190000
DTSTAMP:20260419T163755
CREATED:20250303T120326Z
LAST-MODIFIED:20250303T120346Z
UID:10001841-1742065200-1742065200@burgos.top
SUMMARY:Ñam Ñam de Bambalúa | III Festival de Teatro Clásico
DESCRIPTION:📅 Fecha: Sábado\, 15 de marzo de 2025 – 🕖 19:00 h📍 Lugar: Auditorio El Círculo\, Burgos💰 Precio: Desde 5\,00€ \nComprar entradas\nLa compañía Bambalúa Teatro presenta Ñam Ñam\, una divertida comedia inspirada en la picaresca del Siglo de Oro. La historia sigue las desventuras de un humilde puchero de garbanzos que cambia de manos a través de engaños y artimañas\, reflejando con humor la lucha por la supervivencia en una sociedad llena de hambres e ingenios. \nCon más de 25 años de trayectoria\, Bambalúa Teatro sigue explorando el teatro como un viaje apasionante\, combinando creatividad\, experiencia y un profundo vínculo con el público.
URL:https://burgos.top/evento/nam-nam-de-bambalua-iii-festival-de-teatro-clasico/
LOCATION:Auditorio el Círculo\, C. Ana Lopidana\, Burgos\, 09005
CATEGORIES:Teatro
ATTACH;FMTTYPE=image/webp:https://burgos.top/wp-content/uploads/2025/03/Nam-Nam-de-Bambalua.webp
END:VEVENT
BEGIN:VEVENT
DTSTART;TZID=Europe/Madrid:20250315T193000
DTEND;TZID=Europe/Madrid:20250315T193000
DTSTAMP:20260419T163755
CREATED:20241223T174907Z
LAST-MODIFIED:20241223T174907Z
UID:10001056-1742067000-1742067000@burgos.top
SUMMARY:Rembrandt Trio en Cultural Cordón
DESCRIPTION:Fecha: Sábado\, 15 de marzo de 2025\nHora: 19:30\nLugar: Cultural Cordón\, Plaza de la Libertad S/N\nPrecio: 20\,00 €\nPúblico: Todos los públicos\n\nComprar entradas\nInformación sobre el Evento\nEl Rembrandt Trio\, formado por el pianista Rembrandt Frerichs\, el contrabajista Tony Overwater y el percusionista Vinsent Planjer\, es conocido por su fusión única de jazz\, música clásica y sonidos de Oriente Medio. Este trío trasciende fronteras musicales\, llevando a los oyentes en un viaje sonoro a través de paisajes diversos. \nUn Viaje Musical Único\nUna de las características más interesantes del grupo es la incorporación de instrumentos históricos\, como el forte-piano y el violone\, así como la Whisper Kit\, una colección de instrumentos transculturales que enriquecen su sonido.Este concierto forma parte del ABONO CORDÓN JAZZ 25\, ofreciendo una experiencia musical inolvidable que no querrás perderte.¡Asegura tu entrada y sumérgete en una noche de música vibrante y emocionante!
URL:https://burgos.top/evento/rembrandt-trio-en-cultural-cordon/
LOCATION:Cultural Cordón\, Plaza de la Libertad s/n\, Burgos\, 09004
CATEGORIES:Conciertos
ATTACH;FMTTYPE=image/webp:https://burgos.top/wp-content/uploads/2024/12/rembrant_trio-en-burgos.webp
END:VEVENT
BEGIN:VEVENT
DTSTART;TZID=Europe/Madrid:20250315T201500
DTEND;TZID=Europe/Madrid:20250315T201500
DTSTAMP:20260419T163755
CREATED:20250120T184349Z
LAST-MODIFIED:20250120T184349Z
UID:10001542-1742069700-1742069700@burgos.top
SUMMARY:Concierto Espectáculo de CAMERATA LÍRICA: CASTA DIVA
DESCRIPTION:📅 Sábado\, 15 de marzo de 2025\n⏰ 20:15 h\n📍 Casa de Cultura de Gamonal (Calle Pablo Ruiz Picasso\, S/N)\n💰 Entrada: 5€\n👥 Público joven y adulto \nComprar entradas\nUn Viaje Musical Entre la Ópera y la Música Moderna\nCASTA DIVA\, un concierto-espectáculo que celebra las voces legendarias: \n\nCinco cantantes líricas de primer nivel\nArias y dúos de ópera clásica\nCanciones melódicas contemporáneas\n\nHomenaje a Voces Icónicas\nÓpera Clásica: \n\nMaría Callas\nMontserrat Caballé\nAnna Netrebko\n\nMúsica Popular: \n\nCeline Dion\nMariah Carey\nWhitney Houston\n\nUna Experiencia Musical Única\n\nEspectacular puesta en escena\nInterpretaciones vocales excepcionales\nFusión de estilos musicales
URL:https://burgos.top/evento/concierto-espectaculo-de-camerata-lirica-casta-diva/
LOCATION:Casa Cultura de Gamonal\, C. Pablo Ruiz Picasso\, s/n\, Burgos\, 09007
CATEGORIES:Conciertos
ATTACH;FMTTYPE=image/webp:https://burgos.top/wp-content/uploads/2025/01/CAMERATA-LIRICA-CASTA-DIVA-eb-burgos.webp
END:VEVENT
BEGIN:VEVENT
DTSTART;TZID=Europe/Madrid:20250315T203000
DTEND;TZID=Europe/Madrid:20250315T203000
DTSTAMP:20260419T163755
CREATED:20241220T124422Z
LAST-MODIFIED:20241220T124422Z
UID:10001043-1742070600-1742070600@burgos.top
SUMMARY:El Nido: La Constancia
DESCRIPTION:Fecha: Sábado\, 15 de marzo de 2025\nHora: 20:30\nLugar: Fórum Evolución Burgos\, Sala Auditorio Rafael Frühbeck de Burgos\nPrecio:\n\nZonas A y B: 20 €\nZona C: 15 € (+ comisión de venta por internet)\n\n\nPúblico: Todos los públicos\n\nComprar entradas\nInformación Adicional\nEl Nido presenta su nuevo disco “La Constancia” en un espectáculo vibrante que celebra los ritmos tradicionales de Castilla y León. Tras dos años de éxito con su primer álbum\, el quinteto burgalés trae nuevas canciones que invitan a redescubrir nuestras raíces culturales. \nLo Que Te Espera\nEste concierto es un viaje musical que combina panderetas\, pandero y otros instrumentos\, creando un ambiente festivo que resalta la identidad y comunidad a través de melodías cautivadoras. El Nido nos invita a celebrar la vida y la música en un evento lleno de energía y alegría.
URL:https://burgos.top/evento/el-nido-la-constancia/
LOCATION:Fórum Evolución Burgos\, P.º Sierra de Atapuerca\, S/N\, Burgos\, 09002
CATEGORIES:Conciertos
ATTACH;FMTTYPE=image/webp:https://burgos.top/wp-content/uploads/2024/12/el-nido-la-constancia.webp
END:VEVENT
BEGIN:VEVENT
DTSTART;TZID=Europe/Madrid:20250315T203000
DTEND;TZID=Europe/Madrid:20250315T203000
DTSTAMP:20260419T163755
CREATED:20250303T185341Z
LAST-MODIFIED:20250303T185406Z
UID:10001843-1742070600-1742070600@burgos.top
SUMMARY:Concierto de César Cuenca en el Sótano Cultural
DESCRIPTION:📅 Fecha: Sábado 15 de marzo⏰ Hora: 20:30📍 Lugar: El Sótano Café Cultural (C. Farmacéutico Obdulio Fernández\, 38\, Burgos)🎟️ Entrada: Taquilla Inversa (Reserva tu plaza por Instagram\, email o en el bar) \n🎸 César Cuenca – Del folk de Celtas Cortos a la canción de autor\nGuitarrista\, compositor y exintegrante de Celtas Cortos\, César Cuenca ha dejado una huella imborrable en la escena musical. Con más de tres décadas de experiencia\, su evolución artística lo ha llevado a explorar la canción de autor\, fusionando melodías íntimas con influencias del tango y sonidos americanos. \nEl Sótano Café Cultural será testigo de un concierto especial donde César Cuenca nos guiará por un recorrido musical cargado de emoción\, nostalgia y virtuosismo. Una oportunidad única para disfrutar de su talento en un ambiente cercano y acogedor. \n🎶 Reserva tu sitio y disfruta de una noche única con César Cuenca.
URL:https://burgos.top/evento/concierto-de-cesar-cuenca-en-el-sotano-cultural/
LOCATION:El Sótano Café Cultural\, C. Farmacéutico Obdulio Fernández\, 38\, Burgos\, 09006
CATEGORIES:Conciertos
ATTACH;FMTTYPE=image/webp:https://burgos.top/wp-content/uploads/2025/03/Cesar-Cuenca-ex-Celtas-Cortos-en-el-sotano-cultural.webp
END:VEVENT
BEGIN:VEVENT
DTSTART;TZID=Europe/Madrid:20250315T210000
DTEND;TZID=Europe/Madrid:20250315T210000
DTSTAMP:20260419T163755
CREATED:20241014T151602Z
LAST-MODIFIED:20241014T151602Z
UID:10000329-1742072400-1742072400@burgos.top
SUMMARY:DESPISTAOS
DESCRIPTION:Fecha: 15 de Marzo de 2025\nHora: 21:00 – 23:55\nPrecio: 23€ + gastos de gestión\nLocalización: Sala Andén 56 \nComprar entradas\nSobre el Concierto\n¡Prepárate para una noche inolvidable! Despistaos\, una de las bandas más queridas del panorama musical español\, aterriza en el escenario del Andén 56 el SÁBADO 15 DE MARZO con su gira MMM. Este evento promete ser una celebración llena de energía y buena música. \nHorarios Importantes\n\nApertura de puertas: 21:00\nInicio del concierto: 22:00\n\nLa Sala Andén 56\nLa Sala Andén 56 es un destacado espacio cultural en Burgos\, conocido por su excelente acústica y tecnología de sonido digital. Este lugar se ha convertido en un punto de encuentro para amantes de la música\, ofreciendo una programación variada que abarca desde rock hasta pop\, jazz y música electrónica. \nCaracterísticas de la Sala\n\nUbicación: Calle San Pedro y San Felices\, 56\, Burgos.\nInstalaciones: Equipamiento de última generación en sonido e iluminación.\nActividades: Además de conciertos\, la sala ofrece ensayos para músicos emergentes y un espacio para eventos culturales.\n\nInformación Adicional\n\nEntrada General: 23€ + gastos de gestión.\nAcceso a Menores:\n\nMenores de 16 años deben ir acompañados de un adulto.\nMenores de 18 años requieren autorización firmada.\n\n\n\n¿Por qué No Perderse este Concierto?\nDespistaos ha capturado el corazón del público con su estilo fresco y letras emotivas. Su música no solo es un reflejo de la cultura contemporánea\, sino que también conecta con experiencias universales. Este concierto será una oportunidad única para disfrutar en vivo de sus grandes éxitos y nuevas propuestas. No te pierdas la oportunidad de vivir una noche mágica con Despiestaos. ¡Consigue tus entradas ahora y prepárate para disfrutar!
URL:https://burgos.top/evento/despistaos/
LOCATION:Sala Andén 56\, C. San Pedro y San Felices\, 56\, Burgos\, 09001
CATEGORIES:Conciertos
ATTACH;FMTTYPE=image/webp:https://burgos.top/wp-content/uploads/2024/10/despistaos-concierto-en-burgos-scaled.webp
END:VEVENT
BEGIN:VEVENT
DTSTART;TZID=Europe/Madrid:20250315T210000
DTEND;TZID=Europe/Madrid:20250315T210000
DTSTAMP:20260419T163755
CREATED:20250115T124322Z
LAST-MODIFIED:20250115T124322Z
UID:10001518-1742072400-1742072400@burgos.top
SUMMARY:Concierto de O'Funk'illo gira 25 Aniversario en la Rúa
DESCRIPTION:📅 Fecha: 15 de marzo de 2025\n📍 Lugar: La Rúa\, Burgos\n🎟️ Entradas: Disponibles en la web oficial \nComprar entradas\nPepe Bao y Andreas Lutz\, los pilares de O’Funk’illo\, se reúnen con energías renovadas para conmemorar un cuarto de siglo de música única. \n Esta gira aniversario promete\n\nNuevo disco con temas frescos y sin aditivos\nÉxitos clásicos que catapultaron a la banda\nUn viaje musical desde Sevilla hasta Latinoamérica\, pasando por Europa\n\nPrepárate para una noche de puro Funky Andaluz Embrutessío.  \n¡No te pierdas la oportunidad de ser parte de esta celebración histórica! ¡Venirse illoooooo que la vamos a liar en Burgos!
URL:https://burgos.top/evento/concierto-de-ofunkillo-gira-25-aniversario-en-la-rua/
LOCATION:La Rúa\, Av. Reyes Católicos\, 26\, Burgos\, 09005
CATEGORIES:Conciertos
ATTACH;FMTTYPE=image/webp:https://burgos.top/wp-content/uploads/2025/01/Concierto-de-OFunkillo-gira-25-Aniversario-en-la-Rua.webp
END:VEVENT
END:VCALENDAR