BEGIN:VCALENDAR
VERSION:2.0
PRODID:-//BurgosTop - ECPv6.7.0//NONSGML v1.0//EN
CALSCALE:GREGORIAN
METHOD:PUBLISH
X-WR-CALNAME:BurgosTop
X-ORIGINAL-URL:https://burgos.top
X-WR-CALDESC:Eventos para BurgosTop
REFRESH-INTERVAL;VALUE=DURATION:PT1H
X-Robots-Tag:noindex
X-PUBLISHED-TTL:PT1H
BEGIN:VTIMEZONE
TZID:Europe/Madrid
BEGIN:DAYLIGHT
TZOFFSETFROM:+0100
TZOFFSETTO:+0200
TZNAME:CEST
DTSTART:20250330T010000
END:DAYLIGHT
BEGIN:STANDARD
TZOFFSETFROM:+0200
TZOFFSETTO:+0100
TZNAME:CET
DTSTART:20251026T010000
END:STANDARD
END:VTIMEZONE
BEGIN:VEVENT
DTSTART;TZID=Europe/Madrid:20250125T210000
DTEND;TZID=Europe/Madrid:20250126T030000
DTSTAMP:20260421T131711
CREATED:20250122T130247Z
LAST-MODIFIED:20250122T130247Z
UID:10001554-1737838800-1737860400@burgos.top
SUMMARY:Orquesta Track en Concierto | Fiestas de San Julián 2025
DESCRIPTION:Baile de Tarde\n\nHora: Sábado\, 25 de enero\, 21:00 h a 22:00 h\nLugar: Barrio de San Julián\nProtagonistas: Orquesta Track\n\nVerbena Nocturna\n\nHora: 00:00 h a 03:00 h\nLugar: Barrio de San Julián\nProtagonistas: Orquesta Track\n\nLa Orquesta Track\nFormación Completa: \n\n7 componentes\nCuarteto rítmico\n3 voces (2 femeninas y 1 masculina)\n\nCaracterísticas Musicales\n\nRepertorio: Variado y multigeneracional\nEstilos: Adaptados a todos los gustos\nExperiencia: Show en vivo con sonido e iluminación profesional
URL:https://burgos.top/evento/orquesta-track-en-concierto-fiestas-de-san-julian-2025/
LOCATION:Barrio de San Julián\, Barrio de San Julián\, Burgos\, 09001
CATEGORIES:Conciertos
ATTACH;FMTTYPE=image/webp:https://burgos.top/wp-content/uploads/2025/01/Orquesta-track.webp
END:VEVENT
BEGIN:VEVENT
DTSTART;TZID=Europe/Madrid:20250126T110000
DTEND;TZID=Europe/Madrid:20250126T121500
DTSTAMP:20260421T131711
CREATED:20241105T190800Z
LAST-MODIFIED:20241105T190801Z
UID:10000613-1737889200-1737893700@burgos.top
SUMMARY:TALLERES FAMILIARES: Excavando en familia
DESCRIPTION:¡Iníciate en el fascinante mundo de la arqueología!\nDescubre los secretos del pasado desenterrando huesos y aprendiendo sobre nuestra anatomía de una manera divertida. \nDetalles del Taller\n\nHorario: 11:00 – 12:15\nLugar: Talleres didácticos del Museo de la Evolución Humana (MEH)\nEdad: Niños y niñas acompañados de un adulto\nPrecio: 3 euros por participante\n\nActividades:\n\nDesentierra huesos del pasado y aprende sobre su función.\nColabora en la construcción de un esqueleto de tamaño real\, comprendiendo cómo se articulan nuestros huesos.\n\nInformación Adicional:\n\nPlazas: Limitadas\, así que asegúrate de inscribirte.\n\nInscripción:\nReserva tu lugar a través de: \n\nEmail: reservas@museoevolucionhumana.com\nTeléfono: 947 421 000\nEn persona: Recepción del museo\nOnline: Página web del MEH\n\n¡No te pierdas esta oportunidad única para aprender y explorar en familia!
URL:https://burgos.top/evento/talleres-familiares-excavando-en-familia-3/
LOCATION:Museo de la Evolución Humana (MEH)\, P.º Sierra de Atapuerca\, S/N\, Burgos\, 09002
CATEGORIES:Talleres
ATTACH;FMTTYPE=image/webp:https://burgos.top/wp-content/uploads/2024/11/excavar-arqueologia.webp
END:VEVENT
BEGIN:VEVENT
DTSTART;TZID=Europe/Madrid:20250126T120000
DTEND;TZID=Europe/Madrid:20250126T123500
DTSTAMP:20260421T131711
CREATED:20241211T173202Z
LAST-MODIFIED:20241211T173212Z
UID:10000988-1737892800-1737894900@burgos.top
SUMMARY:Espectáculo para Bebés: Soneto Rojo - "Las Estaciones"
DESCRIPTION:Fecha: Domingo\, 26 de enero de 2025\nHorarios: 12:00 y 13:00 h\nDuración: 35 minutos\nPrecio: 2\,00 € (+ comisión de venta por internet)\nRecomendado para: Bebés de 6 meses a 3 años (un adulto por niño\, una entrada por persona)\n\nComprar entradas\nDescripción\nDisfruta de un encantador espectáculo de teatro para bebés titulado “Las estaciones”\, protagonizado por un simpático y curioso ratoncito. Esta propuesta está diseñada para estimular los sentidos y el desarrollo cognitivo de los más pequeños a través de una experiencia sensorial que incluye texturas\, sonidos\, colores y olores. \nUn Viaje Sensorial\nEste evento forma parte de la programación del XVII Salón del Libro Infantil y Juvenil de Burgos\, cuyo tema central es “El Salón del Faraón”. Es una oportunidad perfecta para que los más pequeños descubran el mundo a su alrededor de una manera divertida y comprensible. No te pierdas esta experiencia única en un entorno histórico. ¡Te esperamos para disfrutar juntos de “Las estaciones”!
URL:https://burgos.top/evento/espectaculo-para-bebes-soneto-rojo-las-estaciones/2025-01-26/1/
LOCATION:Monasterio de San Juan\, Pl. San Juan\, Burgos\, 09004
CATEGORIES:Niños
ATTACH;FMTTYPE=image/webp:https://burgos.top/wp-content/uploads/2024/12/las-estaciones-dibujo.webp
END:VEVENT
BEGIN:VEVENT
DTSTART;TZID=Europe/Madrid:20250126T120000
DTEND;TZID=Europe/Madrid:20250126T130000
DTSTAMP:20260421T131711
CREATED:20241025T070642Z
LAST-MODIFIED:20241210T125245Z
UID:10000950-1737892800-1737896400@burgos.top
SUMMARY:TALLER: MI SARCÓFAGO FAVORITO
DESCRIPTION:Lugar: Monasterio de San Juan\nDirección: PLAZA SAN JUAN\, S/N\nDuración: 60 minutos\nPrecio: 2\,00€\nEdad Recomendada: De 6 a 10 años \nComprar entradas\nInformación del Taller\n\nFechas y Horarios:\n\nViernes 8 de noviembre de 2024\, 18:30 h\nSábado 30 de noviembre de 2024\, 12:00 h\nDomingo 15 de diciembre de 2024\, 12:00 h\nViernes 27 de diciembre de 2024 a las 18:30 h\nSábado 11 de enero de 2025 a las 18:30 h\nDomingo 26 de enero de 2025 a las 12:00 h\n\n\n\nDescripción\n¡Únete a nosotros en un entretenido taller que combina la animación lectora con manualidades! En “Mi sarcófago favorito”\, los niños y niñas participantes realizarán el montaje y la decoración de una mini maqueta faraónica mientras se familiarizan con la antigua civilización egipcia. \nInformación Adicional\n\nOrganizado por: Asociación +Parafernalia\nEntrada: 2 € (+ comisión de venta por internet)\nProgramación del Ayuntamiento de Burgos\n\n¡No te pierdas esta oportunidad única de aprender y crear en un ambiente divertido y educativo!
URL:https://burgos.top/evento/taller-mi-sarcofago-favorito/2025-01-26/
LOCATION:Monasterio de San Juan\, Pl. San Juan\, Burgos\, 09004
CATEGORIES:Niños,Talleres
ATTACH;FMTTYPE=image/webp:https://burgos.top/wp-content/uploads/2024/10/TALLER-MI-SARCOFAGO-FAVORITO.webp
END:VEVENT
BEGIN:VEVENT
DTSTART;TZID=Europe/Madrid:20250126T123000
DTEND;TZID=Europe/Madrid:20250126T123000
DTSTAMP:20260421T131711
CREATED:20241211T175307Z
LAST-MODIFIED:20241211T175307Z
UID:10000993-1737894600-1737894600@burgos.top
SUMMARY:CABdesenlace en el Centro de Arte Caja de Burgos
DESCRIPTION:Fecha: Domingo\, 26 de enero de 2025\nPrecio: 5\,00 €\nPúblico: Todos los públicos\n\nComprar entradas\nDescripción\nSi crees que ya has visto todo después de visitar las exposiciones del CAB\, ¡te invitamos a cambiar de opinión! CABdesenlace te ofrece una experiencia única que invita a la reflexión\, observando las obras de arte desde nuevas perspectivas. \nUna Experiencia Sorprendente\nEste evento fusiona la performance con las artes escénicas\, explorando conexiones con la danza\, la música y la poesía. No te pierdas esta cita que promete sorprenderte y dejarte una huella imborrable. Ven y descubre cómo el arte puede transformarse y revitalizarse en cada encuentro. ¡Te esperamos en el CAB para vivir esta experiencia inolvidable!
URL:https://burgos.top/evento/cabdesenlace-en-el-centro-de-arte-caja-de-burgos/
LOCATION:CAB Centro de Arte Caja de Burgos\, C. Saldaña\, S/N\,\, Burgos
CATEGORIES:Ocio
ATTACH;FMTTYPE=image/webp:https://burgos.top/wp-content/uploads/2024/12/museo.webp
END:VEVENT
BEGIN:VEVENT
DTSTART;TZID=Europe/Madrid:20250126T130000
DTEND;TZID=Europe/Madrid:20250126T140000
DTSTAMP:20260421T131711
CREATED:20241210T094225Z
LAST-MODIFIED:20241210T094225Z
UID:10000925-1737896400-1737900000@burgos.top
SUMMARY:Visitas Teatralizadas: Asociación +Parafernalia
DESCRIPTION:Sábado\, 21 de diciembre de 2024: 13:00 y 19:00 h\nDomingo\, 22 de diciembre de 2024: 13:00 h\nJueves\, 26 de diciembre de 2024: 13:00 y 19:00 h\nViernes\, 27 de diciembre de 2024: 13:00 y 19:00 h\nSábado\, 28 de diciembre de 2024: 13:00 y 19:00 h\nDomingo\, 29 de diciembre de 2024: 13:00 h\nJueves\, 2 de enero de 2025: 13:00 y 19:00 h\nViernes\, 3 de enero de 2025: 13:00 y 19:00 h\nSábado\, 4 de enero de 2025: 13:00 y 19:00 h\nMartes\, 7 de enero de 2025: 13:00 y 19:00 h\nViernes\, 10 de enero de 2025: 19:00 h\nSábado\, 11 de enero de 2025: 13:00 y 19:00 h\nDomingo\, 12 de enero de 2025: 13:00 h\nViernes\, 17 de enero de 2025: 19:00 h\nSábado\, 18 de enero de 2025: 13:00 y 19:00 h\nDomingo\, 19 de enero de 2025: 13:00 h\nViernes\, 24 de enero de 2025: 19:00 h\nSábado\, 25 de enero de 2025: 13:00 y 19:00 h\nDomingo\, 26 de enero de 2025: 13:00 h\n\nComprar entradas\n\nLugar: Monasterio de San Juan\, Plaza San Juan\, S/N\nEntrada: €2 (+ comisión por venta online)\nPúblico: Familiar\n\nDescripción\nLas visitas teatralizadas a la exposición “El Salón del Faraón” son una oportunidad fascinante para que toda la familia se adentre en la enigmática civilización egipcia. Guiados por expertos\, los participantes descubrirán los secretos y la historia detrás de los amuletos y otros objetos mágicos. \nContexto\nEsta actividad forma parte del XVII Salón del Libro Infantil y Juvenil\, promoviendo la educación y la creatividad en un entorno lúdico. No te pierdas esta experiencia única que combina cultura y entretenimiento en un ambiente familiar.
URL:https://burgos.top/evento/visitas-teatralizadas-asociacion-parafernalia/2025-01-26/
LOCATION:Monasterio de San Juan\, Pl. San Juan\, Burgos\, 09004
CATEGORIES:Niños
ATTACH;FMTTYPE=image/webp:https://burgos.top/wp-content/uploads/2024/12/egipto-faraon.webp
END:VEVENT
BEGIN:VEVENT
DTSTART;TZID=Europe/Madrid:20250126T133000
DTEND;TZID=Europe/Madrid:20250126T133500
DTSTAMP:20260421T131711
CREATED:20241211T173202Z
LAST-MODIFIED:20241211T173212Z
UID:10000989-1737898200-1737898500@burgos.top
SUMMARY:Espectáculo para Bebés: Soneto Rojo - "Las Estaciones"
DESCRIPTION:Fecha: Domingo\, 26 de enero de 2025\nHorarios: 12:00 y 13:00 h\nDuración: 35 minutos\nPrecio: 2\,00 € (+ comisión de venta por internet)\nRecomendado para: Bebés de 6 meses a 3 años (un adulto por niño\, una entrada por persona)\n\nComprar entradas\nDescripción\nDisfruta de un encantador espectáculo de teatro para bebés titulado “Las estaciones”\, protagonizado por un simpático y curioso ratoncito. Esta propuesta está diseñada para estimular los sentidos y el desarrollo cognitivo de los más pequeños a través de una experiencia sensorial que incluye texturas\, sonidos\, colores y olores. \nUn Viaje Sensorial\nEste evento forma parte de la programación del XVII Salón del Libro Infantil y Juvenil de Burgos\, cuyo tema central es “El Salón del Faraón”. Es una oportunidad perfecta para que los más pequeños descubran el mundo a su alrededor de una manera divertida y comprensible. No te pierdas esta experiencia única en un entorno histórico. ¡Te esperamos para disfrutar juntos de “Las estaciones”!
URL:https://burgos.top/evento/espectaculo-para-bebes-soneto-rojo-las-estaciones/2025-01-26/2/
LOCATION:Monasterio de San Juan\, Pl. San Juan\, Burgos\, 09004
CATEGORIES:Niños
ATTACH;FMTTYPE=image/webp:https://burgos.top/wp-content/uploads/2024/12/las-estaciones-dibujo.webp
END:VEVENT
BEGIN:VEVENT
DTSTART;TZID=Europe/Madrid:20250126T170000
DTEND;TZID=Europe/Madrid:20250126T170000
DTSTAMP:20260421T131711
CREATED:20241105T174425Z
LAST-MODIFIED:20250108T181520Z
UID:10000618-1737910800-1737910800@burgos.top
SUMMARY:VAIANA\, EL MUSICAL DEL MOMENTO
DESCRIPTION:Prepárate para vivir una emocionante aventura en BURGOS con el musical familiar: ‘VAIANA – EL MUSICAL DEL MOMENTO’.Con más de 20 personajes y bailarines en el escenario\, este espectáculo cuenta con un magnífico y experimentado elenco de artistas de teatro musical. Disfruta de todas las VOCES EN RIGUROSO DIRECTO\, acompañadas de extraordinarias coreografías\, impresionantes proyecciones y un excepcional vestuario. \nComprar entradas\nSinopsis:\nLa entusiasta Vaiana está destinada a convertirse en la jefa de la isla de Motonui. Cuando los aldeanos no pueden pescar y las cosechas fallan\, descubre que el semidiós Maui es el responsable por haber robado el corazón de la diosa Te Fiti. La única forma de salvar su isla es adentrarse en el océano y encontrar a Maui para que le devuelva el corazón. Acompañada por su inseparable compañero Heihei y guiada por su sabia abuela Tala\, Vaiana emprenderá un viaje lleno de desafíos para salvar a su aldea. \nDetalles del Evento:\n\nLugar: Cultural Caja de Burgos\nDirección: Avda. de Cantabria\, 3\nPrecio: 17\,00 €\nPúblico: Todos los públicos\n\n¡No te pierdas esta oportunidad de disfrutar del musical que emocionará a toda la familia!
URL:https://burgos.top/evento/vaiana-el-musical-del-momento/
LOCATION:Cultural Caja de Burgos.\, Av. Cantabria\, 3\, Burgos\, 09006
CATEGORIES:Musicales
ATTACH;FMTTYPE=image/webp:https://burgos.top/wp-content/uploads/2024/11/VAIANA-EL-MUSICAL-DEL-MOMENTO-en-burgos.webp
END:VEVENT
BEGIN:VEVENT
DTSTART;TZID=Europe/Madrid:20250126T180000
DTEND;TZID=Europe/Madrid:20250126T180000
DTSTAMP:20260421T131711
CREATED:20250122T154230Z
LAST-MODIFIED:20250122T154230Z
UID:10001555-1737914400-1737914400@burgos.top
SUMMARY:Sopa-Risa | Fiestas San Julián 2025
DESCRIPTION:Fecha: Domingo\, 26 de enero\nHora: 18:00 h\nLugar: Salón de Actos del Colegio Nuestra Señora de Lourdes\nEntrada: Invitación (recogida el sábado tras concurso de dibujo)\n\nEl Grupo: Sopa-Risa\nIntegrantes: \n\nLucía\nRubén\nMiriam\nOtro Rubén\n\nExperiencia Musical Única\n\nOrigen: Burgos\nEstilo: Música infantil educativa y divertida\nDestacado: Primer videoclip viral en YouTube\n\nCaracterísticas del Espectáculo\n\nCanciones participativas\nRepertorio familiar\nAprendizaje a través del entretenimiento\n\n¡Un viaje musical que hará reír y aprender a los más pequeños! 🌈🎤
URL:https://burgos.top/evento/sopa-risa-fiestas-san-julian-2025/
LOCATION:Colegio Nuestra Señora de Lourdes\, C. de San Julián\, 10\, Burgos\, 09002
CATEGORIES:Conciertos,Musicales,Niños
ATTACH;FMTTYPE=image/webp:https://burgos.top/wp-content/uploads/2024/11/sopa-risa.webp
END:VEVENT
BEGIN:VEVENT
DTSTART;TZID=Europe/Madrid:20250126T190000
DTEND;TZID=Europe/Madrid:20250126T190000
DTSTAMP:20260421T131711
CREATED:20241021T100911Z
LAST-MODIFIED:20241021T101914Z
UID:10000391-1737918000-1737918000@burgos.top
SUMMARY:PURO RELAJO: Un Brindis por la Vida
DESCRIPTION:Fecha:  26 Enero 2025\nLugar: Fórum Evolución\, Burgos\nPúblico: Todos los públicos \nComprar entradas\nUna Celebración Musical Única\nPor primera vez en Burgos\, Puro Relajo presenta su nuevo espectáculo “Puro Relajo\, un brindis por la vida”. Este evento es una celebración llena de música y emoción\, donde cada nota se convierte en un brindis colectivo para festejar la vida. \nUn Estilo Inconfundible\nCon su energía característica\, Puro Relajo invita a todos los asistentes a compartir un momento festivo y alegre. La música se transforma en una experiencia compartida que resalta la importancia de disfrutar cada instante. \nUn Momento para Recordar\nEste espectáculo promete ser una ocasión perfecta para desconectar de la rutina y sumergirse en un ambiente de alegría y celebración. ¡No te lo pierdas! ¡Únete a Puro Relajo y celebra la vida con nosotros!
URL:https://burgos.top/evento/puro-relajo-un-brindis-por-la-vida/
LOCATION:Fórum Evolución Burgos\, P.º Sierra de Atapuerca\, S/N\, Burgos\, 09002
CATEGORIES:Conciertos
ATTACH;FMTTYPE=image/webp:https://burgos.top/wp-content/uploads/2024/10/PURO-RELAJO-Un-Brindis-por-la-Vida-en-burgos-1.webp
END:VEVENT
BEGIN:VEVENT
DTSTART;TZID=Europe/Madrid:20250126T193000
DTEND;TZID=Europe/Madrid:20250126T193000
DTSTAMP:20260421T131711
CREATED:20250121T114437Z
LAST-MODIFIED:20250121T114437Z
UID:10001544-1737919800-1737919800@burgos.top
SUMMARY:Concierto de la BANDA CIUDAD DE BURGOS: "ECOS DE ESPAÑA"
DESCRIPTION:📅 Domingo\, 26 de enero de 2025\n⏰ 19:30 h\n📍 Teatro Principal (Plaza de Mio Cid\, s/n)\n💰 Entrada: 5€\n👥 Todos los públicos \nComprar entradas\nUn Viaje Musical por España\nBajo la dirección de Héctor Gómez Sorrigueta\, la Banda Ciudad de Burgos presenta un concierto único que explora la cultura española a través de miradas internacionales. \nPrograma Musical\nObras de: \n\nGeorges Bizet\nRimski-Kórsakov\nChick Corea\nJeff Beck\nLou Reed\n\nLa Esencia del Concierto\nUn recorrido musical que celebra: \n\nLa diversidad cultural española\nInterpretaciones de compositores extranjeros\nPaisajes y tradiciones de España
URL:https://burgos.top/evento/concierto-de-la-banda-ciudad-de-burgos-ecos-de-espana/
LOCATION:Teatro Principal\, Pl. Mío Cid\, Burgos\, 09003
CATEGORIES:Conciertos
ATTACH;FMTTYPE=image/webp:https://burgos.top/wp-content/uploads/2024/10/BANDA-CIUDAD-DE-BURGOS-1.webp
END:VEVENT
END:VCALENDAR