BEGIN:VCALENDAR
VERSION:2.0
PRODID:-//BurgosTop - ECPv6.7.0//NONSGML v1.0//EN
CALSCALE:GREGORIAN
METHOD:PUBLISH
X-WR-CALNAME:BurgosTop
X-ORIGINAL-URL:https://burgos.top
X-WR-CALDESC:Eventos para BurgosTop
REFRESH-INTERVAL;VALUE=DURATION:PT1H
X-Robots-Tag:noindex
X-PUBLISHED-TTL:PT1H
BEGIN:VTIMEZONE
TZID:Europe/Madrid
BEGIN:DAYLIGHT
TZOFFSETFROM:+0100
TZOFFSETTO:+0200
TZNAME:CEST
DTSTART:20250330T010000
END:DAYLIGHT
BEGIN:STANDARD
TZOFFSETFROM:+0200
TZOFFSETTO:+0100
TZNAME:CET
DTSTART:20251026T010000
END:STANDARD
END:VTIMEZONE
BEGIN:VEVENT
DTSTART;TZID=Europe/Madrid:20250123T180000
DTEND;TZID=Europe/Madrid:20250124T040000
DTSTAMP:20260419T151336
CREATED:20250109T114538Z
LAST-MODIFIED:20250109T114538Z
UID:10001468-1737655200-1737691200@burgos.top
SUMMARY:Tardeo Burgalé: La Fiesta Universitaria que Conquista Burgos
DESCRIPTION:Fecha: Jueves\, 23 de enero de 2025\nHora: 18:00 a 04:00\nLugar: Sala La Ciudadela de Burgos\nPrecio: Desde 10€\nEdad: +18 años\n\nComprar entradas\nExperiencia Única\nEl Tardeo Burgalé se perfila como el evento más esperado para los universitarios de Burgos\, ofreciendo una experiencia completa de ocio y diversión. \nQué Incluye el Evento\n\nDJs invitados\nZona exterior e interior\nEspacio Chill Out\nPhotocall\nSorpresas especiales\nConsumición incluida\n\nInformación Práctica\n\nOrganizador: Fortaleza del Castillo SL\nBono Cultural Joven disponible\nEntrada desde 10€\n\n¡No te pierdas la mejor tarde-noche universitaria de Burgos!
URL:https://burgos.top/evento/tardeo-burgale-la-fiesta-universitaria-que-conquista-burgos/
LOCATION:Sala la Ciudadela\, Carr. del Castillo\, s/n\, Burgos\, 09003
CATEGORIES:Ocio
ATTACH;FMTTYPE=image/webp:https://burgos.top/wp-content/uploads/2025/01/tardeo-burgale-en-sala-la-ciudadela-burgos.webp
END:VEVENT
BEGIN:VEVENT
DTSTART;TZID=Europe/Madrid:20250123T201500
DTEND;TZID=Europe/Madrid:20250123T201500
DTSTAMP:20260419T151336
CREATED:20241218T165800Z
LAST-MODIFIED:20241218T165800Z
UID:10001026-1737663300-1737663300@burgos.top
SUMMARY:La Voz de los Otros + Banel y Adama
DESCRIPTION:Cultural Caja de Burgos presenta una sesión doble que explora temas de identidad\, exilio y amor en contextos culturales diversos. \nDetalles del Evento\n\nFecha: Jueves\, 23 de enero de 2025\nHora: 20:15\nLugar: Cultural Caja de Burgos (Avda. de Cantabria\, 3)\nPrecio: 2\,50€\nClasificación: Todos los públicos\n\nComprar entradas\nLa Voz de los Otros\n\nDirección: Fatima Kaci\nPaís: Francia\nAño: 2023\nDuración: 30 minutos\n\nEste cortometraje narra la historia de Rim\, una intérprete tunecina que trabaja en procedimientos de asilo en Francia. Su labor diaria de traducir historias de exiliados la lleva a cuestionarse su propia identidad y pasado \nBanel y Adama\n\nDirección: Ramata-Toulaye Sy\nPaís: Senegal\nAño: 2023\nDuración: 87 minutos\n\nAmbientada en una remota aldea del norte de Senegal\, esta película explora el conflicto entre el amor apasionado de una joven pareja y las tradiciones de su comunidad. Con una fotografía impresionante y un enfoque mágico-realista\, el film aborda el choque entre modernidad y tradición en el África rural. \nEsta sesión doble ofrece una oportunidad única de explorar temas universales a través de perspectivas culturales diversas y cinematografía innovadora.
URL:https://burgos.top/evento/la-voz-de-los-otros-banel-y-adama/
LOCATION:Cultural Caja de Burgos.\, Av. Cantabria\, 3\, Burgos\, 09006
CATEGORIES:Cine
ATTACH;FMTTYPE=image/webp:https://burgos.top/wp-content/uploads/2024/12/banel-adama-cine-en-burgos.webp
END:VEVENT
BEGIN:VEVENT
DTSTART;TZID=Europe/Madrid:20250123T210000
DTEND;TZID=Europe/Madrid:20250123T210000
DTSTAMP:20260419T151336
CREATED:20241031T090356Z
LAST-MODIFIED:20241031T120909Z
UID:10000574-1737666000-1737666000@burgos.top
SUMMARY:Perseida | 11º Concurso de Música en Directo "La Rua"
DESCRIPTION:Prepárate para un emocionante concierto con Perseida. La icónica Sala La Rua\, con 27 años de historia y un amor incondicional por la música\, presenta su 11º Concurso de Música en Directo. \nSe presenta a mejor canción original con: La Culpa \nDetalles del evento\n\nCuándo: Todos los jueves a partir del 7 de noviembre\nHora: 21:00 horas\nDónde: Sala La Rua\, Burgos\nEntrada: Gratuita\n\nEste concurso es una plataforma única para grupos y solistas de la escena local burgalesa\, ofreciéndoles la oportunidad de brillar en una sala de medio formato con una rica tradición musical. \nPremios\n\nMás de 3.000€ en premios\nPremio especial de 300€ a la mejor canción\n\nLa Sala La Rua ha sido pionera en apostar por la música en directo como alternativa de ocio en Burgos\, y este concurso es una muestra más de su compromiso con el talento local.No te pierdas la oportunidad de descubrir las nuevas promesas musicales de Burgos y ser parte de una experiencia que podría lanzar la carrera de los próximos grandes nombres de la música española.
URL:https://burgos.top/evento/perseida-11o-concurso-de-musica-en-directo-la-rua/
LOCATION:La Rúa\, Av. Reyes Católicos\, 26\, Burgos\, 09005
CATEGORIES:Conciertos
ATTACH;FMTTYPE=image/webp:https://burgos.top/wp-content/uploads/2024/10/11-CONCURSO-MUSICA-EN-DIRECTO-LA-RUA.webp
END:VEVENT
END:VCALENDAR