BEGIN:VCALENDAR
VERSION:2.0
PRODID:-//BurgosTop - ECPv6.7.0//NONSGML v1.0//EN
CALSCALE:GREGORIAN
METHOD:PUBLISH
X-ORIGINAL-URL:https://burgos.top
X-WR-CALDESC:Eventos para BurgosTop
REFRESH-INTERVAL;VALUE=DURATION:PT1H
X-Robots-Tag:noindex
X-PUBLISHED-TTL:PT1H
BEGIN:VTIMEZONE
TZID:Europe/Madrid
BEGIN:DAYLIGHT
TZOFFSETFROM:+0100
TZOFFSETTO:+0200
TZNAME:CEST
DTSTART:20250330T010000
END:DAYLIGHT
BEGIN:STANDARD
TZOFFSETFROM:+0200
TZOFFSETTO:+0100
TZNAME:CET
DTSTART:20251026T010000
END:STANDARD
END:VTIMEZONE
BEGIN:VEVENT
DTSTART;TZID=Europe/Madrid:20250122T183000
DTEND;TZID=Europe/Madrid:20250122T183000
DTSTAMP:20260419T170238
CREATED:20241031T072633Z
LAST-MODIFIED:20250121T171110Z
UID:10000550-1737570600-1737570600@burgos.top
SUMMARY:Carcass + Brujería + Rotten Sound en Burgos (CANCELADO)
DESCRIPTION:Fecha: Miércoles\, 22 de enero de 2025\nLugar: Andén 56 (C/ San Pedro y San Felices\, 56)\nPuertas: 18:30h\nPrecio Anticipado: 38\,50 € (35\,00 € entrada + 3\,50 € gastos de gestión)\nPrecio Taquilla: 40\,00 € \nComprar entradas\nDescripción del Evento\nPrepárate para una noche épica en Burgos con la llegada de Carcass\, la legendaria banda británica de death metal. Junto a ellos estarán Brujería\, la icónica banda mexicana que ha dejado huella en la escena del metal extremo\, y Rotten Sound\, conocidos por su potente grindcore. Este evento promete ser una de las citas más destacadas del año para los amantes del metal. \nArtistas Destacados\n\nCarcass: Pioneros del grindcore y el death metal melódico desde los años 80\, Carcass ha influido en innumerables bandas con álbumes como “Heartwork” y “Necroticism”. Su último trabajo\, “Torn Arteries”\, continúa su legado con un sonido característico y nuevas dimensiones.\nBrujería: Conocidos por su mezcla explosiva de grindcore y death metal\, Brujería trae letras provocadoras y un estilo inconfundible. Aunque han enfrentado la pérdida de su vocalista Pinche Peach\, su energía en el escenario sigue siendo inigualable.\nRotten Sound: Esta banda finlandesa es famosa por su velocidad vertiginosa y riffs aplastantes. Desde su formación en 1993\, han ganado reconocimiento internacional como verdaderos estandartes del grindcore.\n\nInformación Importante\n\nAcceso a Menores: Los menores de 16 años solo podrán acceder al recinto acompañados de un progenitor o tutor legal.\nCantidad de Entradas: Se permite un máximo de 6 entradas por usuario.\nHorarios Definitivos: Los horarios finales se publicarán aproximadamente una semana antes del evento.
URL:https://burgos.top/evento/carcass-brujeria-rotten-sound-en-burgos/
LOCATION:Sala Andén 56\, C. San Pedro y San Felices\, 56\, Burgos\, 09001
CATEGORIES:Conciertos
ATTACH;FMTTYPE=image/webp:https://burgos.top/wp-content/uploads/2024/10/Carcass-Brujeria-Rotten-Sound-en-Burgos.webp
END:VEVENT
BEGIN:VEVENT
DTSTART;TZID=Europe/Madrid:20250122T201500
DTEND;TZID=Europe/Madrid:20250122T201500
DTSTAMP:20260419T170238
CREATED:20250108T113811Z
LAST-MODIFIED:20250108T114929Z
UID:10001078-1737576900-1737576900@burgos.top
SUMMARY:Concierto de Quinteto Eleutheria: La Trucha de Schubert en el Fórum Evolución Burgos
DESCRIPTION:El Fórum Evolución Burgos acoge un concierto sinfónico excepcional el miércoles 22 de enero de 2025 a las 20:15. El Quinteto Eleutheria de la prestigiosa Escuela Superior de Música Reina Sofía interpretará “La Trucha”\, el célebre quinteto de Franz Schubert. \n\nLugar: Sala de Congresos\, Fórum Evolución Burgos\nDirección: Paseo Sierra de Atapuerca\nPrecio: 15€ (+ comisión por venta online)\nPúblico: Todos los públicos\n\nComprar entradas\nEl Quinteto Eleutheria\nFormado en 2024\, este talentoso conjunto internacional incluye: \n\nDonghyun Kim (Corea del Sur) – violín\nHugo Hidalgo (Cuba) – viola\nMaria Salvatori (Italia) – violonchelo\nNelson Jiménez (Guatemala) – contrabajo\nGerman Skripachev (Rusia) – piano\n\nEste concierto forma parte del ciclo “La Escuela Superior de Música Reina Sofía en la Filarmónica”\, organizado por la Sociedad Filarmónica de Burgos con la colaboración del Ayuntamiento. Una oportunidad única para disfrutar de jóvenes talentos interpretando una obra maestra de la música de cámara.
URL:https://burgos.top/evento/concierto-de-quinteto-eleutheria-la-trucha-de-schubert-en-el-forum-evolucion-burgos/
LOCATION:Fórum Evolución Burgos\, P.º Sierra de Atapuerca\, S/N\, Burgos\, 09002
CATEGORIES:Conciertos
ATTACH;FMTTYPE=image/webp:https://burgos.top/wp-content/uploads/2025/01/Quinteto-Eleutheria-en-burgos.webp
END:VEVENT
END:VCALENDAR