BEGIN:VCALENDAR
VERSION:2.0
PRODID:-//BurgosTop - ECPv6.7.0//NONSGML v1.0//EN
CALSCALE:GREGORIAN
METHOD:PUBLISH
X-ORIGINAL-URL:https://burgos.top
X-WR-CALDESC:Eventos para BurgosTop
REFRESH-INTERVAL;VALUE=DURATION:PT1H
X-Robots-Tag:noindex
X-PUBLISHED-TTL:PT1H
BEGIN:VTIMEZONE
TZID:Europe/Madrid
BEGIN:DAYLIGHT
TZOFFSETFROM:+0100
TZOFFSETTO:+0200
TZNAME:CEST
DTSTART:20250330T010000
END:DAYLIGHT
BEGIN:STANDARD
TZOFFSETFROM:+0200
TZOFFSETTO:+0100
TZNAME:CET
DTSTART:20251026T010000
END:STANDARD
END:VTIMEZONE
BEGIN:VEVENT
DTSTART;TZID=Europe/Madrid:20250117T170000
DTEND;TZID=Europe/Madrid:20250117T210000
DTSTAMP:20260421T131745
CREATED:20241122T080853Z
LAST-MODIFIED:20241122T081806Z
UID:10000728-1737133200-1737147600@burgos.top
SUMMARY:XIX Feria de Antigüedades\, Coleccionismo y Vintage
DESCRIPTION:Fechas: 17 al 19 de enero de 2025\nHorario: \n\nViernes: 17:00 a 21:00 h\nSábado y Domingo: 11:00 a 14:30 h / 16:30 a 21:00 h\n\nEntrada: 4 euros \nLa XIX Feria de Antigüedades\, Coleccionismo y Vintage transformará el hall del Fórum Evolución en un auténtico paraíso para los amantes de las piezas únicas y con historia. Durante estos días\, los visitantes podrán explorar una amplia variedad de artículos\, desde joyas y muebles hasta discos\, monedas y sellos. Este evento es una oportunidad perfecta para descubrir tesoros escondidos y disfrutar de la cultura del coleccionismo. Además\, el domingo se realizará un emocionante sorteo de una pieza entre todos los asistentes\, lo que añade un toque especial a la experiencia. No te pierdas la oportunidad de sumergirte en el fascinante mundo de las antigüedades y el vintage en esta feria imperdible. ¡Te esperamos!
URL:https://burgos.top/evento/xix-feria-de-antiguedades-coleccionismo-y-vintage/2025-01-17/
LOCATION:Fórum Evolución Burgos\, P.º Sierra de Atapuerca\, S/N\, Burgos\, 09002
CATEGORIES:Ocio
ATTACH;FMTTYPE=image/webp:https://burgos.top/wp-content/uploads/2024/11/gramofono-antiguo.webp
END:VEVENT
BEGIN:VEVENT
DTSTART;TZID=Europe/Madrid:20250117T183000
DTEND;TZID=Europe/Madrid:20250117T193000
DTSTAMP:20260421T131745
CREATED:20241025T071431Z
LAST-MODIFIED:20241210T171625Z
UID:10000969-1737138600-1737142200@burgos.top
SUMMARY:TALLER: MISTERIOSOS JEROGLÍFICOS
DESCRIPTION:Lugar: Monasterio de San Juan\nDirección: PLAZA SAN JUAN\, S/N\nDuración: 60 minutos\nPrecio: 2\,00€\nEdad Recomendada: De 6 a 10 años \nComprar entradas\nInformación del Taller\nFechas y Horarios: \n\n\n\nSábado 9 de noviembre de 2024\, 18:30 h\nViernes 22 de noviembre de 2024\, 18:30 h\nSábado 14 de diciembre de 2024\, 12:00 h\nViernes 20 de diciembre de 2024\, 18:30 h\nViernes\, 17 de enero de 2025 a las 18:30 h\nSábado\, 25 de enero de 2025 a las 12:00 h\n\n\n\nDescripción\n¡Descubre el fascinante mundo de los jeroglíficos egipcios en nuestro taller “Misteriosos Jeroglíficos”! Esta actividad combina manualidades con explicaciones amenas sobre la escritura egipcia\, fomentando al mismo tiempo el hábito lector entre los participantes. Organizado por la Asociación +Parafernalia\, este taller se enmarca en el núcleo temático del XVII Salón del Libro Infantil y Juvenil\, titulado “El Salón del Faraón”\, e incluye diversas actividades que estimulan la creatividad y la animación lectora. \nInformación Adicional\n\nEntrada: Incluye una entrada al taller por solo 2 € (+ comisión por venta online)\nProgramación del Ayuntamiento de Burgos\n\n¡No te pierdas esta oportunidad única para aprender y crear en un ambiente divertido y educativo!
URL:https://burgos.top/evento/taller-misteriosos-jeroglificos/2025-01-17/
LOCATION:Monasterio de San Juan\, Pl. San Juan\, Burgos\, 09004
CATEGORIES:Niños,Talleres
ATTACH;FMTTYPE=image/webp:https://burgos.top/wp-content/uploads/2024/10/talleres-sobre-egipto-para-ninos-en-burgos.webp
END:VEVENT
BEGIN:VEVENT
DTSTART;TZID=Europe/Madrid:20250117T190000
DTEND;TZID=Europe/Madrid:20250117T194500
DTSTAMP:20260421T131745
CREATED:20241210T172059Z
LAST-MODIFIED:20241210T172059Z
UID:10000971-1737140400-1737143100@burgos.top
SUMMARY:Margarito & Cía: Inventos Faraónicos
DESCRIPTION:Fecha: Viernes\, 17 de enero de 2025\nHora: 19:00 h\nPrecio: 2\,00 € (+ comisión de venta por internet)\nDuración: 45 minutos\nEdad Recomendada: De 6 a 12 años (menores acompañados)\n\nComprar entradas\nDescripción\nSumérgete en el fascinante mundo de la cultura egipcia con “Inventos Faraónicos”\, un cautivador espectáculo de narraciones presentado por Margarito & Cía. A través de una selección de relatos\, los asistentes explorarán los grandes descubrimientos que esta antigua civilización ha legado a la humanidad. Este evento es una oportunidad perfecta para que los más jóvenes se acerquen a la historia y desarrollen su amor por la lectura. \nContexto\nEste espectáculo forma parte de la programación del XVII Salón del Libro Infantil y Juvenil de Burgos\, cuyo tema central es “El Salón del Faraón”. La propuesta está organizada por el Ayuntamiento de Burgos\, garantizando una experiencia cultural enriquecedora para todos los públicos. ¡No te lo pierdas!
URL:https://burgos.top/evento/margarito-cia-inventos-faraonicos/
LOCATION:Monasterio de San Juan\, Pl. San Juan\, Burgos\, 09004
CATEGORIES:Niños
ATTACH;FMTTYPE=image/webp:https://burgos.top/wp-content/uploads/2024/12/margarito-y-cia.webp
END:VEVENT
BEGIN:VEVENT
DTSTART;TZID=Europe/Madrid:20250117T190000
DTEND;TZID=Europe/Madrid:20250117T200000
DTSTAMP:20260421T131745
CREATED:20241210T094225Z
LAST-MODIFIED:20241210T094225Z
UID:10000918-1737140400-1737144000@burgos.top
SUMMARY:Visitas Teatralizadas: Asociación +Parafernalia
DESCRIPTION:Sábado\, 21 de diciembre de 2024: 13:00 y 19:00 h\nDomingo\, 22 de diciembre de 2024: 13:00 h\nJueves\, 26 de diciembre de 2024: 13:00 y 19:00 h\nViernes\, 27 de diciembre de 2024: 13:00 y 19:00 h\nSábado\, 28 de diciembre de 2024: 13:00 y 19:00 h\nDomingo\, 29 de diciembre de 2024: 13:00 h\nJueves\, 2 de enero de 2025: 13:00 y 19:00 h\nViernes\, 3 de enero de 2025: 13:00 y 19:00 h\nSábado\, 4 de enero de 2025: 13:00 y 19:00 h\nMartes\, 7 de enero de 2025: 13:00 y 19:00 h\nViernes\, 10 de enero de 2025: 19:00 h\nSábado\, 11 de enero de 2025: 13:00 y 19:00 h\nDomingo\, 12 de enero de 2025: 13:00 h\nViernes\, 17 de enero de 2025: 19:00 h\nSábado\, 18 de enero de 2025: 13:00 y 19:00 h\nDomingo\, 19 de enero de 2025: 13:00 h\nViernes\, 24 de enero de 2025: 19:00 h\nSábado\, 25 de enero de 2025: 13:00 y 19:00 h\nDomingo\, 26 de enero de 2025: 13:00 h\n\nComprar entradas\n\nLugar: Monasterio de San Juan\, Plaza San Juan\, S/N\nEntrada: €2 (+ comisión por venta online)\nPúblico: Familiar\n\nDescripción\nLas visitas teatralizadas a la exposición “El Salón del Faraón” son una oportunidad fascinante para que toda la familia se adentre en la enigmática civilización egipcia. Guiados por expertos\, los participantes descubrirán los secretos y la historia detrás de los amuletos y otros objetos mágicos. \nContexto\nEsta actividad forma parte del XVII Salón del Libro Infantil y Juvenil\, promoviendo la educación y la creatividad en un entorno lúdico. No te pierdas esta experiencia única que combina cultura y entretenimiento en un ambiente familiar.
URL:https://burgos.top/evento/visitas-teatralizadas-asociacion-parafernalia/2025-01-17/
LOCATION:Monasterio de San Juan\, Pl. San Juan\, Burgos\, 09004
CATEGORIES:Niños
ATTACH;FMTTYPE=image/webp:https://burgos.top/wp-content/uploads/2024/12/egipto-faraon.webp
END:VEVENT
BEGIN:VEVENT
DTSTART;TZID=Europe/Madrid:20250117T193000
DTEND;TZID=Europe/Madrid:20250117T203000
DTSTAMP:20260421T131745
CREATED:20241217T171446Z
LAST-MODIFIED:20241217T171446Z
UID:10001008-1737142200-1737145800@burgos.top
SUMMARY:ARAWAKE TEATRO: AQUÍ DUERMEN CIERVOS | Festival Escena Abierta 2025
DESCRIPTION:Fechas: Del 16 al 17 de enero de 2025\nPrecio: 10\,00 €\nPúblico: Joven y adulto\n\nComprar entradas\nObra Destacada\nArawake Teatro: “Aquí duermen ciervos” \n\nDías y Horarios:\n\nJueves\, 16 de enero: 19:30 h\nViernes\, 17 de enero: 19:30 h\n\n\n\nEl XXVI Festival Escena Abierta en Burgos presenta “Aquí duermen ciervos”\, una obra que aborda la crisis política y humanitaria de la inmigración en Europa. Arawake Teatro explora diferentes perspectivas y lenguajes para ofrecer una reflexión poética sobre el uso de redes sociales\, la educación y el derecho a una vida digna. La puesta en escena\, con un enfoque onírico\, busca sumergir al espectador en un viaje a través de diversos espacios narrativos. Este evento es parte de la programación del Ayuntamiento de Burgos\, la Universidad de Burgos y la Fundación Caja de Burgos.
URL:https://burgos.top/evento/arawake-teatro-aqui-duermen-ciervos-festival-escena-abierta-2025/2025-01-17/
LOCATION:Cultural Cordón\, Plaza de la Libertad s/n\, Burgos\, 09004
CATEGORIES:Teatro
ATTACH;FMTTYPE=image/webp:https://burgos.top/wp-content/uploads/2024/12/ARAWAKE-TEATRO-AQUI-DUERMEN-CIERVOS.webp
END:VEVENT
BEGIN:VEVENT
DTSTART;TZID=Europe/Madrid:20250117T193000
DTEND;TZID=Europe/Madrid:20250117T203000
DTSTAMP:20260421T131745
CREATED:20250110T093720Z
LAST-MODIFIED:20250110T130254Z
UID:10001472-1737142200-1737145800@burgos.top
SUMMARY:The Magic Gospel: Un Viaje Musical por el Gospel en Burgos
DESCRIPTION:Fecha: Viernes\, 17 de enero de 2025\nHora: 19:30 – 20:30\nLugar: Centro Cívico “Río Vena”\nDirección: Calle Juan de Padilla\, 09006 Burgos\n\nComprar entradas\nLa Banda\nThe Magic Gospel es una agrupación musical burgalesa caracterizada por: \n\nDirectora: Estíbaliz Urquiza\nMúsicos principales:\n\nRubén Ortíz (saxofón)\nMaría de las Viñas (batería)\nIker Amuriza (piano)\nCarlos Collarte (trompeta)\n\n\n\nCaracterísticas Únicas\n\nPredominio de voces femeninas\nDirección musical de Aitor Rodríguez\nEnsayos en el Colegio Liceo Castilla\n\nLa Experiencia\nUn concierto que promete: \n\nEnergía contagiosa\nRepertorio consolidado\nAlgunas canciones nuevas\nPosible interpretación de “Oh Happy Day
URL:https://burgos.top/evento/the-magic-gospel-un-viaje-musical-por-el-gospel-en-burgos/
LOCATION:Centro Cívico “Río Vena”\, C. Juan de Padilla\, Burgos\, 09006
CATEGORIES:Conciertos
ATTACH;FMTTYPE=image/webp:https://burgos.top/wp-content/uploads/2025/01/the-magic-gospel-en-burgos-1.webp
END:VEVENT
BEGIN:VEVENT
DTSTART;TZID=Europe/Madrid:20250117T200000
DTEND;TZID=Europe/Madrid:20250117T200000
DTSTAMP:20260421T131745
CREATED:20250113T114949Z
LAST-MODIFIED:20250113T114949Z
UID:10001482-1737144000-1737144000@burgos.top
SUMMARY:Concierto de Silvia Sanjuan en Kava Bar
DESCRIPTION:🎵 Fecha: Viernes\, 17 de enero de 2025\n🕗 Hora: 20:00\n📍 Lugar: Kava Bar Burgos (Inés de Suárez 2\, Burgos)\n💰 Entrada: Gratuita \nSobre Silvia Sanjuan\nOriginaria de La Granja de San Ildefonso (Segovia)\, Silvia Sanjuan es una talentosa cantante y guitarrista que fusiona pop\, folk y música de cantautor. Su trayectoria musical comenzó a los 12 años en la Escuela Municipal de Música\, y desde entonces ha cultivado su pasión por la música. \nFormación y Trayectoria\n\nGrado en Musicología (Universidad Complutense de Madrid\, 2017)\nMáster en Economía de la Cultura y Gestión Cultural (Universidad de Valladolid\, 2018)\nFormación vocal con Henar Álvarez y Alicia Araque\nCursos de interpretación e improvisación en la Escuela Expresando (Madrid)\n\nEl Concierto\nSilvia presentará canciones de su primer disco “Desde sus ojos” (2023)\, además de versiones de artistas que la han influenciado como Simon & Garfunkel\, Silvio Rodríguez y Amaral. Su música\, descrita como “terapéutica” por el público\, promete una noche llena de emociones\, risas y reflexiones. ¡No te pierdas esta oportunidad de disfrutar de una noche musical única en Kava Bar Burgos!
URL:https://burgos.top/evento/concierto-de-silvia-sanjuan-en-kava-bar/
LOCATION:Kava Bar\, C/ Inés de Suárez\, 2\, Burgos\, 09002
CATEGORIES:Conciertos
ATTACH;FMTTYPE=image/webp:https://burgos.top/wp-content/uploads/2025/01/silvia-san-juan-en-burgos.webp
END:VEVENT
BEGIN:VEVENT
DTSTART;TZID=Europe/Madrid:20250117T203000
DTEND;TZID=Europe/Madrid:20250117T203000
DTSTAMP:20260421T131745
CREATED:20250112T114301Z
LAST-MODIFIED:20250112T114301Z
UID:10001474-1737145800-1737145800@burgos.top
SUMMARY:Concierto de Edu Zardoya en el Sótano Cultural
DESCRIPTION:Fecha: Viernes\, 17 de enero\nHora: 20:30\nLugar: Sótano Café Cultural\nEntrada: Taquilla inversa\n\nPerfil Musical\nEdu Zardoya es un cantautor navarro que fusiona: \n\nPop\nPunk-rock\nCanción de autor tradicional\n\nTrayectoria Destacada\n\nMás de 100 conciertos en solitario\nUn millón de streams en plataformas digitales\nDos EPs y dos LPs publicados\n\nEstilo Musical\nConcierto acústico con: \n\nGuitarra\nVoz\nLetras profundas y reflexivas\n\nActuación especial: Canciones originales y versiones interpretadas en formato íntimo.
URL:https://burgos.top/evento/concierto-de-edu-zardoya-en-el-sotano-cultural/
LOCATION:El Sótano Café Cultural\, C. Farmacéutico Obdulio Fernández\, 38\, Burgos\, 09006
CATEGORIES:Conciertos
ATTACH;FMTTYPE=image/webp:https://burgos.top/wp-content/uploads/2025/01/edu-zardoya-en-burgos.webp
END:VEVENT
BEGIN:VEVENT
DTSTART;TZID=Europe/Madrid:20250117T203000
DTEND;TZID=Europe/Madrid:20250117T220000
DTSTAMP:20260421T131745
CREATED:20241007T105701Z
LAST-MODIFIED:20250109T113217Z
UID:10000186-1737145800-1737151200@burgos.top
SUMMARY:Santi Rodríguez presenta "Espíritu" en el Cultural Caja de Burgos
DESCRIPTION:Viernes 17 de enero a las 20:30 horas\, el humorista Santi Rodríguez llega al escenario del Cultural Caja de Burgos con su espectáculo “Espíritu”. Durante 90 minutos\, el público podrá disfrutar de un show recomendado para mayores de 12 años. \nUn espectáculo único e irrepetible\n“Espíritu” es un show único e irrepetible\, donde Santi Rodríguez compartirá su particular visión del mundo y sus experiencias personales. Con su característico estilo\, el humorista promete hacer reír al público con ocurrencias y reflexiones que no dejarán indiferente a nadie. \nEntradas a un precio asequible\nLas entradas para este espectáculo tienen un precio de 16€ y están a la venta en la web del Cultural Caja de Burgos. Una oportunidad para disfrutar de una velada llena de humor a un precio asequible. \nRecomendado para mayores de 12 años\n“Espíritu” está recomendado para mayores de 12 años. Durante 90 minutos\, Santi Rodríguez hará gala de su talento y su capacidad para conectar con el público de todas las edades.No te pierdas la oportunidad de ver a Santi Rodríguez en acción en el Cultural Caja de Burgos. ¡Reserva ya tus entradas para “Espíritu”! \nComprar entradas
URL:https://burgos.top/evento/santi-rodriguez-presenta-espiritu-en-el-cultural-caja-de-burgos/
LOCATION:Cultural Caja de Burgos.\, Av. Cantabria\, 3\, Burgos\, 09006
CATEGORIES:Humor
ATTACH;FMTTYPE=image/webp:https://burgos.top/wp-content/uploads/2024/07/Santi-Rodriguez-presenta-Espiritu-en-burgos-1.webp
END:VEVENT
BEGIN:VEVENT
DTSTART;TZID=Europe/Madrid:20250117T211500
DTEND;TZID=Europe/Madrid:20250117T211500
DTSTAMP:20260421T131745
CREATED:20241127T120718Z
LAST-MODIFIED:20241127T120859Z
UID:10000742-1737148500-1737148500@burgos.top
SUMMARY:Sons Of Aguirre & Scila
DESCRIPTION:El  17 de enero de 2025\, la Sala Andén 56 de Burgos se prepara para recibir a Sons Of Aguirre & Scila\, una propuesta musical que promete sacudir los cimientos del rock local con su energía y pasión. \nComprar entradas\nLa Banda\nSons Of Aguirre & Scila representa la esencia del rock alternativo de Castilla y León\, fusionando sonidos de rap metal\, hip hop y ska. Su música refleja la autenticidad de una escena musical burgalesa vibrante y en constante evolución. \nDetalles del Concierto\n\nFecha: 17 de enero de 2025\nHora: 21:15\nGénero: Rap Metal\, Hip Hop\, Ska
URL:https://burgos.top/evento/sons-of-aguirre-scila/
LOCATION:Sala Andén 56\, C. San Pedro y San Felices\, 56\, Burgos\, 09001
CATEGORIES:Conciertos
ATTACH;FMTTYPE=image/webp:https://burgos.top/wp-content/uploads/2024/11/Sons-Of-Aguirre-Scila.webp
END:VEVENT
BEGIN:VEVENT
DTSTART;TZID=Europe/Madrid:20250117T213000
DTEND;TZID=Europe/Madrid:20250117T230000
DTSTAMP:20260421T131745
CREATED:20241217T172335Z
LAST-MODIFIED:20241218T093938Z
UID:10001010-1737149400-1737154800@burgos.top
SUMMARY:ELISA FORCANO: ZORRA DORADA | Festival Escena Abierta 2025
DESCRIPTION:Fechas: Del 17 al 18 de enero de 2025\nPrecio: 10\,00 €\nEdad: Prohibido para menores de 18 años\n\nElisa Forcano: “Zorra dorada” \n\nDías y Horarios:\n\nViernes\, 17 de enero: 21:30 h\nSábado\, 18 de enero: 21:30 h\n\n\nDuración: Aproximadamente 90 minutos\nAforo: Limitado\n\nComprar entradas\nSobre la obra Zorra dorada\n“Zorra dorada” es una obra multidisciplinar creada\, dirigida e interpretada por Elisa Forcano. Esta pieza se presenta como un ritual para exorcizar el abuso\, inspirado en la trágica historia de Noa Pothoven\, una joven víctima de abusos sexuales que optó por la inanición voluntaria a los 17 años. La obra utiliza un enfoque poético para abordar temas de abuso y rabia\, convirtiendo el dolor en un motor de cambio y reflexión. \nLa creación escénica combina diversos lenguajes artísticos\, incluyendo diseño de sonido\, iluminación y música original\, con la colaboración de profesionales como Leonora Lax en la dirección artística y Pilar Valdelvira en el diseño de iluminación. “Zorra dorada” invita al público a repensar la vida y dignificar la muerte\, utilizando frases impactantes que subrayan la gravedad del abuso sexual\, como “Si hubiese una montaña de piedras por cada mujer violada se extinguirían los campos”. La obra se erige como un poderoso grito colectivo en contra de la violencia hacia las mujeres.
URL:https://burgos.top/evento/elisa-forcano-zorra-dorada-festival-escena-abierta-2025/2025-01-17/
LOCATION:Fórum Evolución Burgos\, P.º Sierra de Atapuerca\, S/N\, Burgos\, 09002
CATEGORIES:Teatro
ATTACH;FMTTYPE=image/webp:https://burgos.top/wp-content/uploads/2024/12/ELISA-FORCANO-ZORRA-DORADA-en-burgos.webp
END:VEVENT
BEGIN:VEVENT
DTSTART;TZID=Europe/Madrid:20250117T224500
DTEND;TZID=Europe/Madrid:20250117T224500
DTSTAMP:20260421T131745
CREATED:20250113T115728Z
LAST-MODIFIED:20250113T115850Z
UID:10001483-1737153900-1737153900@burgos.top
SUMMARY:Dito Castro: Un Espectáculo de Burlesque en Kava Bar Burgos
DESCRIPTION:Dito Castro\, actor\, bailarín y estrella del burlesque\, regresa al Kava Bar con un espectáculo que promete ser elegante\, seductor y reivindicativo. \nDetalles del Evento\n\n📅 Fecha: 17 enero 2025\n📍 Lugar: Kava Bar Burgos\n🎟 Entradas:\n\nAnticipada: 12€\nTaquilla: 15€\n\n\n🍸 Incluye una copa (no premium)\n🔞 Evento +18\n\nComprar entradas\nSobre el Espectáculo\nUn show que fusiona: \n\nBaile\nInterpretación\nErotismo\nLencería\nReivindicación\n\nConocido por ser miembro del Pit Crew de Drag Race España\, Dito Castro lleva el arte del burlesque a otro nivel.
URL:https://burgos.top/evento/dito-castro-un-espectaculo-de-burlesque-en-kava-bar-burgos/
LOCATION:Kava Bar\, C/ Inés de Suárez\, 2\, Burgos\, 09002
CATEGORIES:Ocio
ATTACH;FMTTYPE=image/webp:https://burgos.top/wp-content/uploads/2025/01/Dito-Castro-burlesque-en-burgos.webp
END:VEVENT
END:VCALENDAR