BEGIN:VCALENDAR
VERSION:2.0
PRODID:-//BurgosTop - ECPv6.7.0//NONSGML v1.0//EN
CALSCALE:GREGORIAN
METHOD:PUBLISH
X-ORIGINAL-URL:https://burgos.top
X-WR-CALDESC:Eventos para BurgosTop
REFRESH-INTERVAL;VALUE=DURATION:PT1H
X-Robots-Tag:noindex
X-PUBLISHED-TTL:PT1H
BEGIN:VTIMEZONE
TZID:Europe/Madrid
BEGIN:DAYLIGHT
TZOFFSETFROM:+0100
TZOFFSETTO:+0200
TZNAME:CEST
DTSTART:20250330T010000
END:DAYLIGHT
BEGIN:STANDARD
TZOFFSETFROM:+0200
TZOFFSETTO:+0100
TZNAME:CET
DTSTART:20251026T010000
END:STANDARD
END:VTIMEZONE
BEGIN:VEVENT
DTSTART;TZID=Europe/Madrid:20250116T193000
DTEND;TZID=Europe/Madrid:20250116T193000
DTSTAMP:20260419T144959
CREATED:20250113T172327Z
LAST-MODIFIED:20250113T172327Z
UID:10001490-1737055800-1737055800@burgos.top
SUMMARY:Concierto de Flecha & Doctor J
DESCRIPTION:Fecha: 16 de enero de 2025\nHora: 19:30\nLugar: Salón de Actos Plaza Nueva\, Gamonal (Calle Candelas s/n)\nPrecio: Entrada libre hasta completar aforo \nEl jueves 16 de enero\, no te pierdas el emocionante concierto de Flecha & Doctor J en el salón de actos Plaza Nueva de Gamonal\, a las 19:30 horas. La entrada es gratuita hasta completar el aforo. \nSobre los Artistas\nManuel Flecha es un artista camaleónico que abarca una amplia gama de estilos musicales\, desde el folk y rock hasta el soul y la psicodelia. Con una trayectoria rica en conciertos y colaboraciones\, Flecha presenta su primer disco en solitario titulado “You are not alone”\, que incluye temas originales inspirados en la música americana y el folk inglés de los años 70.Joaquín García\, bajista y contrabajista burgalés\, aporta su carácter ecléctico al dúo. Con una sólida formación que abarca desde la música clásica hasta el jazz y el rockabilly\, Joaquín crea una base rítmica y armónica que complementa perfectamente la guitarra y la voz de Flecha\, resultando en un sonido compacto y distintivo.
URL:https://burgos.top/evento/concierto-de-flecha-doctor-j/
LOCATION:Plaza Nueva de Gamonal\, Plaza Nueva de Gamonal\, Burgos\, Burgos
CATEGORIES:Conciertos
ATTACH;FMTTYPE=image/webp:https://burgos.top/wp-content/uploads/2025/01/Flecha-Doctor-J-en-burgos.webp
END:VEVENT
BEGIN:VEVENT
DTSTART;TZID=Europe/Madrid:20250116T193000
DTEND;TZID=Europe/Madrid:20250116T203000
DTSTAMP:20260419T144959
CREATED:20241217T171446Z
LAST-MODIFIED:20241217T171446Z
UID:10001007-1737055800-1737059400@burgos.top
SUMMARY:ARAWAKE TEATRO: AQUÍ DUERMEN CIERVOS | Festival Escena Abierta 2025
DESCRIPTION:Fechas: Del 16 al 17 de enero de 2025\nPrecio: 10\,00 €\nPúblico: Joven y adulto\n\nComprar entradas\nObra Destacada\nArawake Teatro: “Aquí duermen ciervos” \n\nDías y Horarios:\n\nJueves\, 16 de enero: 19:30 h\nViernes\, 17 de enero: 19:30 h\n\n\n\nEl XXVI Festival Escena Abierta en Burgos presenta “Aquí duermen ciervos”\, una obra que aborda la crisis política y humanitaria de la inmigración en Europa. Arawake Teatro explora diferentes perspectivas y lenguajes para ofrecer una reflexión poética sobre el uso de redes sociales\, la educación y el derecho a una vida digna. La puesta en escena\, con un enfoque onírico\, busca sumergir al espectador en un viaje a través de diversos espacios narrativos. Este evento es parte de la programación del Ayuntamiento de Burgos\, la Universidad de Burgos y la Fundación Caja de Burgos.
URL:https://burgos.top/evento/arawake-teatro-aqui-duermen-ciervos-festival-escena-abierta-2025/2025-01-16/
LOCATION:Cultural Cordón\, Plaza de la Libertad s/n\, Burgos\, 09004
CATEGORIES:Teatro
ATTACH;FMTTYPE=image/webp:https://burgos.top/wp-content/uploads/2024/12/ARAWAKE-TEATRO-AQUI-DUERMEN-CIERVOS.webp
END:VEVENT
BEGIN:VEVENT
DTSTART;TZID=Europe/Madrid:20250116T201500
DTEND;TZID=Europe/Madrid:20250116T201500
DTSTAMP:20260419T144959
CREATED:20241218T170434Z
LAST-MODIFIED:20241218T170434Z
UID:10001027-1737058500-1737058500@burgos.top
SUMMARY:Bazigaga + Disco Afrika: Una Doble Propuesta Cinematográfica
DESCRIPTION:Cultural Caja de Burgos presenta una sesión doble que explora historias de resistencia y lucha en contextos africanos. \nDetalles del Evento\n\nFecha: Jueves\, 16 de enero de 2025\nHora: 20:15\nLugar: Cultural Caja de Burgos (Avda. de Cantabria\, 3)\nPrecio: 2\,50€\nClasificación: Todos los públicos\n\nComprar entradas\nBazigaga\n\nDirección: Jo Ingabire Moys\nPaís: Ruanda\, Bélgica\, Francia\nAño: 2022\nDuración: 25 minutos\n\nSinopsis: Ambientada en 1994\, durante el genocidio ruandés\, “Bazigaga” cuenta la historia de Zula Karuhimbe\, quien arriesga su vida para salvar a un padre y su hija perseguidos por la milicia. Este cortometraje\, basado en hechos reales\, es un poderoso testimonio de resistencia y fortaleza en tiempos de guerra. Jo Ingabire Moys\, la directora y sobreviviente del genocidio\, ofrece una mirada conmovedora que fue reconocida con el premio al mejor cortometraje en el FCAT 2023. \nDisco Afrika: Una Historia Malgache\n\nDirección: Luck Razanajaona\nPaís: Madagascar\nAño: 2023\nDuración: 81 minutos\n\nSinopsis: La historia sigue a Kwame\, un joven de 20 años que lucha por sobrevivir en las minas clandestinas de zafiro. Un evento inesperado lo lleva de regreso a su pueblo natal\, donde se enfrenta a la corrupción y debe decidir entre el dinero fácil y la lealtad a su comunidad. Este largometraje comprometido establece conexiones entre el pasado y el presente\, honrando el espíritu de resistencia de Madagascar y denunciando la mala gestión que beneficia a unos pocos. “Disco Afrika” ha sido galardonada con el V Premio ACERCA de la Cooperación Española y el Premio a Mejor Actor en el FCAT 2024.Esta sesión doble ofrece una oportunidad única para reflexionar sobre las luchas humanas en contextos históricos y contemporáneos.
URL:https://burgos.top/evento/bazigaga-disco-afrika-una-doble-propuesta-cinematografica/
LOCATION:Cultural Caja de Burgos.\, Av. Cantabria\, 3\, Burgos\, 09006
CATEGORIES:Cine
ATTACH;FMTTYPE=image/webp:https://burgos.top/wp-content/uploads/2024/12/Bazigaga-cine-en-burgos.webp
END:VEVENT
BEGIN:VEVENT
DTSTART;TZID=Europe/Madrid:20250116T210000
DTEND;TZID=Europe/Madrid:20250116T210000
DTSTAMP:20260419T144959
CREATED:20241031T085903Z
LAST-MODIFIED:20241031T120842Z
UID:10000573-1737061200-1737061200@burgos.top
SUMMARY:Lylo | 11º Concurso de Música en Directo "La Rua"
DESCRIPTION:Prepárate para un emocionante concierto con Lylo. La icónica Sala La Rua\, con 27 años de historia y un amor incondicional por la música\, presenta su 11º Concurso de Música en Directo. \nSe presenta a mejor canción original con: Libertad \nDetalles del evento\n\nCuándo: Todos los jueves a partir del 7 de noviembre\nHora: 21:00 horas\nDónde: Sala La Rua\, Burgos\nEntrada: Gratuita\n\nEste concurso es una plataforma única para grupos y solistas de la escena local burgalesa\, ofreciéndoles la oportunidad de brillar en una sala de medio formato con una rica tradición musical. \nPremios\n\nMás de 3.000€ en premios\nPremio especial de 300€ a la mejor canción\n\nLa Sala La Rua ha sido pionera en apostar por la música en directo como alternativa de ocio en Burgos\, y este concurso es una muestra más de su compromiso con el talento local.No te pierdas la oportunidad de descubrir las nuevas promesas musicales de Burgos y ser parte de una experiencia que podría lanzar la carrera de los próximos grandes nombres de la música española.
URL:https://burgos.top/evento/11o-concurso-de-musica-en-directo-la-rua-lylo/
LOCATION:La Rúa\, Av. Reyes Católicos\, 26\, Burgos\, 09005
CATEGORIES:Conciertos
ATTACH;FMTTYPE=image/webp:https://burgos.top/wp-content/uploads/2024/10/11-CONCURSO-MUSICA-EN-DIRECTO-LA-RUA.webp
END:VEVENT
END:VCALENDAR